BEGIN:VCALENDAR
VERSION:2.0
PRODID:-//211 - ECPv6.15.20//NONSGML v1.0//EN
CALSCALE:GREGORIAN
METHOD:PUBLISH
X-ORIGINAL-URL:https://211sandiego.org
X-WR-CALDESC:Events for 211
REFRESH-INTERVAL;VALUE=DURATION:PT1H
X-Robots-Tag:noindex
X-PUBLISHED-TTL:PT1H
BEGIN:VTIMEZONE
TZID:America/Los_Angeles
BEGIN:DAYLIGHT
TZOFFSETFROM:-0800
TZOFFSETTO:-0700
TZNAME:PDT
DTSTART:20240310T100000
END:DAYLIGHT
BEGIN:STANDARD
TZOFFSETFROM:-0700
TZOFFSETTO:-0800
TZNAME:PST
DTSTART:20241103T090000
END:STANDARD
BEGIN:DAYLIGHT
TZOFFSETFROM:-0800
TZOFFSETTO:-0700
TZNAME:PDT
DTSTART:20250309T100000
END:DAYLIGHT
BEGIN:STANDARD
TZOFFSETFROM:-0700
TZOFFSETTO:-0800
TZNAME:PST
DTSTART:20251102T090000
END:STANDARD
BEGIN:DAYLIGHT
TZOFFSETFROM:-0800
TZOFFSETTO:-0700
TZNAME:PDT
DTSTART:20260308T100000
END:DAYLIGHT
BEGIN:STANDARD
TZOFFSETFROM:-0700
TZOFFSETTO:-0800
TZNAME:PST
DTSTART:20261101T090000
END:STANDARD
END:VTIMEZONE
BEGIN:VEVENT
DTSTART;VALUE=DATE:20250101
DTEND;VALUE=DATE:20250402
DTSTAMP:20260425T065546
CREATED:20250314T210140Z
LAST-MODIFIED:20250314T210140Z
UID:10001298-1735689600-1743551999@211sandiego.org
SUMMARY:One Book\, One San Diego
DESCRIPTION:Nominations are open for the 2025 One Book\, One San Diego season!  \nHelp @KPBS\, @SDPublicLibrary\, and @SDCountyLibrary find the 2025 #OneBookSD selections! What book do you recommend all of San Diego read for the adult\, teens\, kids\, and Spanish language categories? The call for nominations is open now through MARCH 15 (now extended April 1!). \nSubmit your nomination today at https://www.kpbs.org/onebook. \n Partners include KPBS\, the San Diego Public Library\, the San Diego County Library\, service organizations\, and educational institutions across the region.Many thanks to sponsors\, Linden Root Dickinson Foundation\, the Seth Sprague Educational and Charitable Foundation\, the Frieda Berlinski Foundation\, the Payne Family Foundation\, Kaiser Permanente\, the University of San Diego\, Lloyd Pest Control\, and The City of San Diego. \nContact Jenelle Dean\, KPBS Community Engagement Manager\, jmdean@kpbs.org\, with questions.
URL:https://211sandiego.org/event/one-book-one-san-diego/
LOCATION:Virtual
ATTACH;FMTTYPE=image/jpeg:https://211sandiego.org/wp-content/uploads/2025/03/One-Book-Nominations.jpg
ORGANIZER;CN="KPBS":MAILTO:cgrodriguez@kpbs.org
END:VEVENT
BEGIN:VEVENT
DTSTART;TZID=America/Los_Angeles:20250222T093000
DTEND;TZID=America/Los_Angeles:20250222T120000
DTSTAMP:20260425T065546
CREATED:20250107T174347Z
LAST-MODIFIED:20250107T174347Z
UID:10001131-1740216600-1740225600@211sandiego.org
SUMMARY:On-Farm Composting Course - San Marcos
DESCRIPTION:Composting on your farm\, ranch\, or large property is an ideal way to manage crop residues\, manures\, and other organic waste while creating a stellar soil amendment. Join us at the beautiful TERI Campus of Life in San Marcos for this three-week course. We will address the unique strategies\, challenges\, and opportunities that arise through medium-scale composting. You must pre-register to attend at solanacenter.org/events. \nThis course does not address typical residential composting or large-scale commercial composting. It is intended for those mid-sized systems that fall in between\, particularly horse ranches and small farms. \nThis course will meet Saturdays from 9:30 a.m. to 12 p.m. \nCourse Dates: \nSaturday\, February 22\nSaturday\, March 1\nSaturday\, March 8 \nIn this course\, we’ll cover the following topics: \n\nNeighbor-friendly composting best management practices\, scaled to farms\nCompost basics\, e.g. recipe considerations\, feedstocks\, and bulk density\nCompost management\, e.g. site considerations\, odor\, dust\, and rodent/vector control\nWhat is permissible on farms without permits\nComposting/water saving benefits\n\nResidents of unincorporated County of San Diego will receive preferential registration. All others will be placed on a waitlist and apprised of space available 1-2 weeks before the start of the course. All pre-registered unincorporated county residents will receive a FREE kitchen scrap caddy upon completion of the course. \nBEFORE REGISTERING\, please enter your address here to check your residency. You can select the County of San Diego Residents ticket option ONLY if your jurisdiction boundary result is “S.D. COUNTY.” All others must select the waitlist option. \nCourse Fee: $25* \n*If this course fee presents a financial hardship\, it may be waived upon request. Please contact Erin Stone at erin@solanacenter.org before registering to inquire. \nThis course has been made possible through generous funding from the County of San Diego. Thanks to our site host\, Teri Campus of Life.
URL:https://211sandiego.org/event/on-farm-composting-course-san-marcos/2025-02-22/
LOCATION:Teri Campus of Life\, 555 Deer Springs Road\, San Marcos\, 92069
CATEGORIES:Class, Seminar, Training, or Workshop
ATTACH;FMTTYPE=image/png:https://211sandiego.org/wp-content/uploads/2025/01/2025-Flyers-11-x-8.5-16.png
ORGANIZER;CN="Solana Center for Environmental Innovation":MAILTO:info@solanacenter.org
END:VEVENT
END:VCALENDAR