BEGIN:VCALENDAR
VERSION:2.0
PRODID:-//211 - ECPv6.15.20//NONSGML v1.0//EN
CALSCALE:GREGORIAN
METHOD:PUBLISH
X-ORIGINAL-URL:https://211sandiego.org
X-WR-CALDESC:Events for 211
REFRESH-INTERVAL;VALUE=DURATION:PT1H
X-Robots-Tag:noindex
X-PUBLISHED-TTL:PT1H
BEGIN:VTIMEZONE
TZID:America/Los_Angeles
BEGIN:DAYLIGHT
TZOFFSETFROM:-0800
TZOFFSETTO:-0700
TZNAME:PDT
DTSTART:20240310T100000
END:DAYLIGHT
BEGIN:STANDARD
TZOFFSETFROM:-0700
TZOFFSETTO:-0800
TZNAME:PST
DTSTART:20241103T090000
END:STANDARD
BEGIN:DAYLIGHT
TZOFFSETFROM:-0800
TZOFFSETTO:-0700
TZNAME:PDT
DTSTART:20250309T100000
END:DAYLIGHT
BEGIN:STANDARD
TZOFFSETFROM:-0700
TZOFFSETTO:-0800
TZNAME:PST
DTSTART:20251102T090000
END:STANDARD
BEGIN:DAYLIGHT
TZOFFSETFROM:-0800
TZOFFSETTO:-0700
TZNAME:PDT
DTSTART:20260308T100000
END:DAYLIGHT
BEGIN:STANDARD
TZOFFSETFROM:-0700
TZOFFSETTO:-0800
TZNAME:PST
DTSTART:20261101T090000
END:STANDARD
END:VTIMEZONE
BEGIN:VEVENT
DTSTART;TZID=America/Los_Angeles:20250227T100000
DTEND;TZID=America/Los_Angeles:20250424T140000
DTSTAMP:20260422T133624
CREATED:20250109T161808Z
LAST-MODIFIED:20250109T161808Z
UID:10001143-1740650400-1745503200@211sandiego.org
SUMMARY:Family Caregiver Education & Respite Care Program
DESCRIPTION:Are you looking for tools to help  you care for your loved one with dementia? Do you need a break from the stress of care giving? Would you like to meet others going through what you are going through? \nJoin us starting on Feb 27th for a 9-week series of classes designed by the Glenner Centers – experts in the dementia care field since 1982. These classes are FREE and FREE respite care will be offered for those who need it. \nTo hear from past class participants and to register\, visit: https://glenner.org/events/family-caregiver-education-respite-care-program/ \n 
URL:https://211sandiego.org/event/family-caregiver-education-respite-care-program/
LOCATION:George G. Glenner Alzheimer’s Family Centers\, Inc.\, 2765 Main St. Ste. A\, Chula Vista\, CA\, 91911\, United States
CATEGORIES:Class, Seminar, Training, or Workshop,Collaborative/Meeting,Support Group
ATTACH;FMTTYPE=image/jpeg:https://211sandiego.org/wp-content/uploads/2025/01/Family-Caregiver-Education-Respite-Care-Program-3-1.jpg
ORGANIZER;CN="George G. Glenner Alzheimer's Family Centers%2C Inc.":MAILTO:dementiacareeducation@glenner.org
END:VEVENT
BEGIN:VEVENT
DTSTART;TZID=America/Los_Angeles:20250405T090000
DTEND;TZID=America/Los_Angeles:20250405T113000
DTSTAMP:20260422T133624
CREATED:20250226T213558Z
LAST-MODIFIED:20250226T213558Z
UID:10001267-1743843600-1743852600@211sandiego.org
SUMMARY:Parkinson’s Association of San Diego Hosts Annual Step by Step 5K Walk and Health Fair
DESCRIPTION:Parkinson’s Association of San Diego Hosts Annual Step by Step 5K Walk and Health Fair on April 5 \nCreating a Path of Support and Resources for the Parkinson’s Community to Help Live Their Best Life \nSAN DIEGO\, CALIF. – The Parkinson’s Association of San Diego (PASD) invites the public to the 23rd Annual Step by Step 5K Walk and Health Fair on Saturday\, April 5th at Liberty Station (2640 Cushing Road\, San Diego\, CA 92016). Check-in starts at 7:30 a.m. with the event kicking off at 9:00 a.m.\, and ending at 11:30 a.m. PDT. www.parkinsonsassociation.org \nJoining the Step by Step 5K Walk and Health Fair is a first step toward support and resources to help those affected by Parkinson’s live their best life. This year’s event unites more than 1\,200 participants\, offering connections\, care and access to 70 health exhibitors. and free coffee and donuts. Dogs are also welcome to join the fun and will receive a special bandana for the walk. \nEvery dollar raised for the Walk stays in San Diego County\, directly supporting PASD’s mission to provide essential resources\, education and support to thousands of local residents impacted by Parkinson’s disease—ensuring they receive the care and assistance they need. \nSharp HealthCare is reinforcing its commitment to the Parkinson’s community and ensuring the event’s success as the title sponsor for the 2025 Walk. \nParticipants can support the Walk in multiple ways\, including: \n\nWalking individually or with family\nJoining or forming a team\nExploring exhibitor booths without walking\nMaking a donation to PASD\, with the option to contribute in memory or in honor of a loved one\n\nSign up for the walk or donate to make a difference at www.parkinsonsassociation.org or by calling 858-215-2570. \nThe registration donation is $50 per participant\, $10 for youth ages 12-17\, and free for children under 12. Donations are tax-deductible under IRS guidelines and include a Step by Step Walk T-shirt for adults and youths. \nFor registration and fundraising details\, call 858-215-2570.\nFor sponsorship opportunities\, call 858-210-5674 or visit www.parkinsonsassociation.org.
URL:https://211sandiego.org/event/parkinsons-association-of-san-diego-hosts-annual-step-by-step-5k-walk-and-health-fair/
LOCATION:Liberty Station\, 2640 Cushing Road\, San Diego\, 92016
CATEGORIES:Fundraiser
ATTACH;FMTTYPE=image/jpeg:https://211sandiego.org/wp-content/uploads/2025/02/Mid-Cropped-Group-2024-Parkinsons-Step-By-Step-5K-MKTG-060-1.jpg
ORGANIZER;CN="Parkinson's Associationof SanDiego":MAILTO:info@parkinsonsassociation.org
END:VEVENT
BEGIN:VEVENT
DTSTART;TZID=America/Los_Angeles:20250405T090000
DTEND;TZID=America/Los_Angeles:20250405T123000
DTSTAMP:20260422T133624
CREATED:20250314T205139Z
LAST-MODIFIED:20250314T205139Z
UID:10001299-1743843600-1743856200@211sandiego.org
SUMMARY:Be My Neighbor Day
DESCRIPTION:With those two themes in mind\, KPBS invites you to the third annual Be My Neighbor Day on Saturday\, April 5 from 9:00 a.m. to 12:30 p.m. This free outdoor event is created especially for young children and families and centered around the theme of being a good community helper and serving others with multiple opportunities to learn how even a small act of service can bring a lot of joy. Visit https://www.eventbrite.com/e/be-my-neighbor-day-2025-tickets-1256159339399?aff=oddtdtcreator for more details.
URL:https://211sandiego.org/event/be-my-neighbor-day/
LOCATION:5200 Campanile Drive San Diego\, San Diego\, CA\, United States
ATTACH;FMTTYPE=image/jpeg:https://211sandiego.org/wp-content/uploads/2025/03/BeMyNeighborDay2025-Thumbnail-Calendar-880x488-4.jpg
GEO:32.775088;-117.076176
END:VEVENT
BEGIN:VEVENT
DTSTART;TZID=America/Los_Angeles:20250405T100000
DTEND;TZID=America/Los_Angeles:20250405T100000
DTSTAMP:20260422T133624
CREATED:20250130T014247Z
LAST-MODIFIED:20250130T014850Z
UID:10001185-1743847200-1743847200@211sandiego.org
SUMMARY:Caregiver Networks Club
DESCRIPTION:2025 Meetings & Events\nWe currently have HYBRID meetings (in person and on ZOOM).  All meeting details will be announced in email. The meetings are usually the FIRST Saturday of every month at 10 AM. Each month we have a different educational guest speaker who comes to educate us about various resources in the community.2025 Schedule:\nCaregiver Networks Club\nSAVE THE DATES:\nSaturday 1/25 @ 10 AM – ZOOM ONLY\nSaturday 2/1 @ 10 AM\nSaturday 3/1 @ 10 AM\nSaturday 4/5 @ 10 AM\nSaturday 5/3 @ 10 AM\nSaturday 6/7 @ 10 AM\nSaturday 7/12 @ 10 AM  (Moved to second sat due to Holiday)\nSaturday 8/2 @ 10 AM\nSaturday 9/6 @ 10 AM\nSaturday 10/4 @ 10 AM*Guest speakers for each month will be announced in email and the Zoom link will be emailed as well.\n* We do not have meetings in November and December.\n​\nAddress:\nCarlsbad Senior Center:\n799 Pine Avenue\,\nCarlsbad\, CA 92008Happy Holidays from\nCaregiver Networks Club!\nonelovingcaregiver@gmail.com
URL:https://211sandiego.org/event/caregiver-networks-club/2025-04-05/
LOCATION:Carlsbad Senior Center\, 799 Pine Ave\, Carlsbad\, CA\, 92008\, United States
CATEGORIES:Collaborative/Meeting
ATTACH;FMTTYPE=image/png:https://211sandiego.org/wp-content/uploads/2025/01/Caregiver-Networks-Club.png
ORGANIZER;CN="Caregiver Networks Club":MAILTO:onelovingcaregiver@gmail.com
GEO:33.159177;-117.343843
X-APPLE-STRUCTURED-LOCATION;VALUE=URI;X-ADDRESS=Carlsbad Senior Center 799 Pine Ave Carlsbad CA 92008 United States;X-APPLE-RADIUS=500;X-TITLE=799 Pine Ave:geo:-117.343843,33.159177
END:VEVENT
BEGIN:VEVENT
DTSTART;TZID=America/Los_Angeles:20250405T100000
DTEND;TZID=America/Los_Angeles:20250405T130000
DTSTAMP:20260422T133624
CREATED:20250401T161357Z
LAST-MODIFIED:20250401T161357Z
UID:10001353-1743847200-1743858000@211sandiego.org
SUMMARY:SD Fixit Clinic in Carlsbad
DESCRIPTION:This upcoming Earth Month the City of Carlsbad is hosting a San Diego Fixit Clinic on April 5\, 2025. \nFixit Coaches are ready to help repair your stuff. RSVP in advance to get help from a Coach. Bring the whole family and learn how to: \n\n Mend your favorite outfit\n Repair road and mountain bikes\n DIY upcycling with Rebelle For Kicks\n Fix lighting\, gadgets\, and small appliances\n\nSpace is limited for this FREE event. RSVP today 👉https://bit.ly/SDfixitclinic_Carlsbad
URL:https://211sandiego.org/event/sd-fixit-clinic-in-carlsbad/
LOCATION:Carlsbad City Library\, 1775 Dove Lane Carlsbad\, CA 92011\, USA\, Carlsbad\, 92011
CATEGORIES:Class, Seminar, Training, or Workshop
ATTACH;FMTTYPE=image/jpeg:https://211sandiego.org/wp-content/uploads/2025/03/2025-April-FixIt-Clinic-Banner-FINAL-2160x1080-1.jpg
ORGANIZER;CN="Zero Waste San Diego":MAILTO:contact@zerowastesandiego.org
END:VEVENT
BEGIN:VEVENT
DTSTART;TZID=America/Los_Angeles:20250405T100000
DTEND;TZID=America/Los_Angeles:20250405T130000
DTSTAMP:20260422T133624
CREATED:20250401T161359Z
LAST-MODIFIED:20250401T161359Z
UID:10001354-1743847200-1743858000@211sandiego.org
SUMMARY:SD Fixit Clinic in Carlsbad
DESCRIPTION:This upcoming Earth Month the City of Carlsbad is hosting a San Diego Fixit Clinic on April 5\, 2025. \nFixit Coaches are ready to help repair your stuff. RSVP in advance to get help from a Coach. Bring the whole family and learn how to: \n\n Mend your favorite outfit\n Repair road and mountain bikes\n DIY upcycling with Rebelle For Kicks\n Fix lighting\, gadgets\, and small appliances\n\nSpace is limited for this FREE event. RSVP today 👉https://bit.ly/SDfixitclinic_Carlsbad
URL:https://211sandiego.org/event/sd-fixit-clinic-in-carlsbad-2/
LOCATION:1775 Dove Lane Carlsbad\, CA 92011\, Carlsbad City Library\, Carlsbad\, 92011
CATEGORIES:Class, Seminar, Training, or Workshop
ATTACH;FMTTYPE=image/jpeg:https://211sandiego.org/wp-content/uploads/2025/03/2025-April-FixIt-Clinic-Banner-FINAL-2160x1080-2.jpg
ORGANIZER;CN="Zero Waste San Diego":MAILTO:contact@zerowastesandiego.org
END:VEVENT
BEGIN:VEVENT
DTSTART;TZID=America/Los_Angeles:20250405T100000
DTEND;TZID=America/Los_Angeles:20250405T130000
DTSTAMP:20260422T133624
CREATED:20250401T161402Z
LAST-MODIFIED:20250401T161402Z
UID:10001352-1743847200-1743858000@211sandiego.org
SUMMARY:SD Fixit Clinic in Carlsbad
DESCRIPTION:🌿🌎This upcoming Earth Month\, the City of Carlsbad is hosting a San Diego Fixit Clinic on April 5\, 2025. Bring your broken\, non-functioning things for assessment\, disassembly\, and possible repair. We’ll provide a workspace\, specialty tools\, and guidance to help you disassemble and troubleshoot your item\, and it’s all free\, though we welcome donations to keep the movement growing! \nWhether we fix it or not\, you’ll learn more about how it was manufactured and how it worked while trusting it won’t end up in a landfill. \nBring the whole family and learn how to: \n\n Mend your favorite outfit\n Repair road and mountain bikes\n DIY upcycling with Rebelle For Kicks\n Fix lighting\, gadgets\, and small appliances\n\nSpace is limited for this FREE event. RSVP today 👉https://bit.ly/SDfixitclinic_Carlsbad
URL:https://211sandiego.org/event/sd-fixit-clinic-in-carlsbad-3/
LOCATION:1775 Dove Lane Carlsbad\, CA 92011\, Carlsbad City Library\, Carlsbad\, 92011
CATEGORIES:Class, Seminar, Training, or Workshop
ATTACH;FMTTYPE=image/jpeg:https://211sandiego.org/wp-content/uploads/2025/03/2025-April-FixIt-Clinic-Banner-FINAL-2160x1080-3.jpg
ORGANIZER;CN="Zero Waste San Diego":MAILTO:contact@zerowastesandiego.org
END:VEVENT
END:VCALENDAR