BEGIN:VCALENDAR
VERSION:2.0
PRODID:-//211 - ECPv6.15.20//NONSGML v1.0//EN
CALSCALE:GREGORIAN
METHOD:PUBLISH
X-ORIGINAL-URL:https://211sandiego.org
X-WR-CALDESC:Events for 211
REFRESH-INTERVAL;VALUE=DURATION:PT1H
X-Robots-Tag:noindex
X-PUBLISHED-TTL:PT1H
BEGIN:VTIMEZONE
TZID:America/Los_Angeles
BEGIN:DAYLIGHT
TZOFFSETFROM:-0800
TZOFFSETTO:-0700
TZNAME:PDT
DTSTART:20240310T100000
END:DAYLIGHT
BEGIN:STANDARD
TZOFFSETFROM:-0700
TZOFFSETTO:-0800
TZNAME:PST
DTSTART:20241103T090000
END:STANDARD
BEGIN:DAYLIGHT
TZOFFSETFROM:-0800
TZOFFSETTO:-0700
TZNAME:PDT
DTSTART:20250309T100000
END:DAYLIGHT
BEGIN:STANDARD
TZOFFSETFROM:-0700
TZOFFSETTO:-0800
TZNAME:PST
DTSTART:20251102T090000
END:STANDARD
BEGIN:DAYLIGHT
TZOFFSETFROM:-0800
TZOFFSETTO:-0700
TZNAME:PDT
DTSTART:20260308T100000
END:DAYLIGHT
BEGIN:STANDARD
TZOFFSETFROM:-0700
TZOFFSETTO:-0800
TZNAME:PST
DTSTART:20261101T090000
END:STANDARD
END:VTIMEZONE
BEGIN:VEVENT
DTSTART;TZID=America/Los_Angeles:20250517T100000
DTEND;TZID=America/Los_Angeles:20250517T120000
DTSTAMP:20260424T054803
CREATED:20250310T174100Z
LAST-MODIFIED:20250310T174100Z
UID:10001279-1747476000-1747483200@211sandiego.org
SUMMARY:Breaking Down Barriers/Rompiendo Barreras
DESCRIPTION:Navigating difficult times can bring up a range of emotions. In this interactive workshop\, we’ll explore common feelings during challenging moments\, recognize the signs of stress\, anxiety\, and depression\, and discover practical tools to support emotional balance and mental well-being.\nThis session is open to CDA families\, community members\, and staff. Registration is required. \nNavegar tiempos difíciles puede generar una variedad de emociones. En este taller interactivo\, exploraremos sentimientos comunes durante momentos desafiantes\, reconoceremos las señales de estrés\, ansiedad y depresión\, y descubriremos herramientas prácticas para apoyar el equilibrio emocional y el bienestar mental.\nEsta sesión está abierta para las familias de CDA\, miembros de la comunidad y el personal.\nSe requiere registración.
URL:https://211sandiego.org/event/breaking-down-barriers-rompiendo-barreras/
LOCATION:CDA Bonita Office\, 180 Otay Lakes Road\, Bonita\, 91902
CATEGORIES:Class, Seminar, Training, or Workshop
ORGANIZER;CN="CDA":MAILTO:ccruz@cdasd.org
END:VEVENT
END:VCALENDAR