BEGIN:VCALENDAR
VERSION:2.0
PRODID:-//211 - ECPv6.15.20//NONSGML v1.0//EN
CALSCALE:GREGORIAN
METHOD:PUBLISH
X-WR-CALNAME:211
X-ORIGINAL-URL:https://211sandiego.org
X-WR-CALDESC:Events for 211
REFRESH-INTERVAL;VALUE=DURATION:PT1H
X-Robots-Tag:noindex
X-PUBLISHED-TTL:PT1H
BEGIN:VTIMEZONE
TZID:America/Los_Angeles
BEGIN:DAYLIGHT
TZOFFSETFROM:-0800
TZOFFSETTO:-0700
TZNAME:PDT
DTSTART:20240310T100000
END:DAYLIGHT
BEGIN:STANDARD
TZOFFSETFROM:-0700
TZOFFSETTO:-0800
TZNAME:PST
DTSTART:20241103T090000
END:STANDARD
BEGIN:DAYLIGHT
TZOFFSETFROM:-0800
TZOFFSETTO:-0700
TZNAME:PDT
DTSTART:20250309T100000
END:DAYLIGHT
BEGIN:STANDARD
TZOFFSETFROM:-0700
TZOFFSETTO:-0800
TZNAME:PST
DTSTART:20251102T090000
END:STANDARD
BEGIN:DAYLIGHT
TZOFFSETFROM:-0800
TZOFFSETTO:-0700
TZNAME:PDT
DTSTART:20260308T100000
END:DAYLIGHT
BEGIN:STANDARD
TZOFFSETFROM:-0700
TZOFFSETTO:-0800
TZNAME:PST
DTSTART:20261101T090000
END:STANDARD
END:VTIMEZONE
BEGIN:VEVENT
DTSTART;TZID=America/Los_Angeles:20250609T083000
DTEND;TZID=America/Los_Angeles:20250808T170000
DTSTAMP:20260421T023132
CREATED:20250612T175725Z
LAST-MODIFIED:20250612T175842Z
UID:10002228-1749457800-1754672400@211sandiego.org
SUMMARY:Back-to-School Drive
DESCRIPTION:The new school year is just around the corner for the youth supported by the San Diego Center for Children. Unfortunately\, many of the children\, teens\, and families we work with face challenges accessing the basic supplies needed for a successful start. For those in need\, receiving new school supplies can provide a meaningful boost in confidence and self-worth. \nYOU can help in their success!  \n\nMake a Donation – any amount is greatly appreciated!\n\n\nHost a donation drive at your company or service organization – download our Back to School Flyer here.\n\n\nShop our online wish lists and ship directly to the Center: Amazon\, Target\, and Walmart\n\n\nDeadline is Friday\, August 8th\n\nAbout the Center: San Diego Center for Children is the leading children’s nonprofit mental healthcare provider serving the region. Our compassionate team of providers is dedicated to improving the lives of children and families through effective and comprehensive outpatient\, residential\, and educational mental health programs. We provide a more hopeful and meaningful path to a better future for thousands of families every year; and we’ve been doing it since 1887. With nine program sites anchored by a 12-acre main campus – which houses our residential programs and nonpublic school – the Center serves over 1\,000 at-risk and underserved individuals every day.Tax ID #95-1661089  www.CenterforChildren.org \nThank you for supporting San Diego Center for Children!
URL:https://211sandiego.org/event/back-to-school-drive/
LOCATION:3002 Armstrong St San Diego\, CA 92111 United States\, 3002 Armstrong St\, San Diego\, CA\, 92111 United States
ATTACH;FMTTYPE=image/png:https://211sandiego.org/wp-content/uploads/2025/06/Screenshot-2025-06-11-154016-3.png
ORGANIZER;CN="San Diego Center for Children":MAILTO:kmorett@centerforchildren.org
END:VEVENT
BEGIN:VEVENT
DTSTART;TZID=America/Los_Angeles:20250624T100000
DTEND;TZID=America/Los_Angeles:20250624T120000
DTSTAMP:20260421T023132
CREATED:20250612T180032Z
LAST-MODIFIED:20250612T180032Z
UID:10002223-1750759200-1750766400@211sandiego.org
SUMMARY:Alzheimer's Association: Understanding Alzheimers and Dementia & Estate Planning 101
DESCRIPTION:Alzheimer’s disease is not a normal part of aging. Join us to learn about the impact of Alzheimer’s; the difference between Alzheimer’s and dementia; stages and risk factors; current research and treatments available for some symptoms; and Alzheimer’s Association resources. \n\n\nEstate Planning 101: Our goal in this class is to help the participants better understand the Estate Administration process. Things that will be discussed include: \n• What is a fiduciary \n• Your rights and responsibilities \n• Your obligations to the beneficiary \n• How to address and solve administration problems during incapacity
URL:https://211sandiego.org/event/alzheimers-association-understanding-alzheimers-and-dementia-estate-planning-101/
LOCATION:SAY San Diego\, 4775 Viewridge Ave\, San Diego\, 92123
CATEGORIES:Class, Seminar, Training, or Workshop
ATTACH;FMTTYPE=image/jpeg:https://211sandiego.org/wp-content/uploads/2025/06/UAD-and-Elder-Law-6.24.25.jpg
ORGANIZER;CN="Alzheimer's Association":MAILTO:rturman@alz.org
END:VEVENT
BEGIN:VEVENT
DTSTART;TZID=America/Los_Angeles:20250624T110000
DTEND;TZID=America/Los_Angeles:20250624T120000
DTSTAMP:20260421T023132
CREATED:20241224T202729Z
LAST-MODIFIED:20241224T202729Z
UID:10001095-1750762800-1750766400@211sandiego.org
SUMMARY:TrueCare Food Distribution
DESCRIPTION:Oceanside \nMelba Bishop Community Recreation Center \n5306 N River Rd\, Oceanside\, CA 92057 \nOperating from 11:00 am-12:00 pm on the \n2nd and 4th Tuesday of every month \nFor questions please call (760) 736-6777.
URL:https://211sandiego.org/event/truecare-food-distribution-4/2025-06-24/
LOCATION:Melba Bishop Community Recreation Center\, 5306 N River Rd\, Oceanside\, CA\, 92057\, United States
CATEGORIES:Distribution Event
ATTACH;FMTTYPE=application/pdf:https://211sandiego.org/wp-content/uploads/2024/12/FoodDistribution_TrueCare_Flyer_2023.pdf
END:VEVENT
END:VCALENDAR