BEGIN:VCALENDAR
VERSION:2.0
PRODID:-//211 - ECPv6.15.20//NONSGML v1.0//EN
CALSCALE:GREGORIAN
METHOD:PUBLISH
X-ORIGINAL-URL:https://211sandiego.org
X-WR-CALDESC:Events for 211
REFRESH-INTERVAL;VALUE=DURATION:PT1H
X-Robots-Tag:noindex
X-PUBLISHED-TTL:PT1H
BEGIN:VTIMEZONE
TZID:America/Los_Angeles
BEGIN:DAYLIGHT
TZOFFSETFROM:-0800
TZOFFSETTO:-0700
TZNAME:PDT
DTSTART:20240310T100000
END:DAYLIGHT
BEGIN:STANDARD
TZOFFSETFROM:-0700
TZOFFSETTO:-0800
TZNAME:PST
DTSTART:20241103T090000
END:STANDARD
BEGIN:DAYLIGHT
TZOFFSETFROM:-0800
TZOFFSETTO:-0700
TZNAME:PDT
DTSTART:20250309T100000
END:DAYLIGHT
BEGIN:STANDARD
TZOFFSETFROM:-0700
TZOFFSETTO:-0800
TZNAME:PST
DTSTART:20251102T090000
END:STANDARD
BEGIN:DAYLIGHT
TZOFFSETFROM:-0800
TZOFFSETTO:-0700
TZNAME:PDT
DTSTART:20260308T100000
END:DAYLIGHT
BEGIN:STANDARD
TZOFFSETFROM:-0700
TZOFFSETTO:-0800
TZNAME:PST
DTSTART:20261101T090000
END:STANDARD
END:VTIMEZONE
BEGIN:VEVENT
DTSTART;TZID=America/Los_Angeles:20251013T100000
DTEND;TZID=America/Los_Angeles:20251013T113000
DTSTAMP:20260424T125131
CREATED:20251002T172655Z
LAST-MODIFIED:20251002T172655Z
UID:10002734-1760349600-1760355000@211sandiego.org
SUMMARY:Cafecito con Alzheimer’s San Diego: La demencia y nuestras familias
DESCRIPTION:Venga y hable con nosotros sobre cómo la demencia afecta a nuestros seres queridos.Esta clase gratuita es presentada por la organización local Alzheimer’s San Diego. Se recomienda la pre-inscripción.
URL:https://211sandiego.org/event/cafecito-con-alzheimers-san-diego-la-demencia-y-nuestras-familias-8/
LOCATION:El Cajon Branch Library\, 201 E Douglas Ave El Cajon\, CA 92020\, El Cajon\, 92020
ATTACH;FMTTYPE=image/jpeg:https://211sandiego.org/wp-content/uploads/2025/10/Education12.jpg
ORGANIZER;CN="Alzheimer's San Diego":MAILTO:info@alzsd.org
END:VEVENT
END:VCALENDAR