BEGIN:VCALENDAR
VERSION:2.0
PRODID:-//211 - ECPv6.15.20//NONSGML v1.0//EN
CALSCALE:GREGORIAN
METHOD:PUBLISH
X-WR-CALNAME:211
X-ORIGINAL-URL:https://211sandiego.org
X-WR-CALDESC:Events for 211
REFRESH-INTERVAL;VALUE=DURATION:PT1H
X-Robots-Tag:noindex
X-PUBLISHED-TTL:PT1H
BEGIN:VTIMEZONE
TZID:America/Los_Angeles
BEGIN:DAYLIGHT
TZOFFSETFROM:-0800
TZOFFSETTO:-0700
TZNAME:PDT
DTSTART:20240310T100000
END:DAYLIGHT
BEGIN:STANDARD
TZOFFSETFROM:-0700
TZOFFSETTO:-0800
TZNAME:PST
DTSTART:20241103T090000
END:STANDARD
BEGIN:DAYLIGHT
TZOFFSETFROM:-0800
TZOFFSETTO:-0700
TZNAME:PDT
DTSTART:20250309T100000
END:DAYLIGHT
BEGIN:STANDARD
TZOFFSETFROM:-0700
TZOFFSETTO:-0800
TZNAME:PST
DTSTART:20251102T090000
END:STANDARD
BEGIN:DAYLIGHT
TZOFFSETFROM:-0800
TZOFFSETTO:-0700
TZNAME:PDT
DTSTART:20260308T100000
END:DAYLIGHT
BEGIN:STANDARD
TZOFFSETFROM:-0700
TZOFFSETTO:-0800
TZNAME:PST
DTSTART:20261101T090000
END:STANDARD
END:VTIMEZONE
BEGIN:VEVENT
DTSTART;TZID=America/Los_Angeles:20251020T130000
DTEND;TZID=America/Los_Angeles:20251020T143000
DTSTAMP:20260424T095242
CREATED:20251002T172523Z
LAST-MODIFIED:20251002T172538Z
UID:10002738-1760965200-1760970600@211sandiego.org
SUMMARY:Alzheimer's San Diego: La planificación y los cuidados para el final de la demencia
DESCRIPTION:Aprenda más sobre la última etapa de la demencia y los cambios finales de la enfermedad\, explore nuevas formas de proveer cuidado y nuevos rituales de comunicación\, ante los cambios inminentes.Esta clase gratuita es presentada por la organización local Alzheimer’s San Diego. Se recomienda la pre-inscripción.
URL:https://211sandiego.org/event/alzheimers-san-diego-la-planificacion-y-los-cuidados-para-el-final-de-la-demencia-2/
LOCATION:Bonita-Sunnyside Branch Library\, 4375 Bonita Rd\, Bonita\, 91902
ATTACH;FMTTYPE=image/jpeg:https://211sandiego.org/wp-content/uploads/2025/10/Education12-1.jpg
ORGANIZER;CN="Alzheimer's San Diego":MAILTO:info@alzsd.org
END:VEVENT
END:VCALENDAR