BEGIN:VCALENDAR
VERSION:2.0
PRODID:-//211 - ECPv6.15.20//NONSGML v1.0//EN
CALSCALE:GREGORIAN
METHOD:PUBLISH
X-WR-CALNAME:211
X-ORIGINAL-URL:https://211sandiego.org
X-WR-CALDESC:Events for 211
REFRESH-INTERVAL;VALUE=DURATION:PT1H
X-Robots-Tag:noindex
X-PUBLISHED-TTL:PT1H
BEGIN:VTIMEZONE
TZID:America/Los_Angeles
BEGIN:DAYLIGHT
TZOFFSETFROM:-0800
TZOFFSETTO:-0700
TZNAME:PDT
DTSTART:20240310T100000
END:DAYLIGHT
BEGIN:STANDARD
TZOFFSETFROM:-0700
TZOFFSETTO:-0800
TZNAME:PST
DTSTART:20241103T090000
END:STANDARD
BEGIN:DAYLIGHT
TZOFFSETFROM:-0800
TZOFFSETTO:-0700
TZNAME:PDT
DTSTART:20250309T100000
END:DAYLIGHT
BEGIN:STANDARD
TZOFFSETFROM:-0700
TZOFFSETTO:-0800
TZNAME:PST
DTSTART:20251102T090000
END:STANDARD
BEGIN:DAYLIGHT
TZOFFSETFROM:-0800
TZOFFSETTO:-0700
TZNAME:PDT
DTSTART:20260308T100000
END:DAYLIGHT
BEGIN:STANDARD
TZOFFSETFROM:-0700
TZOFFSETTO:-0800
TZNAME:PST
DTSTART:20261101T090000
END:STANDARD
END:VTIMEZONE
BEGIN:VEVENT
DTSTART;TZID=America/Los_Angeles:20251108T070000
DTEND;TZID=America/Los_Angeles:20251108T140000
DTSTAMP:20260419T180655
CREATED:20251013T155039Z
LAST-MODIFIED:20251013T155039Z
UID:10002799-1762585200-1762610400@211sandiego.org
SUMMARY:Ride the Point
DESCRIPTION:The Point Loma Rotary Club is hosting the 12th Annual Jim Krause Memorial Charity Cycling Ride the Point cycling event for pancreatic cancer research. The ride starts and ends at Liberty Station and includes exclusive 5/25/62 mile routes through historic neighborhoods and scenic areas of San Diego – some only open once a year for this event. \nThe public is invited to the free healthy lifestyle expo at Oggi’s in Liberty Station from 9 am until 2 pm with local vendors\, music\, and refreshments.
URL:https://211sandiego.org/event/ride-the-point/
LOCATION:Liberty Station\, 2640 Cushing Road\, San Diego\, 92016
CATEGORIES:Fundraiser,Volunteer Event
ATTACH;FMTTYPE=image/jpeg:https://211sandiego.org/wp-content/uploads/2025/10/RTP-Card-2025-card-size-1-scaled.jpg
ORGANIZER;CN="Point Loma Rotary Club":MAILTO:director@ridethepoint.org
END:VEVENT
BEGIN:VEVENT
DTSTART;TZID=America/Los_Angeles:20251108T090000
DTEND;TZID=America/Los_Angeles:20251108T130000
DTSTAMP:20260419T180655
CREATED:20251017T173200Z
LAST-MODIFIED:20251017T173200Z
UID:10002813-1762592400-1762606800@211sandiego.org
SUMMARY:Earthquake Preparedness\, Hands-only CPR/How to Use an AED & Stop the Bleed Training
DESCRIPTION:Participants will learn earthquake preparedness steps they can do to minimize injuries\, and property damage. Recommended actions to take during different situations\, such as when in bed\, or at a grocery store\, will be discussed. Each participant will also learn skills to help a family\, friend or neighbor until first responders arrive\, such as hands-only CPR\, how to use an AED and how to stop excessive bleeding. Certificates will be issued\, via email\, for the STOP the BLEED Training portion. \nPre-registration required with San Diego County Fire’s Community Emergency Response Team (SDCF CERT): email Teresa.Greenhalgh@sdcounty.ca.gov or call/text (619) 857-8050.
URL:https://211sandiego.org/event/earthquake-preparedness-hands-only-cpr-how-to-use-an-aed-stop-the-bleed-training/
LOCATION:Rancho San Diego Library\, 11555 Via Rancho San Diego\, El Cajon\, CA\, United States
CATEGORIES:Class, Seminar, Training, or Workshop
ATTACH;FMTTYPE=image/jpeg:https://211sandiego.org/wp-content/uploads/2025/10/11-08-25-Earthquake-Preparedenss-Hands-only-CPR-STB-scaled.jpg
ORGANIZER;CN="San Diego County Fire CERT":MAILTO:Teresa.Greenhalgh@sdcounty.ca.gov
GEO:32.748508;-116.929298
X-APPLE-STRUCTURED-LOCATION;VALUE=URI;X-ADDRESS=Rancho San Diego Library 11555 Via Rancho San Diego El Cajon CA United States;X-APPLE-RADIUS=500;X-TITLE=11555 Via Rancho San Diego:geo:-116.929298,32.748508
END:VEVENT
BEGIN:VEVENT
DTSTART;TZID=America/Los_Angeles:20251108T100000
DTEND;TZID=America/Los_Angeles:20251108T120000
DTSTAMP:20260419T180655
CREATED:20251002T185159Z
LAST-MODIFIED:20251002T185159Z
UID:10002770-1762596000-1762603200@211sandiego.org
SUMMARY:Free Medi-Cal Event - Ronald Reagan Community Center
DESCRIPTION:Learn about the latest Medi-Cal services\, including Enhanced Care Management and Community Supports\, and discover how these benefits can help you or someone you care for. Connect with resources at the onsite fair and\, if you work with the community\, learn how to share these programs with others.
URL:https://211sandiego.org/event/free-medi-cal-event-ronald-reagan-community-center/
LOCATION:Ronald Reagan Community Center\, 195 E. Douglas Ave.\, El Cajon\, CA\, 92020
CATEGORIES:Resource Fair
ATTACH;FMTTYPE=image/png:https://211sandiego.org/wp-content/uploads/2025/10/Screenshot-2025-09-29-112557.png
ORGANIZER;CN="Live Well San Diego":MAILTO:HCDS.HHSA@sdcounty.ca.gov
END:VEVENT
BEGIN:VEVENT
DTSTART;TZID=America/Los_Angeles:20251108T100000
DTEND;TZID=America/Los_Angeles:20251108T140000
DTSTAMP:20260419T180655
CREATED:20250827T183123Z
LAST-MODIFIED:20250925T152726Z
UID:10002577-1762596000-1762610400@211sandiego.org
SUMMARY:Mental Health Resource Fair
DESCRIPTION:Join us for a Mental Health Resource Fair at the Ramona Library on Saturday November 8th from 10am – 2pm\, This event is designed to connect individuals\, families\, and residents of the Ramona Community with local mental health resources. Whether you’re seeking information\, support\, or ways to get involved\, this fair brings together organizations\, professionals\, and advocates committed to mental well-being. \nWhat to Expect: \n\nInformation booths from local mental health organizations and service providers\nSupport group information and peer support networks\nRecovery and sober living services\nResources promoting emotional wellness\n\nThis event is open to all and aims to reduce stigma\, promote access to care\, and encourage open conversations about mental health. Whether you’re seeking help or looking to help others\, you’re welcome here.
URL:https://211sandiego.org/event/mental-health-resource-fair/
LOCATION:Ramona Library\, 1275 Main St\, Ramona\, CA\, 92065\, United States
CATEGORIES:Resource Fair
ATTACH;FMTTYPE=image/png:https://211sandiego.org/wp-content/uploads/2025/08/vista-hill-logo-1.png
ORGANIZER;CN="Vista Hill SmartCare":MAILTO:mkostiuk@vistahill.org
GEO:33.031572;-116.976549
X-APPLE-STRUCTURED-LOCATION;VALUE=URI;X-ADDRESS=Ramona Library 1275 Main St Ramona CA 92065 United States;X-APPLE-RADIUS=500;X-TITLE=1275 Main St:geo:-116.976549,33.031572
END:VEVENT
BEGIN:VEVENT
DTSTART;TZID=America/Los_Angeles:20251108T120000
DTEND;TZID=America/Los_Angeles:20251108T150000
DTSTAMP:20260419T180655
CREATED:20251105T224655Z
LAST-MODIFIED:20251105T224655Z
UID:10002915-1762603200-1762614000@211sandiego.org
SUMMARY:SD Fixit Clinic
DESCRIPTION:We’ve become too accustomed to the throw-away lifestyle. If something breaks\, we toss it out and buy a new one. This behavior is filling our landfills at an alarming rate\, and electronic waste is now one of the biggest sources of pollution. So why not learn how to fix things instead?! \nBring your broken\, non-working items—electronics\, appliances\, computers\, toys\, bicycles\, clothes\, and more—for assessment\, disassembly\, and possible repair. We’ll provide workspace\, specialty tools\, and guidance to help you take apart and troubleshoot your item. Even if we can’t fix it\, you’ll learn more about how it was made and works. \nThis event is fun for the whole family\, so bring your kids! We are expanding rapidly and will host events all over San Diego County. \nWe hope to see you there!
URL:https://211sandiego.org/event/sd-fixit-clinic/
LOCATION:Borrego Springs Library\, 2580 Country Club Road\, Borrego Springs\, CA\, 92004\, United States
CATEGORIES:Class, Seminar, Training, or Workshop
ATTACH;FMTTYPE=image/png:https://211sandiego.org/wp-content/uploads/2025/11/Screenshot-2025-11-05-140936.png
ORGANIZER;CN="San Diego Fixit Clinic":MAILTO:sdfixitclinic@gmail.com
END:VEVENT
END:VCALENDAR