BEGIN:VCALENDAR
VERSION:2.0
PRODID:-//211 - ECPv6.15.20//NONSGML v1.0//EN
CALSCALE:GREGORIAN
METHOD:PUBLISH
X-WR-CALNAME:211
X-ORIGINAL-URL:https://211sandiego.org
X-WR-CALDESC:Events for 211
REFRESH-INTERVAL;VALUE=DURATION:PT1H
X-Robots-Tag:noindex
X-PUBLISHED-TTL:PT1H
BEGIN:VTIMEZONE
TZID:America/Los_Angeles
BEGIN:DAYLIGHT
TZOFFSETFROM:-0800
TZOFFSETTO:-0700
TZNAME:PDT
DTSTART:20250309T100000
END:DAYLIGHT
BEGIN:STANDARD
TZOFFSETFROM:-0700
TZOFFSETTO:-0800
TZNAME:PST
DTSTART:20251102T090000
END:STANDARD
BEGIN:DAYLIGHT
TZOFFSETFROM:-0800
TZOFFSETTO:-0700
TZNAME:PDT
DTSTART:20260308T100000
END:DAYLIGHT
BEGIN:STANDARD
TZOFFSETFROM:-0700
TZOFFSETTO:-0800
TZNAME:PST
DTSTART:20261101T090000
END:STANDARD
BEGIN:DAYLIGHT
TZOFFSETFROM:-0800
TZOFFSETTO:-0700
TZNAME:PDT
DTSTART:20270314T100000
END:DAYLIGHT
BEGIN:STANDARD
TZOFFSETFROM:-0700
TZOFFSETTO:-0800
TZNAME:PST
DTSTART:20271107T090000
END:STANDARD
END:VTIMEZONE
BEGIN:VEVENT
DTSTART;TZID=America/Los_Angeles:20260202T153000
DTEND;TZID=America/Los_Angeles:20260401T183000
DTSTAMP:20260422T191918
CREATED:20260202T225749Z
LAST-MODIFIED:20260202T225749Z
UID:10003438-1770046200-1775068200@211sandiego.org
SUMMARY:Caregiver Expo
DESCRIPTION:This event is for family members and/or friends caring for a loved one with dementia. The event will share ways to manage difficult behaviors\, ways to care for yourself as a caregiver to avoid burnout and information on community resources to help families navigate the care of their loved one.
URL:https://211sandiego.org/event/caregiver-expo/
LOCATION:George G. Glenner Alzheimer’s Family Centers\, Inc.\, 2765 Main St. Ste. A\, Chula Vista\, CA\, 91911\, United States
CATEGORIES:Class, Seminar, Training, or Workshop
ATTACH;FMTTYPE=image/png:https://211sandiego.org/wp-content/uploads/2026/02/SOCIAL-MEDIA-PNG-for-Caregiver-Expo-at-Town-Square®-4.1.26.png
ORGANIZER;CN="George G. Glenner Alzheimer's Family Centers%2C Inc.":MAILTO:dementiacareeducation@glenner.org
END:VEVENT
BEGIN:VEVENT
DTSTART;TZID=America/Los_Angeles:20260304T180000
DTEND;TZID=America/Los_Angeles:20260415T183000
DTSTAMP:20260422T191918
CREATED:20260302T164447Z
LAST-MODIFIED:20260302T164447Z
UID:10003916-1772647200-1776277800@211sandiego.org
SUMMARY:Grief Support Circle: Virtual 6-Week Series by Orange Hospice
DESCRIPTION:The Grief Support Circle is a gentle\, supportive space for anyone navigating loss\, anticipatory grief\, or the emotional weight of caregiving. This virtual six-week series\, hosted by Orange Hospice\, offers a place to slow down\, be heard\, and connect with others who truly understand the complexity of grief. \nGuided with compassion by facilitator Gabriela Böhm\, an experienced end-of-life doula\, these sessions allow you to share\, reflect\, or simply listen at your own pace. There are no expectations or pressure to perform healing—only shared presence and understanding. \nWhat to expect:\n– Gentle grounding and emotional regulation practices.\n– Thoughtful prompts for reflection and self-awareness.\n– A confidential\, respectful group setting built over six weeks. \nRegister Now – Space is Limited to Ensure Intimacy
URL:https://211sandiego.org/event/grief-support-circle-virtual-6-week-series-by-orange-hospice/
LOCATION:Virtual
CATEGORIES:Support Group
ATTACH;FMTTYPE=image/jpeg:https://211sandiego.org/wp-content/uploads/2026/03/stock-photo-close-people-sitting-chairs-circle-therapy-class.jpg
ORGANIZER;CN="Orange Hospice":MAILTO:info@orangehospice.net
END:VEVENT
BEGIN:VEVENT
DTSTART;TZID=America/Los_Angeles:20260305T080000
DTEND;TZID=America/Los_Angeles:20260315T170000
DTSTAMP:20260422T191918
CREATED:20260309T211923Z
LAST-MODIFIED:20260309T211923Z
UID:10003926-1772697600-1773594000@211sandiego.org
SUMMARY:Nominate a book! One Book\, One San Diego
DESCRIPTION:Nominations are open for the 2026 One Book\, One San Diego season! \nWhat book do you think all of San Diego should read? We are now accepting nominations in four categories: adult\, teens\, kids\, and Spanish language. The call for nominations is open now through March 15. \nSubmit your nomination today at https://www.kpbs.org/onebooknominations  \n Partners include KPBS\, the San Diego Public Library\, the San Diego County Library\, service organizations\, and educational institutions across the region. Many thanks to sponsors\, Linden Root Dickinson Foundation\, the Seth Sprague Educational and Charitable Foundation\, the Frieda Berlinski Foundation\, the Payne Family Foundation\, Kaiser Permanente\, Lloyd Pest Control\, and The City of San Diego. \nContact Jenelle Dean\, KPBS Community Engagement Manager\, jmdean@kpbs.org\, with questions.
URL:https://211sandiego.org/event/nominate-a-book-one-book-one-san-diego/
LOCATION:5200 Campanile Drive San Diego\, San Diego\, CA\, United States
ATTACH;FMTTYPE=image/jpeg:https://211sandiego.org/wp-content/uploads/2026/03/Social-Graphic-OBOSD-Nomination-1080x1080-v2-1.jpg
ORGANIZER;CN="KPBS":MAILTO:cgrodriguez@kpbs.org
GEO:32.775088;-117.076176
END:VEVENT
END:VCALENDAR