BEGIN:VCALENDAR
VERSION:2.0
PRODID:-//211 - ECPv6.15.20//NONSGML v1.0//EN
CALSCALE:GREGORIAN
METHOD:PUBLISH
X-ORIGINAL-URL:https://211sandiego.org
X-WR-CALDESC:Events for 211
REFRESH-INTERVAL;VALUE=DURATION:PT1H
X-Robots-Tag:noindex
X-PUBLISHED-TTL:PT1H
BEGIN:VTIMEZONE
TZID:America/Los_Angeles
BEGIN:DAYLIGHT
TZOFFSETFROM:-0800
TZOFFSETTO:-0700
TZNAME:PDT
DTSTART:20250309T100000
END:DAYLIGHT
BEGIN:STANDARD
TZOFFSETFROM:-0700
TZOFFSETTO:-0800
TZNAME:PST
DTSTART:20251102T090000
END:STANDARD
BEGIN:DAYLIGHT
TZOFFSETFROM:-0800
TZOFFSETTO:-0700
TZNAME:PDT
DTSTART:20260308T100000
END:DAYLIGHT
BEGIN:STANDARD
TZOFFSETFROM:-0700
TZOFFSETTO:-0800
TZNAME:PST
DTSTART:20261101T090000
END:STANDARD
BEGIN:DAYLIGHT
TZOFFSETFROM:-0800
TZOFFSETTO:-0700
TZNAME:PDT
DTSTART:20270314T100000
END:DAYLIGHT
BEGIN:STANDARD
TZOFFSETFROM:-0700
TZOFFSETTO:-0800
TZNAME:PST
DTSTART:20271107T090000
END:STANDARD
END:VTIMEZONE
BEGIN:VEVENT
DTSTART;TZID=America/Los_Angeles:20260202T153000
DTEND;TZID=America/Los_Angeles:20260401T183000
DTSTAMP:20260425T032554
CREATED:20260202T225749Z
LAST-MODIFIED:20260202T225749Z
UID:10003438-1770046200-1775068200@211sandiego.org
SUMMARY:Caregiver Expo
DESCRIPTION:This event is for family members and/or friends caring for a loved one with dementia. The event will share ways to manage difficult behaviors\, ways to care for yourself as a caregiver to avoid burnout and information on community resources to help families navigate the care of their loved one.
URL:https://211sandiego.org/event/caregiver-expo/
LOCATION:George G. Glenner Alzheimer’s Family Centers\, Inc.\, 2765 Main St. Ste. A\, Chula Vista\, CA\, 91911\, United States
CATEGORIES:Class, Seminar, Training, or Workshop
ATTACH;FMTTYPE=image/png:https://211sandiego.org/wp-content/uploads/2026/02/SOCIAL-MEDIA-PNG-for-Caregiver-Expo-at-Town-Square®-4.1.26.png
ORGANIZER;CN="George G. Glenner Alzheimer's Family Centers%2C Inc.":MAILTO:dementiacareeducation@glenner.org
END:VEVENT
BEGIN:VEVENT
DTSTART;TZID=America/Los_Angeles:20260304T180000
DTEND;TZID=America/Los_Angeles:20260415T183000
DTSTAMP:20260425T032554
CREATED:20260302T164447Z
LAST-MODIFIED:20260302T164447Z
UID:10003916-1772647200-1776277800@211sandiego.org
SUMMARY:Grief Support Circle: Virtual 6-Week Series by Orange Hospice
DESCRIPTION:The Grief Support Circle is a gentle\, supportive space for anyone navigating loss\, anticipatory grief\, or the emotional weight of caregiving. This virtual six-week series\, hosted by Orange Hospice\, offers a place to slow down\, be heard\, and connect with others who truly understand the complexity of grief. \nGuided with compassion by facilitator Gabriela Böhm\, an experienced end-of-life doula\, these sessions allow you to share\, reflect\, or simply listen at your own pace. There are no expectations or pressure to perform healing—only shared presence and understanding. \nWhat to expect:\n– Gentle grounding and emotional regulation practices.\n– Thoughtful prompts for reflection and self-awareness.\n– A confidential\, respectful group setting built over six weeks. \nRegister Now – Space is Limited to Ensure Intimacy
URL:https://211sandiego.org/event/grief-support-circle-virtual-6-week-series-by-orange-hospice/
LOCATION:Virtual
CATEGORIES:Support Group
ATTACH;FMTTYPE=image/jpeg:https://211sandiego.org/wp-content/uploads/2026/03/stock-photo-close-people-sitting-chairs-circle-therapy-class.jpg
ORGANIZER;CN="Orange Hospice":MAILTO:info@orangehospice.net
END:VEVENT
BEGIN:VEVENT
DTSTART;TZID=America/Los_Angeles:20260328T090000
DTEND;TZID=America/Los_Angeles:20260328T110000
DTSTAMP:20260425T032554
CREATED:20260213T151628Z
LAST-MODIFIED:20260213T151628Z
UID:10003451-1774688400-1774695600@211sandiego.org
SUMMARY:Cesar Chavez Week of Action Health and legal Clinic
DESCRIPTION:Receive food distribution\, diaper giveaways\, vaccines\, legal\, mental\, dental\, and health resources. \nAbout Cesar Chavez Week of Action: \nThe 2026 Week of Action features various events focused on labor rights\, including educational workshops and a legal/health resource clinic. Designed for workers and businesses\, these events aim to promote fair workplaces through education\, connecting with experts\, and exploring resources. Additional details can be found at sandiegocounty.gov/OLSE.
URL:https://211sandiego.org/event/cesar-chavez-week-of-action-health-and-legal-clinic/
LOCATION:Employee Rights Center\, 4161 Home Avenue\, San Diego\, CA\, 92105\, United States
CATEGORIES:CalFresh Outreach,Distribution Event,Resource Fair
ATTACH;FMTTYPE=image/png:https://211sandiego.org/wp-content/uploads/2026/02/Health-and-Legal-Clinic-English-1.png
END:VEVENT
BEGIN:VEVENT
DTSTART;TZID=America/Los_Angeles:20260328T100000
DTEND;TZID=America/Los_Angeles:20260328T120000
DTSTAMP:20260425T032554
CREATED:20260317T205228Z
LAST-MODIFIED:20260317T205228Z
UID:10003959-1774692000-1774699200@211sandiego.org
SUMMARY:Maximizing Social Security: Webinar
DESCRIPTION:What You Need to Know to Help Get the Most Out of Your Benefit \n\n\n\n\nMaximizing Social Security: Make Informed Decisions About Your Retirement Income\nSocial Security plays a critical role in retirement planning. In fact\, for many Americans\, it represents one of the largest sources of retirement income. However\, the rules are complex\, and the timing of your decision can permanently affect your lifetime benefits. \nShould you claim at 62\, wait until full retirement age\, or delay until 70?\nHow do spousal and survivor benefits work?\nHow does Social Security coordinate with pensions\, retirement accounts\, and other income sources? \nAdvanced planning and informed decision-making can make a meaningful difference. \nIn this free live educational webinar\, we will cover: \n• How Social Security benefits are calculated\n• How claiming age impacts monthly and lifetime income\n• The role of spousal and survivor benefits\n• How Social Security helps address longevity and inflation concerns\n• How benefits coordinate with other retirement income sources\n• Key claiming considerations before filing \nWhether you are single\, married\, divorced\, or widowed\, this session is designed to provide clear\, practical education so you can better understand your options and make informed decisions. \nThis is an educational presentation — NOT a sales event. There is no cost to attend\, and the session is open to the public. \nAttendees will have the opportunity to submit questions during the live webinar. \nReserve your seat today! \nCaidyn Taylor \nJunior Advisor\, CA LIC #4227953 \nOn Behalf of Elisabeth Dawson\nCA LIC #0C72164\, #0G81294 \nP: (619) 640-2622 | F: (619) 640-2600\nW: www.copiawm.com\nE: ctaylor@copiawm.com\nA: 2333 Camino Del Rio South\, Suite 240\, San Diego\, CA 92108 \nThe Greatest Compliment You Can Give Us is the Introduction to a Loved One or a Friend. \nInvestment advice offered through Copia Wealth Management Advisors\, Inc. Copia Wealth Management Advisors\, Inc. is a registered investment advisor.
URL:https://211sandiego.org/event/maximizing-social-security-webinar/2026-03-28/
LOCATION:ZOOM
CATEGORIES:Class, Seminar, Training, or Workshop
ATTACH;FMTTYPE=image/jpeg:https://211sandiego.org/wp-content/uploads/2026/03/MSS-Cover-Page-1-scaled.jpg
ORGANIZER;CN="CopiaWM&amp%3BIS":MAILTO:ctaylor@copiawm.com
END:VEVENT
BEGIN:VEVENT
DTSTART;TZID=America/Los_Angeles:20260328T133000
DTEND;TZID=America/Los_Angeles:20260328T163000
DTSTAMP:20260425T032554
CREATED:20260317T203853Z
LAST-MODIFIED:20260317T203853Z
UID:10003956-1774704600-1774715400@211sandiego.org
SUMMARY:Advances in Endometriosis Care: Modern Solutions\, Real Answers\, Whole-Person Healing
DESCRIPTION:Endometriosis is more than painful\, irregular periods — it is a complex\, often misunderstood disease that can affect fertility\, digestion\, bladder function\, and overall quality of life. An estimated 1 in 10 women of reproductive age are affected\, and many spend years seeking answers. \nIn recognition of Endometriosis Awareness Month\, join Dr. Chandra Spring Robinson\, DO\, FACOG — a minimally invasive gynecologic surgery specialist and robotic endometriosis excision surgeon — for a free educational event on Saturday\, March 28\, focused on modern\, evidence-based care. \nDr. Spring-Robinson will be joined by a panel of multidisciplinary women’s health experts to discuss both surgical and non-surgical approaches to endometriosis care and the importance of coordinated\, whole-person treatment.
URL:https://211sandiego.org/event/advances-in-endometriosis-care-modern-solutions-real-answers-whole-person-healing/
LOCATION:Sharp Prebys Innovation and Education Center\, 8695 Spectrum Center Blvd\, San Diego\, CA\, 92123-1489\, United States
CATEGORIES:Class, Seminar, Training, or Workshop
ATTACH;FMTTYPE=image/png:https://211sandiego.org/wp-content/uploads/2026/03/Endo-1.png
ORGANIZER;CN="Sharp HealthCare":MAILTO:metcom@sharp.com
END:VEVENT
END:VCALENDAR