BEGIN:VCALENDAR
VERSION:2.0
PRODID:-//211 - ECPv6.15.20//NONSGML v1.0//EN
CALSCALE:GREGORIAN
METHOD:PUBLISH
X-WR-CALNAME:211
X-ORIGINAL-URL:https://211sandiego.org
X-WR-CALDESC:Events for 211
REFRESH-INTERVAL;VALUE=DURATION:PT1H
X-Robots-Tag:noindex
X-PUBLISHED-TTL:PT1H
BEGIN:VTIMEZONE
TZID:America/Los_Angeles
BEGIN:DAYLIGHT
TZOFFSETFROM:-0800
TZOFFSETTO:-0700
TZNAME:PDT
DTSTART:20240310T100000
END:DAYLIGHT
BEGIN:STANDARD
TZOFFSETFROM:-0700
TZOFFSETTO:-0800
TZNAME:PST
DTSTART:20241103T090000
END:STANDARD
BEGIN:DAYLIGHT
TZOFFSETFROM:-0800
TZOFFSETTO:-0700
TZNAME:PDT
DTSTART:20250309T100000
END:DAYLIGHT
BEGIN:STANDARD
TZOFFSETFROM:-0700
TZOFFSETTO:-0800
TZNAME:PST
DTSTART:20251102T090000
END:STANDARD
BEGIN:DAYLIGHT
TZOFFSETFROM:-0800
TZOFFSETTO:-0700
TZNAME:PDT
DTSTART:20260308T100000
END:DAYLIGHT
BEGIN:STANDARD
TZOFFSETFROM:-0700
TZOFFSETTO:-0800
TZNAME:PST
DTSTART:20261101T090000
END:STANDARD
END:VTIMEZONE
BEGIN:VEVENT
DTSTART;TZID=America/Los_Angeles:20250227T100000
DTEND;TZID=America/Los_Angeles:20250424T140000
DTSTAMP:20260419T133205
CREATED:20250109T161808Z
LAST-MODIFIED:20250109T161808Z
UID:10001143-1740650400-1745503200@211sandiego.org
SUMMARY:Family Caregiver Education & Respite Care Program
DESCRIPTION:Are you looking for tools to help  you care for your loved one with dementia? Do you need a break from the stress of care giving? Would you like to meet others going through what you are going through? \nJoin us starting on Feb 27th for a 9-week series of classes designed by the Glenner Centers – experts in the dementia care field since 1982. These classes are FREE and FREE respite care will be offered for those who need it. \nTo hear from past class participants and to register\, visit: https://glenner.org/events/family-caregiver-education-respite-care-program/ \n 
URL:https://211sandiego.org/event/family-caregiver-education-respite-care-program/
LOCATION:George G. Glenner Alzheimer’s Family Centers\, Inc.\, 2765 Main St. Ste. A\, Chula Vista\, CA\, 91911\, United States
CATEGORIES:Class, Seminar, Training, or Workshop,Collaborative/Meeting,Support Group
ATTACH;FMTTYPE=image/jpeg:https://211sandiego.org/wp-content/uploads/2025/01/Family-Caregiver-Education-Respite-Care-Program-3-1.jpg
ORGANIZER;CN="George G. Glenner Alzheimer's Family Centers%2C Inc.":MAILTO:dementiacareeducation@glenner.org
END:VEVENT
BEGIN:VEVENT
DTSTART;TZID=America/Los_Angeles:20250326T123000
DTEND;TZID=America/Los_Angeles:20250326T153000
DTSTAMP:20260419T133205
CREATED:20250319T173525Z
LAST-MODIFIED:20250319T173525Z
UID:10001306-1742992200-1743003000@211sandiego.org
SUMMARY:Health and Immigration Policy Implications  Webinar (for Community-Based Workforces)
DESCRIPTION:New immigration policies\, as well as potential cuts to Medicaid\, deeply affect community-based workforces (CBWs) and the communities they serve. These rapidly-changing policies can be confusing\, leaving many unsure how to best navigate these significant threats to health and well-being. The Health Equity Community Collaborative’s Community-Based Workforce Alliance invites you to join us in our upcoming webinar\, where we’ll take a deep dive into the latest updates on immigration policy and Medicaid and examine how these recent and potential changes impact this crucial workforce\, sharing insights and guidance from national and local perspectives. \n  \nDuring this conversation on Wednesday\, March 26\, at 3:30pm ET | 12:30pm PT\, speakers will: \n\nProvide an overview on recent immigration policy changes and proposed Medicaid cuts;\nDiscuss the current and potential impacts on community-based workforces with experts in the field; and\nBrainstorm critical actions and strategies people can take to best support communities  and CBWs amidst changing policies.\n\n  \nWe will also have time to answer your top questions\, so we encourage you to submit your questions in advance using the box on the registration form. \n  \nSpeakers \n\nBrandie Bishop\, CEO\, National Black Doulas Association\nVenus Gines\, CEO and Founder\, Dia de la Mujer Latina y su Familia (Moderator)\n\n  \nMore speakers to be announced this week!
URL:https://211sandiego.org/event/health-and-immigration-policy-implications-webinar-for-community-based-workforces/
LOCATION:Virtual
CATEGORIES:Collaborative/Meeting
END:VEVENT
END:VCALENDAR