BEGIN:VCALENDAR
VERSION:2.0
PRODID:-//211 - ECPv6.15.20//NONSGML v1.0//EN
CALSCALE:GREGORIAN
METHOD:PUBLISH
X-ORIGINAL-URL:https://211sandiego.org
X-WR-CALDESC:Events for 211
REFRESH-INTERVAL;VALUE=DURATION:PT1H
X-Robots-Tag:noindex
X-PUBLISHED-TTL:PT1H
BEGIN:VTIMEZONE
TZID:America/Los_Angeles
BEGIN:DAYLIGHT
TZOFFSETFROM:-0800
TZOFFSETTO:-0700
TZNAME:PDT
DTSTART:20250309T100000
END:DAYLIGHT
BEGIN:STANDARD
TZOFFSETFROM:-0700
TZOFFSETTO:-0800
TZNAME:PST
DTSTART:20251102T090000
END:STANDARD
BEGIN:DAYLIGHT
TZOFFSETFROM:-0800
TZOFFSETTO:-0700
TZNAME:PDT
DTSTART:20260308T100000
END:DAYLIGHT
BEGIN:STANDARD
TZOFFSETFROM:-0700
TZOFFSETTO:-0800
TZNAME:PST
DTSTART:20261101T090000
END:STANDARD
BEGIN:DAYLIGHT
TZOFFSETFROM:-0800
TZOFFSETTO:-0700
TZNAME:PDT
DTSTART:20270314T100000
END:DAYLIGHT
BEGIN:STANDARD
TZOFFSETFROM:-0700
TZOFFSETTO:-0800
TZNAME:PST
DTSTART:20271107T090000
END:STANDARD
END:VTIMEZONE
BEGIN:VEVENT
DTSTART;TZID=America/Los_Angeles:20260210T173000
DTEND;TZID=America/Los_Angeles:20260210T193000
DTSTAMP:20260422T161650
CREATED:20260121T191134Z
LAST-MODIFIED:20260121T191134Z
UID:10003396-1770744600-1770751800@211sandiego.org
SUMMARY:San Ysidro Community Forum
DESCRIPTION:Come join the San Ysidro Education Collaborative and special guest\, District Attorney Summer Stephan. Learn as a family about fentanyl\, consumer fraud\, human trafficking\, and social media safety. These important topics are impacting our community. Learn how to address these issues individually and as a community. All attendees will be entered in a raffle\, and light refreshments will be served. See you all there!
URL:https://211sandiego.org/event/san-ysidro-community-forum/
LOCATION:4919\, 4919 Del Sol Blvd.\, San Diego\, CA\, 92154\, United States
CATEGORIES:Class, Seminar, Training, or Workshop,Collaborative/Meeting,Conference,Support Group
ATTACH;FMTTYPE=image/png:https://211sandiego.org/wp-content/uploads/2026/01/Screenshot-2026-01-14-134016.png
ORGANIZER;CN="San Ysidro Education Collaborative":MAILTO:SYEducation.Collaborative@sysdschools.org
END:VEVENT
END:VCALENDAR