BEGIN:VCALENDAR
VERSION:2.0
PRODID:-//211 - ECPv6.15.20//NONSGML v1.0//EN
CALSCALE:GREGORIAN
METHOD:PUBLISH
X-WR-CALNAME:211
X-ORIGINAL-URL:https://211sandiego.org
X-WR-CALDESC:Events for 211
REFRESH-INTERVAL;VALUE=DURATION:PT1H
X-Robots-Tag:noindex
X-PUBLISHED-TTL:PT1H
BEGIN:VTIMEZONE
TZID:America/Los_Angeles
BEGIN:DAYLIGHT
TZOFFSETFROM:-0800
TZOFFSETTO:-0700
TZNAME:PDT
DTSTART:20250309T100000
END:DAYLIGHT
BEGIN:STANDARD
TZOFFSETFROM:-0700
TZOFFSETTO:-0800
TZNAME:PST
DTSTART:20251102T090000
END:STANDARD
BEGIN:DAYLIGHT
TZOFFSETFROM:-0800
TZOFFSETTO:-0700
TZNAME:PDT
DTSTART:20260308T100000
END:DAYLIGHT
BEGIN:STANDARD
TZOFFSETFROM:-0700
TZOFFSETTO:-0800
TZNAME:PST
DTSTART:20261101T090000
END:STANDARD
BEGIN:DAYLIGHT
TZOFFSETFROM:-0800
TZOFFSETTO:-0700
TZNAME:PDT
DTSTART:20270314T100000
END:DAYLIGHT
BEGIN:STANDARD
TZOFFSETFROM:-0700
TZOFFSETTO:-0800
TZNAME:PST
DTSTART:20271107T090000
END:STANDARD
END:VTIMEZONE
BEGIN:VEVENT
DTSTART;TZID=America/Los_Angeles:20260212T090000
DTEND;TZID=America/Los_Angeles:20260212T110000
DTSTAMP:20260420T113541
CREATED:20260128T224646Z
LAST-MODIFIED:20260128T224646Z
UID:10003413-1770886800-1770894000@211sandiego.org
SUMMARY:Alliance for Regional Solutions February Membership Meeting
DESCRIPTION:We invite you to join us this month for our Alliance Quarterly Membership Meeting. Learn about the work of our committees\, hear what’s new with the Alliance\, and connect with colleagues from organizations across North County. All are Welcome!
URL:https://211sandiego.org/event/alliance-for-regional-solutions-february-membership-meeting/
LOCATION:One Safe Place\, 1048 Los Vallecitos Blvd\, San Marcos\, CA\, United States
CATEGORIES:Collaborative/Meeting
ATTACH;FMTTYPE=image/png:https://211sandiego.org/wp-content/uploads/2026/01/Alliance-for-Regional-Solutions.png
ORGANIZER;CN="Alliance for Regional Solutions":MAILTO:marylynnmccorkle@regionalsolutions.net
GEO:33.142144;-117.187708
X-APPLE-STRUCTURED-LOCATION;VALUE=URI;X-ADDRESS=One Safe Place 1048 Los Vallecitos Blvd San Marcos CA United States;X-APPLE-RADIUS=500;X-TITLE=1048 Los Vallecitos Blvd:geo:-117.187708,33.142144
END:VEVENT
END:VCALENDAR