BEGIN:VCALENDAR
VERSION:2.0
PRODID:-//211 - ECPv6.15.20//NONSGML v1.0//EN
CALSCALE:GREGORIAN
METHOD:PUBLISH
X-ORIGINAL-URL:https://211sandiego.org
X-WR-CALDESC:Events for 211
REFRESH-INTERVAL;VALUE=DURATION:PT1H
X-Robots-Tag:noindex
X-PUBLISHED-TTL:PT1H
BEGIN:VTIMEZONE
TZID:America/Los_Angeles
BEGIN:DAYLIGHT
TZOFFSETFROM:-0800
TZOFFSETTO:-0700
TZNAME:PDT
DTSTART:20240310T100000
END:DAYLIGHT
BEGIN:STANDARD
TZOFFSETFROM:-0700
TZOFFSETTO:-0800
TZNAME:PST
DTSTART:20241103T090000
END:STANDARD
BEGIN:DAYLIGHT
TZOFFSETFROM:-0800
TZOFFSETTO:-0700
TZNAME:PDT
DTSTART:20250309T100000
END:DAYLIGHT
BEGIN:STANDARD
TZOFFSETFROM:-0700
TZOFFSETTO:-0800
TZNAME:PST
DTSTART:20251102T090000
END:STANDARD
BEGIN:DAYLIGHT
TZOFFSETFROM:-0800
TZOFFSETTO:-0700
TZNAME:PDT
DTSTART:20260308T100000
END:DAYLIGHT
BEGIN:STANDARD
TZOFFSETFROM:-0700
TZOFFSETTO:-0800
TZNAME:PST
DTSTART:20261101T090000
END:STANDARD
END:VTIMEZONE
BEGIN:VEVENT
DTSTART;TZID=America/Los_Angeles:20250226T160000
DTEND;TZID=America/Los_Angeles:20250226T190000
DTSTAMP:20260421T160241
CREATED:20250225T225108Z
LAST-MODIFIED:20250225T225108Z
UID:10001252-1740585600-1740596400@211sandiego.org
SUMMARY:Small Business Expo
DESCRIPTION:Somali Family Service is proud to present our first Small Business Expo: The Power of Networking and Partnership. The event will take place on Wednesday February 26\, 4pm – 7pm. This a great opportunity to explore a variety of new business opportunities and enhance professional connections. \n\nExplore new business opportunities\nExpand your professional network\nGet to know the San Diego business landscape
URL:https://211sandiego.org/event/small-business-expo/
LOCATION:Tram Chim Restaurant\, 4350 54th Street\, San Diego\, 92115
CATEGORIES:Class, Seminar, Training, or Workshop,Collaborative/Meeting,Conference
ATTACH;FMTTYPE=image/png:https://211sandiego.org/wp-content/uploads/2025/02/English-somali-family-service-flyer.png
END:VEVENT
BEGIN:VEVENT
DTSTART;TZID=America/Los_Angeles:20250227T100000
DTEND;TZID=America/Los_Angeles:20250424T140000
DTSTAMP:20260421T160241
CREATED:20250109T161808Z
LAST-MODIFIED:20250109T161808Z
UID:10001143-1740650400-1745503200@211sandiego.org
SUMMARY:Family Caregiver Education & Respite Care Program
DESCRIPTION:Are you looking for tools to help  you care for your loved one with dementia? Do you need a break from the stress of care giving? Would you like to meet others going through what you are going through? \nJoin us starting on Feb 27th for a 9-week series of classes designed by the Glenner Centers – experts in the dementia care field since 1982. These classes are FREE and FREE respite care will be offered for those who need it. \nTo hear from past class participants and to register\, visit: https://glenner.org/events/family-caregiver-education-respite-care-program/ \n 
URL:https://211sandiego.org/event/family-caregiver-education-respite-care-program/
LOCATION:George G. Glenner Alzheimer’s Family Centers\, Inc.\, 2765 Main St. Ste. A\, Chula Vista\, CA\, 91911\, United States
CATEGORIES:Class, Seminar, Training, or Workshop,Collaborative/Meeting,Support Group
ATTACH;FMTTYPE=image/jpeg:https://211sandiego.org/wp-content/uploads/2025/01/Family-Caregiver-Education-Respite-Care-Program-3-1.jpg
ORGANIZER;CN="George G. Glenner Alzheimer's Family Centers%2C Inc.":MAILTO:dementiacareeducation@glenner.org
END:VEVENT
BEGIN:VEVENT
DTSTART;TZID=America/Los_Angeles:20250228T110000
DTEND;TZID=America/Los_Angeles:20250228T140000
DTSTAMP:20260421T160241
CREATED:20250102T171101Z
LAST-MODIFIED:20250102T171101Z
UID:10001121-1740740400-1740751200@211sandiego.org
SUMMARY:Waves of Giving Luncheon
DESCRIPTION:Join Southern Caregiver Resource Center at the Waves of Giving Luncheon in honor of National Caregivers Day! \nThis event is an opportunity to unite and strengthen our collective efforts to support family caregivers. Together\, we can bridge the gap in resources and raise crucial funds to assist caregivers along their journey. Enjoy a delicious meal while connecting with fellow advocates and supporters and learn more about the impactful\, free services that SCRC provides to caregivers in our community. Let’s come together to make a lasting impact!
URL:https://211sandiego.org/event/waves-of-giving-luncheon/
LOCATION:1590 Harbor Island Dr.\, 1590 Harbor Island Dr.\, San Diego\, 92101
CATEGORIES:Collaborative/Meeting,Conference,Fundraiser
ATTACH;FMTTYPE=image/png:https://211sandiego.org/wp-content/uploads/2024/12/Web-Banner-A-2.png
END:VEVENT
BEGIN:VEVENT
DTSTART;TZID=America/Los_Angeles:20250301T100000
DTEND;TZID=America/Los_Angeles:20250301T100000
DTSTAMP:20260421T160241
CREATED:20250130T014247Z
LAST-MODIFIED:20250130T014850Z
UID:10001184-1740823200-1740823200@211sandiego.org
SUMMARY:Caregiver Networks Club
DESCRIPTION:2025 Meetings & Events\nWe currently have HYBRID meetings (in person and on ZOOM).  All meeting details will be announced in email. The meetings are usually the FIRST Saturday of every month at 10 AM. Each month we have a different educational guest speaker who comes to educate us about various resources in the community.2025 Schedule:\nCaregiver Networks Club\nSAVE THE DATES:\nSaturday 1/25 @ 10 AM – ZOOM ONLY\nSaturday 2/1 @ 10 AM\nSaturday 3/1 @ 10 AM\nSaturday 4/5 @ 10 AM\nSaturday 5/3 @ 10 AM\nSaturday 6/7 @ 10 AM\nSaturday 7/12 @ 10 AM  (Moved to second sat due to Holiday)\nSaturday 8/2 @ 10 AM\nSaturday 9/6 @ 10 AM\nSaturday 10/4 @ 10 AM*Guest speakers for each month will be announced in email and the Zoom link will be emailed as well.\n* We do not have meetings in November and December.\n​\nAddress:\nCarlsbad Senior Center:\n799 Pine Avenue\,\nCarlsbad\, CA 92008Happy Holidays from\nCaregiver Networks Club!\nonelovingcaregiver@gmail.com
URL:https://211sandiego.org/event/caregiver-networks-club/2025-03-01/
LOCATION:Carlsbad Senior Center\, 799 Pine Ave\, Carlsbad\, CA\, 92008\, United States
CATEGORIES:Collaborative/Meeting
ATTACH;FMTTYPE=image/png:https://211sandiego.org/wp-content/uploads/2025/01/Caregiver-Networks-Club.png
ORGANIZER;CN="Caregiver Networks Club":MAILTO:onelovingcaregiver@gmail.com
GEO:33.159177;-117.343843
X-APPLE-STRUCTURED-LOCATION;VALUE=URI;X-ADDRESS=Carlsbad Senior Center 799 Pine Ave Carlsbad CA 92008 United States;X-APPLE-RADIUS=500;X-TITLE=799 Pine Ave:geo:-117.343843,33.159177
END:VEVENT
END:VCALENDAR