BEGIN:VCALENDAR
VERSION:2.0
PRODID:-//211 - ECPv6.15.20//NONSGML v1.0//EN
CALSCALE:GREGORIAN
METHOD:PUBLISH
X-WR-CALNAME:211
X-ORIGINAL-URL:https://211sandiego.org
X-WR-CALDESC:Events for 211
REFRESH-INTERVAL;VALUE=DURATION:PT1H
X-Robots-Tag:noindex
X-PUBLISHED-TTL:PT1H
BEGIN:VTIMEZONE
TZID:America/Los_Angeles
BEGIN:DAYLIGHT
TZOFFSETFROM:-0800
TZOFFSETTO:-0700
TZNAME:PDT
DTSTART:20240310T100000
END:DAYLIGHT
BEGIN:STANDARD
TZOFFSETFROM:-0700
TZOFFSETTO:-0800
TZNAME:PST
DTSTART:20241103T090000
END:STANDARD
BEGIN:DAYLIGHT
TZOFFSETFROM:-0800
TZOFFSETTO:-0700
TZNAME:PDT
DTSTART:20250309T100000
END:DAYLIGHT
BEGIN:STANDARD
TZOFFSETFROM:-0700
TZOFFSETTO:-0800
TZNAME:PST
DTSTART:20251102T090000
END:STANDARD
BEGIN:DAYLIGHT
TZOFFSETFROM:-0800
TZOFFSETTO:-0700
TZNAME:PDT
DTSTART:20260308T100000
END:DAYLIGHT
BEGIN:STANDARD
TZOFFSETFROM:-0700
TZOFFSETTO:-0800
TZNAME:PST
DTSTART:20261101T090000
END:STANDARD
END:VTIMEZONE
BEGIN:VEVENT
DTSTART;TZID=America/Los_Angeles:20251024T090000
DTEND;TZID=America/Los_Angeles:20251024T130000
DTSTAMP:20260420T093914
CREATED:20251023T143902Z
LAST-MODIFIED:20251023T143902Z
UID:10002822-1761296400-1761310800@211sandiego.org
SUMMARY:Families for Change – East County Annual Awareness Rally
DESCRIPTION:Join the East County Domestic Violence Task Force and the Refugee Domestic Violence Task Force for the Annual Awareness Rally in recognition of Domestic Violence Awareness Month. The event begins with a community march from the El Cajon Police Station to the Prescott Promenade\, followed by a presentation highlighting hope\, healing\, and community support. Participants are encouraged to wear purple in solidarity; signs will be provided\, and personal ones are welcome.
URL:https://211sandiego.org/event/families-for-change-east-county-annual-awareness-rally/
LOCATION:Prescott Promenade\, 200 E Main St\, El Cajon\, CA\, 92020\, United States
CATEGORIES:Collaborative/Meeting
ATTACH;FMTTYPE=image/png:https://211sandiego.org/wp-content/uploads/2025/10/Screenshot-2025-10-07-120804-1.png
ORGANIZER;CN="San Diego Domestic Violence Counsil":MAILTO:sddvc.coordinator@gmail.com
END:VEVENT
END:VCALENDAR