BEGIN:VCALENDAR
VERSION:2.0
PRODID:-//211 - ECPv6.15.20//NONSGML v1.0//EN
CALSCALE:GREGORIAN
METHOD:PUBLISH
X-WR-CALNAME:211
X-ORIGINAL-URL:https://211sandiego.org
X-WR-CALDESC:Events for 211
REFRESH-INTERVAL;VALUE=DURATION:PT1H
X-Robots-Tag:noindex
X-PUBLISHED-TTL:PT1H
BEGIN:VTIMEZONE
TZID:America/Los_Angeles
BEGIN:DAYLIGHT
TZOFFSETFROM:-0800
TZOFFSETTO:-0700
TZNAME:PDT
DTSTART:20240310T100000
END:DAYLIGHT
BEGIN:STANDARD
TZOFFSETFROM:-0700
TZOFFSETTO:-0800
TZNAME:PST
DTSTART:20241103T090000
END:STANDARD
BEGIN:DAYLIGHT
TZOFFSETFROM:-0800
TZOFFSETTO:-0700
TZNAME:PDT
DTSTART:20250309T100000
END:DAYLIGHT
BEGIN:STANDARD
TZOFFSETFROM:-0700
TZOFFSETTO:-0800
TZNAME:PST
DTSTART:20251102T090000
END:STANDARD
BEGIN:DAYLIGHT
TZOFFSETFROM:-0800
TZOFFSETTO:-0700
TZNAME:PDT
DTSTART:20260308T100000
END:DAYLIGHT
BEGIN:STANDARD
TZOFFSETFROM:-0700
TZOFFSETTO:-0800
TZNAME:PST
DTSTART:20261101T090000
END:STANDARD
END:VTIMEZONE
BEGIN:VEVENT
DTSTART;TZID=America/Los_Angeles:20251029T173000
DTEND;TZID=America/Los_Angeles:20251029T193000
DTSTAMP:20260422T235629
CREATED:20251023T143853Z
LAST-MODIFIED:20251023T143853Z
UID:10002823-1761759000-1761766200@211sandiego.org
SUMMARY:Light Up The Night – South Region Domestic Violence Awareness Event
DESCRIPTION:Join the South Region Coalition of the San Diego Domestic Violence Council for Light Up The Night\, an evening of hope\, healing\, and community as we illuminate a world free of domestic violence. This free event features yoga\, food\, self-care activities\, and special guest speakers including Nora Vargas\, Chair of the San Diego County Board of Supervisors; John McCann\, Mayor of Chula Vista; and Chief Kennedy of the Chula Vista Police Department. The evening will conclude with a candlelight vigil to honor survivors and those impacted by domestic violence.
URL:https://211sandiego.org/event/light-up-the-night-south-region-domestic-violence-awareness-event/
LOCATION:Rohr Park\, 4548 Sweetwater Rd\, Bonita\, CA\, 91902\, United States
CATEGORIES:Collaborative/Meeting
ATTACH;FMTTYPE=image/png:https://211sandiego.org/wp-content/uploads/2025/10/Screenshot-2025-10-21-144037.png
ORGANIZER;CN="San Diego Domestic Violence Counsil":MAILTO:sddvc.coordinator@gmail.com
END:VEVENT
BEGIN:VEVENT
DTSTART;TZID=America/Los_Angeles:20251029T173000
DTEND;TZID=America/Los_Angeles:20251029T193000
DTSTAMP:20260422T235629
CREATED:20251027T214913Z
LAST-MODIFIED:20251027T214913Z
UID:10002826-1761759000-1761766200@211sandiego.org
SUMMARY:Free Legal Clinic – Casa Familiar & California Western Community Law Project
DESCRIPTION:Need legal guidance? Join Casa Familiar and the California Western Community Law Project for a free legal clinic offering assistance with a wide range of legal issues\, including employment\, immigration\, family law\, housing\, and more. Spanish-speaking interpreters will be available on site. Appointments are required and space is limited—sign up early to secure your spot. Participants are encouraged to bring any relevant legal documents.
URL:https://211sandiego.org/event/free-legal-clinic-casa-familiar-california-western-community-law-project/
LOCATION:Casa Familiar\, 265 W. Park Ave\, San Ysidro\, CA\, 92173\, United States
CATEGORIES:Collaborative/Meeting,Support Group
ATTACH;FMTTYPE=image/png:https://211sandiego.org/wp-content/uploads/2025/10/Screenshot-2025-07-02-150434.png
ORGANIZER;CN="California Western Community Law Project":MAILTO:operations@uptowncsc.org
END:VEVENT
END:VCALENDAR