BEGIN:VCALENDAR
VERSION:2.0
PRODID:-//211 - ECPv6.15.20//NONSGML v1.0//EN
CALSCALE:GREGORIAN
METHOD:PUBLISH
X-WR-CALNAME:211
X-ORIGINAL-URL:https://211sandiego.org
X-WR-CALDESC:Events for 211
REFRESH-INTERVAL;VALUE=DURATION:PT1H
X-Robots-Tag:noindex
X-PUBLISHED-TTL:PT1H
BEGIN:VTIMEZONE
TZID:America/Los_Angeles
BEGIN:DAYLIGHT
TZOFFSETFROM:-0800
TZOFFSETTO:-0700
TZNAME:PDT
DTSTART:20240310T100000
END:DAYLIGHT
BEGIN:STANDARD
TZOFFSETFROM:-0700
TZOFFSETTO:-0800
TZNAME:PST
DTSTART:20241103T090000
END:STANDARD
BEGIN:DAYLIGHT
TZOFFSETFROM:-0800
TZOFFSETTO:-0700
TZNAME:PDT
DTSTART:20250309T100000
END:DAYLIGHT
BEGIN:STANDARD
TZOFFSETFROM:-0700
TZOFFSETTO:-0800
TZNAME:PST
DTSTART:20251102T090000
END:STANDARD
BEGIN:DAYLIGHT
TZOFFSETFROM:-0800
TZOFFSETTO:-0700
TZNAME:PDT
DTSTART:20260308T100000
END:DAYLIGHT
BEGIN:STANDARD
TZOFFSETFROM:-0700
TZOFFSETTO:-0800
TZNAME:PST
DTSTART:20261101T090000
END:STANDARD
END:VTIMEZONE
BEGIN:VEVENT
DTSTART;VALUE=DATE:20251213
DTEND;VALUE=DATE:20251214
DTSTAMP:20260422T062844
CREATED:20251208T180334Z
LAST-MODIFIED:20251208T180334Z
UID:10003264-1765584000-1765670399@211sandiego.org
SUMMARY:Courage to Call - Holiday Food Market & Toy Giveaway
DESCRIPTION:Courage to Call Holiday Food Market & Toy Giveaway is a free community event for Active Duty service members\, Veterans\, Guard\, Reservists\, and their families. Join us on Saturday\, December 13\, 2025\, at National University in San Diego for holiday food\, free toys\, and community resources. Registration is required\, and local vendors will be on site to help make the season brighter for military families.
URL:https://211sandiego.org/event/courage-to-call-holiday-food-market-toy-giveaway/
LOCATION:National University\, 9388 Lightwave Ave\, San Diego\, CA\, 92123\, United States
CATEGORIES:Distribution Event
ATTACH;FMTTYPE=image/png:https://211sandiego.org/wp-content/uploads/2025/12/Screenshot-2025-12-08-093543.png
ORGANIZER;CN="Courage to Call":MAILTO:couragetocall@turnbhs.org
END:VEVENT
END:VCALENDAR