BEGIN:VCALENDAR
VERSION:2.0
PRODID:-//211 - ECPv6.15.20//NONSGML v1.0//EN
CALSCALE:GREGORIAN
METHOD:PUBLISH
X-ORIGINAL-URL:https://211sandiego.org
X-WR-CALDESC:Events for 211
REFRESH-INTERVAL;VALUE=DURATION:PT1H
X-Robots-Tag:noindex
X-PUBLISHED-TTL:PT1H
BEGIN:VTIMEZONE
TZID:America/Los_Angeles
BEGIN:DAYLIGHT
TZOFFSETFROM:-0800
TZOFFSETTO:-0700
TZNAME:PDT
DTSTART:20240310T100000
END:DAYLIGHT
BEGIN:STANDARD
TZOFFSETFROM:-0700
TZOFFSETTO:-0800
TZNAME:PST
DTSTART:20241103T090000
END:STANDARD
BEGIN:DAYLIGHT
TZOFFSETFROM:-0800
TZOFFSETTO:-0700
TZNAME:PDT
DTSTART:20250309T100000
END:DAYLIGHT
BEGIN:STANDARD
TZOFFSETFROM:-0700
TZOFFSETTO:-0800
TZNAME:PST
DTSTART:20251102T090000
END:STANDARD
BEGIN:DAYLIGHT
TZOFFSETFROM:-0800
TZOFFSETTO:-0700
TZNAME:PDT
DTSTART:20260308T100000
END:DAYLIGHT
BEGIN:STANDARD
TZOFFSETFROM:-0700
TZOFFSETTO:-0800
TZNAME:PST
DTSTART:20261101T090000
END:STANDARD
END:VTIMEZONE
BEGIN:VEVENT
DTSTART;TZID=America/Los_Angeles:20251203T100000
DTEND;TZID=America/Los_Angeles:20251203T150000
DTSTAMP:20260422T153416
CREATED:20241127T232907Z
LAST-MODIFIED:20250221T184053Z
UID:10000791-1764756000-1764774000@211sandiego.org
SUMMARY:Monthly Community Health & Resource Fair
DESCRIPTION:This monthly event provides FREE services and resources to everyone.  There is health screening for blood pressure\, blood sugar\, diabetes\, cholesterol\, HIV\, and Hep C.  Medical education and medical consultation by medical providers.  Free breast exams and mammogram sign-ups are available. Free vaccines (Flu and COVID-19)\, and low-cost pet services are offered by the San Diego Humane Society.  FREE fresh produce and food distribution along with opportunity drawings and prizes given to participants.
URL:https://211sandiego.org/event/monthly-community-health-resource-fair/2025-12-03/
LOCATION:Jackie Robinson YMCA\, 151 YMCA Way\, San Diego\, CA\, 92102\, United States
CATEGORIES:Resource Fair
ATTACH;FMTTYPE=image/jpeg:https://211sandiego.org/wp-content/uploads/2024/11/YMCA-Jackie-Robinson-Resource-Fair-Flyer.jpg
ORGANIZER;CN="A Healthier Me":MAILTO:infoahealthierme@gmail.com
GEO:32.716221;-117.117058
X-APPLE-STRUCTURED-LOCATION;VALUE=URI;X-ADDRESS=Jackie Robinson YMCA 151 YMCA Way San Diego CA 92102 United States;X-APPLE-RADIUS=500;X-TITLE=151 YMCA Way:geo:-117.117058,32.716221
END:VEVENT
BEGIN:VEVENT
DTSTART;TZID=America/Los_Angeles:20251206T090000
DTEND;TZID=America/Los_Angeles:20251206T133000
DTSTAMP:20260422T153416
CREATED:20251201T174032Z
LAST-MODIFIED:20251201T174032Z
UID:10003247-1765011600-1765027800@211sandiego.org
SUMMARY:Golden Future Senior Expo – San Diego Edition
DESCRIPTION:🎉 15 Years of Fun\, Learning & Connection – and We’re Just Getting Started! 🎉 \nSeniors\, get ready for the BIGGEST and BEST Golden Future Senior Expo yet! This 15th Anniversary milestone event is packed with exciting exhibitors\, engaging activities\, and amazing giveaways—all designed just for YOU! \n📅 Date: Saturday\, December 6th 2025\n📍 Location: Handlery Hotel (950 Hotel Circle North\, San Diego\, CA 92108)\n⏰ Time: 9am – 1:30pm\n🎟 ADMISSION & PARKING: FREE!What’s waiting for you? \n🌟 Golden Ticket Giveaway – Win Big! 🌟! Every attendee will receive a 15TH Anniversary Special Edition Tote Bag. 5 Golden Tickets will be randomly placed in the tote bags. Five Lucky Winners will take home a $100 Gift Card! Will YOU be the lucky one? \n✨ Incredible Exhibitors – Explore the latest in health\, finances\, lifestyle\, and much more!🩺 Free Health Screenings – Stay on top of your wellness.\n💰 Financial & Retirement Advice – Plan your Golden Years like a pro!\n🎶 Live Entertainment & Activities – Music\, games\, and fun to keep you smiling.\n🎁 Giveaways & Prizes – Because who doesn’t love free stuff?\n💡 Educational Seminars & Workshops – Get expert advice on on aging related topics!\n👫 Meet New Friends & Connect – Discover local resources and expand your social circle!🛍️ Shop & Explore – Discover senior-friendly products and services.\n💇‍♂️💇‍♀️ FREE Haircuts and Makeovers! – Look your best with a fresh new style! \nFor 15 years\, we’ve been bringing seniors the best in health\, wellness\, lifestyle\, and fun—so let’s celebrate! Bring your friends\, family\, and curiosity for a day full of excitement and inspiration! \n🎊Pre-Register Today and don’t miss this once-per-year event in San Diego! \nNot internet savvy? No problem! You can register at the door. This event is open to the general public and our goal is to bring another great event to SoCal Baby Boomers\, Seniors\, Caregivers\, and Friends/Family. \nVisit our website\, www.GoldenFutureSeniorExpo.com approximately 5 days before the event to view the complete event schedule. \nInterested in reserving a booth? Contact us directly at 805-716-3303 or e-mail us at info@goldenfutureexpos.com.
URL:https://211sandiego.org/event/golden-future-senior-expo-san-diego-edition/
LOCATION:Handlery Hotel\, 950 Hotel Circle North\, San Diego\, CA\, 92108\, United States
CATEGORIES:Resource Fair
ATTACH;FMTTYPE=image/png:https://211sandiego.org/wp-content/uploads/2025/11/Facebook-Cover-San-Diego.png
ORGANIZER;CN="Live Well San Diego":MAILTO:HCDS.HHSA@sdcounty.ca.gov
END:VEVENT
END:VCALENDAR