BEGIN:VCALENDAR
VERSION:2.0
PRODID:-//211 - ECPv6.15.20//NONSGML v1.0//EN
CALSCALE:GREGORIAN
METHOD:PUBLISH
X-WR-CALNAME:211
X-ORIGINAL-URL:https://211sandiego.org
X-WR-CALDESC:Events for 211
REFRESH-INTERVAL;VALUE=DURATION:PT1H
X-Robots-Tag:noindex
X-PUBLISHED-TTL:PT1H
BEGIN:VTIMEZONE
TZID:America/Los_Angeles
BEGIN:DAYLIGHT
TZOFFSETFROM:-0800
TZOFFSETTO:-0700
TZNAME:PDT
DTSTART:20240310T100000
END:DAYLIGHT
BEGIN:STANDARD
TZOFFSETFROM:-0700
TZOFFSETTO:-0800
TZNAME:PST
DTSTART:20241103T090000
END:STANDARD
BEGIN:DAYLIGHT
TZOFFSETFROM:-0800
TZOFFSETTO:-0700
TZNAME:PDT
DTSTART:20250309T100000
END:DAYLIGHT
BEGIN:STANDARD
TZOFFSETFROM:-0700
TZOFFSETTO:-0800
TZNAME:PST
DTSTART:20251102T090000
END:STANDARD
BEGIN:DAYLIGHT
TZOFFSETFROM:-0800
TZOFFSETTO:-0700
TZNAME:PDT
DTSTART:20260308T100000
END:DAYLIGHT
BEGIN:STANDARD
TZOFFSETFROM:-0700
TZOFFSETTO:-0800
TZNAME:PST
DTSTART:20261101T090000
END:STANDARD
END:VTIMEZONE
BEGIN:VEVENT
DTSTART;TZID=America/Los_Angeles:20250725T100000
DTEND;TZID=America/Los_Angeles:20250725T130000
DTSTAMP:20260422T221225
CREATED:20250708T163813Z
LAST-MODIFIED:20250708T163813Z
UID:10002251-1753437600-1753448400@211sandiego.org
SUMMARY:FREE document shredding event with AARP
DESCRIPTION:Join AARP California for the San Diego Scam Jam Tour with FREE Fraud Prevention Presentations\, Shred Events\, and Cybersecurity Workshops throughout the county this summer!  Protect yourself from identify theft by bringing your personal or financial documents to be shred on-site – up to three boxes per person.  You don’t need to be an AARP member to participate\, but registration is required.
URL:https://211sandiego.org/event/free-document-shredding-event-with-aarp/
LOCATION:El Corazon Senior Center\, 3302 Senior Center Drive\, Oceanside\, 92056
CATEGORIES:Resource Fair
ATTACH;FMTTYPE=image/jpeg:https://211sandiego.org/wp-content/uploads/2025/07/Shred-Event.jpg
ORGANIZER;CN="AARP":MAILTO:vcardenas@aarp.org
END:VEVENT
END:VCALENDAR