BEGIN:VCALENDAR
VERSION:2.0
PRODID:-//211 - ECPv6.15.20//NONSGML v1.0//EN
CALSCALE:GREGORIAN
METHOD:PUBLISH
X-ORIGINAL-URL:https://211sandiego.org
X-WR-CALDESC:Events for 211
REFRESH-INTERVAL;VALUE=DURATION:PT1H
X-Robots-Tag:noindex
X-PUBLISHED-TTL:PT1H
BEGIN:VTIMEZONE
TZID:America/Los_Angeles
BEGIN:DAYLIGHT
TZOFFSETFROM:-0800
TZOFFSETTO:-0700
TZNAME:PDT
DTSTART:20250309T100000
END:DAYLIGHT
BEGIN:STANDARD
TZOFFSETFROM:-0700
TZOFFSETTO:-0800
TZNAME:PST
DTSTART:20251102T090000
END:STANDARD
BEGIN:DAYLIGHT
TZOFFSETFROM:-0800
TZOFFSETTO:-0700
TZNAME:PDT
DTSTART:20260308T100000
END:DAYLIGHT
BEGIN:STANDARD
TZOFFSETFROM:-0700
TZOFFSETTO:-0800
TZNAME:PST
DTSTART:20261101T090000
END:STANDARD
BEGIN:DAYLIGHT
TZOFFSETFROM:-0800
TZOFFSETTO:-0700
TZNAME:PDT
DTSTART:20270314T100000
END:DAYLIGHT
BEGIN:STANDARD
TZOFFSETFROM:-0700
TZOFFSETTO:-0800
TZNAME:PST
DTSTART:20271107T090000
END:STANDARD
END:VTIMEZONE
BEGIN:VEVENT
DTSTART;TZID=America/Los_Angeles:20260221T130000
DTEND;TZID=America/Los_Angeles:20260221T160000
DTSTAMP:20260420T000333
CREATED:20260121T191110Z
LAST-MODIFIED:20260121T191110Z
UID:10003399-1771678800-1771689600@211sandiego.org
SUMMARY:Step Inside STEM (science\, technology\, engineering\, and math)
DESCRIPTION:This FREE Family event will have fun science experiments for all ages. \nFUN Science experiments for children and adults! \nMEET San Diego STEM experts and participate in hands-on activities in ecology\, physics\, chemistry\, and more STEM labs & Community Partners. \nLEARN about our camps\, afterschool\, and Saturday STEM programs and all the happenings here at EIS. \nENTER A RAFFLE to win gifts\, goodies\, and museum tickets during event! \nDate: February 21st \nTime: 1:00 – 4:-00 PM \nAddress: 608 51st Street\, San Diego\, 92114 . Located across from Market Street Plaza and the Euclid Transit Station.
URL:https://211sandiego.org/event/step-inside-stem-science-technology-engineering-and-math/
LOCATION:Elementary Institute of Science(EIS)\, 608 51st Street\, San Diego\, 92114\, United States
CATEGORIES:Resource Fair
ATTACH;FMTTYPE=image/png:https://211sandiego.org/wp-content/uploads/2026/01/event-banner-for-2026-open-house.png
ORGANIZER;CN="Elementary Institute of Science":MAILTO:info@eisa.org
END:VEVENT
BEGIN:VEVENT
DTSTART;TZID=America/Los_Angeles:20260222T100000
DTEND;TZID=America/Los_Angeles:20260222T130000
DTSTAMP:20260420T000333
CREATED:20260121T191118Z
LAST-MODIFIED:20260121T191118Z
UID:10003398-1771754400-1771765200@211sandiego.org
SUMMARY:San Diego Family’s FREE Family Fun Fest!
DESCRIPTION:Join San Diego Family on Sunday\, February 22\, from 10 AM to 1 PM at the Salvation Army Kroc Center Corner Zone (6845 University Ave.\, San Diego\, 92115) for a morning of hands-on fun\, exploration and family-friendly excitement. \nBring the kids and invite your friends for a FREE interactive experience packed with nonstop play and access to helpful resources for families across San Diego. \nChildren will enjoy a wide variety of activity stations\, including:\n• Inflatable obstacle course\n• Zipline\n• Bounce house\n• Themed crafts\n…and more! \nBe sure to check out the FREE kids’ raffle featuring exciting prizes. Connect with vendors offering valuable programs\, services and resources for families. \nAdmission is free. Reserve your tickets today!\nWe can’t wait to see you there!
URL:https://211sandiego.org/event/san-diego-familys-free-family-fun-fest/
LOCATION:Salvation Army Kroc Center Corner Zone\, 6845 University Ave\, San Diego\, CA\, 92115\, United States
CATEGORIES:Resource Fair
ATTACH;FMTTYPE=image/jpeg:https://211sandiego.org/wp-content/uploads/2026/01/FFF-Facebook-Cover-820x360-1.jpg
ORGANIZER;CN="San Diego Family":MAILTO:family@sandiegofamily.com
END:VEVENT
END:VCALENDAR