BEGIN:VCALENDAR
VERSION:2.0
PRODID:-//211 - ECPv6.15.20//NONSGML v1.0//EN
CALSCALE:GREGORIAN
METHOD:PUBLISH
X-WR-CALNAME:211
X-ORIGINAL-URL:https://211sandiego.org
X-WR-CALDESC:Events for 211
REFRESH-INTERVAL;VALUE=DURATION:PT1H
X-Robots-Tag:noindex
X-PUBLISHED-TTL:PT1H
BEGIN:VTIMEZONE
TZID:America/Los_Angeles
BEGIN:DAYLIGHT
TZOFFSETFROM:-0800
TZOFFSETTO:-0700
TZNAME:PDT
DTSTART:20250309T100000
END:DAYLIGHT
BEGIN:STANDARD
TZOFFSETFROM:-0700
TZOFFSETTO:-0800
TZNAME:PST
DTSTART:20251102T090000
END:STANDARD
BEGIN:DAYLIGHT
TZOFFSETFROM:-0800
TZOFFSETTO:-0700
TZNAME:PDT
DTSTART:20260308T100000
END:DAYLIGHT
BEGIN:STANDARD
TZOFFSETFROM:-0700
TZOFFSETTO:-0800
TZNAME:PST
DTSTART:20261101T090000
END:STANDARD
BEGIN:DAYLIGHT
TZOFFSETFROM:-0800
TZOFFSETTO:-0700
TZNAME:PDT
DTSTART:20270314T100000
END:DAYLIGHT
BEGIN:STANDARD
TZOFFSETFROM:-0700
TZOFFSETTO:-0800
TZNAME:PST
DTSTART:20271107T090000
END:STANDARD
END:VTIMEZONE
BEGIN:VEVENT
DTSTART;TZID=America/Los_Angeles:20260110T120000
DTEND;TZID=America/Los_Angeles:20260110T150000
DTSTAMP:20260420T002703
CREATED:20251215T173724Z
LAST-MODIFIED:20251215T173724Z
UID:10003268-1768046400-1768057200@211sandiego.org
SUMMARY:San Diego Fixit Clinic at San Ysidro Library
DESCRIPTION:Fix your broken items for free\, and learn new skills. Join the San Diego Fixit Clinic at the San Ysidro Library on Saturday\, January 10th\, from noon to 3:00 PM. Bring the whole family and learn to fix your stuff together. First come\, first served! \nLearn how to:\n• Fix broken appliances and gadgets\n• Repair road and mountain bikes\n• Mend your favorite outfit
URL:https://211sandiego.org/event/san-diego-fixit-clinic-at-san-ysidro-library/
LOCATION:San Ysidro Library\, 4235 Beyer Blvd\, San Diego\, CA\, 92173\, United States
CATEGORIES:Class, Seminar, Training, or Workshop,Volunteer Event
ATTACH;FMTTYPE=image/png:https://211sandiego.org/wp-content/uploads/2025/12/SD-City-Draft-1.png
ORGANIZER;CN="Zero Waste San Diego":MAILTO:contact@zerowastesandiego.org
GEO:32.759751;-117.248883
X-APPLE-STRUCTURED-LOCATION;VALUE=URI;X-ADDRESS=San Ysidro Library 4235 Beyer Blvd San Diego CA 92173 United States;X-APPLE-RADIUS=500;X-TITLE=4235 Beyer Blvd:geo:-117.248883,32.759751
END:VEVENT
END:VCALENDAR