BEGIN:VCALENDAR
VERSION:2.0
PRODID:-//211 - ECPv6.15.20//NONSGML v1.0//EN
CALSCALE:GREGORIAN
METHOD:PUBLISH
X-ORIGINAL-URL:https://211sandiego.org
X-WR-CALDESC:Events for 211
REFRESH-INTERVAL;VALUE=DURATION:PT1H
X-Robots-Tag:noindex
X-PUBLISHED-TTL:PT1H
BEGIN:VTIMEZONE
TZID:America/Los_Angeles
BEGIN:DAYLIGHT
TZOFFSETFROM:-0800
TZOFFSETTO:-0700
TZNAME:PDT
DTSTART:20250309T100000
END:DAYLIGHT
BEGIN:STANDARD
TZOFFSETFROM:-0700
TZOFFSETTO:-0800
TZNAME:PST
DTSTART:20251102T090000
END:STANDARD
BEGIN:DAYLIGHT
TZOFFSETFROM:-0800
TZOFFSETTO:-0700
TZNAME:PDT
DTSTART:20260308T100000
END:DAYLIGHT
BEGIN:STANDARD
TZOFFSETFROM:-0700
TZOFFSETTO:-0800
TZNAME:PST
DTSTART:20261101T090000
END:STANDARD
BEGIN:DAYLIGHT
TZOFFSETFROM:-0800
TZOFFSETTO:-0700
TZNAME:PDT
DTSTART:20270314T100000
END:DAYLIGHT
BEGIN:STANDARD
TZOFFSETFROM:-0700
TZOFFSETTO:-0800
TZNAME:PST
DTSTART:20271107T090000
END:STANDARD
END:VTIMEZONE
BEGIN:VEVENT
DTSTART;TZID=America/Los_Angeles:20260530T110000
DTEND;TZID=America/Los_Angeles:20260530T140000
DTSTAMP:20260422T144726
CREATED:20260420T162957Z
LAST-MODIFIED:20260420T162957Z
UID:10004094-1780138800-1780149600@211sandiego.org
SUMMARY:San Diego Fixit Clinic in Loma Verde Recreation Center
DESCRIPTION:Join the San Diego Fixit Clinic on May 30th at the Loma Verde Recreation Center from 11 AM – 2 PM. Fixit Coaches are ready to help repair your stuff. First come first served! \nLearn how to: \n\n Mend your favorite outfit\n Repair road and mountain bikes\n Fix lighting\, gadgets\, and small appliances\n\nSpace is limited. RSVP today 👉bit.ly/SDFC_ChulaVista
URL:https://211sandiego.org/event/san-diego-fixit-clinic-in-loma-verde-recreation-center/
LOCATION:Loma Verde Recreation Center\, 1420 Loma Ln\, Chula Vista\, CA\, 91911\, United States
CATEGORIES:Class, Seminar, Training, or Workshop,Collaborative/Meeting,Volunteer Event
ATTACH;FMTTYPE=image/png:https://211sandiego.org/wp-content/uploads/2026/04/4.png
ORGANIZER;CN="San Diego Fixit Clinic":MAILTO:sdfixitclinic@gmail.com
END:VEVENT
END:VCALENDAR