BEGIN:VCALENDAR
VERSION:2.0
PRODID:-//211 - ECPv6.15.20//NONSGML v1.0//EN
CALSCALE:GREGORIAN
METHOD:PUBLISH
X-WR-CALNAME:211
X-ORIGINAL-URL:https://211sandiego.org
X-WR-CALDESC:Events for 211
REFRESH-INTERVAL;VALUE=DURATION:PT1H
X-Robots-Tag:noindex
X-PUBLISHED-TTL:PT1H
BEGIN:VTIMEZONE
TZID:America/Los_Angeles
BEGIN:DAYLIGHT
TZOFFSETFROM:-0800
TZOFFSETTO:-0700
TZNAME:PDT
DTSTART:20240310T100000
END:DAYLIGHT
BEGIN:STANDARD
TZOFFSETFROM:-0700
TZOFFSETTO:-0800
TZNAME:PST
DTSTART:20241103T090000
END:STANDARD
BEGIN:DAYLIGHT
TZOFFSETFROM:-0800
TZOFFSETTO:-0700
TZNAME:PDT
DTSTART:20250309T100000
END:DAYLIGHT
BEGIN:STANDARD
TZOFFSETFROM:-0700
TZOFFSETTO:-0800
TZNAME:PST
DTSTART:20251102T090000
END:STANDARD
BEGIN:DAYLIGHT
TZOFFSETFROM:-0800
TZOFFSETTO:-0700
TZNAME:PDT
DTSTART:20260308T100000
END:DAYLIGHT
BEGIN:STANDARD
TZOFFSETFROM:-0700
TZOFFSETTO:-0800
TZNAME:PST
DTSTART:20261101T090000
END:STANDARD
END:VTIMEZONE
BEGIN:VEVENT
DTSTART;TZID=America/Los_Angeles:20251206T160000
DTEND;TZID=America/Los_Angeles:20251206T170000
DTSTAMP:20260425T051549
CREATED:20251208T165426Z
LAST-MODIFIED:20251208T165426Z
UID:10003260-1765036800-1765040400@211sandiego.org
SUMMARY:Recital & Book Signing
DESCRIPTION:Join award-winning violinist Annelle K. Gregory for an afternoon of romantic violin & piano music and a celebration of her newly released book!  The program includes the beloved 𝑺𝒄𝒐𝒕𝒕𝒊𝒔𝒉 𝑭𝒂𝒏𝒕𝒂𝒔𝒚 as well as the classic favorite 𝑾𝒊𝒏𝒕𝒆𝒓 from The Four Seasons.\nJoining Annelle will be brilliant pianist Oksana Stock\, Annelle’s longtime friend and collaborator.\nBe sure to stay for champagne and goodies afterward!  Annelle will be signing CDs and books.\n\nGeneral admission: $25Students: $15
URL:https://211sandiego.org/event/recital-book-signing/
LOCATION:Good Samaritan Episcopal Church\, 4321 Eastgate Mall\, San Diego\, CA\, 92121\, United States
ATTACH;FMTTYPE=image/jpeg:https://211sandiego.org/wp-content/uploads/2025/12/2025-12-06_flyer.jpg
ORGANIZER;CN="Annelle K. Gregory":MAILTO:info@annelleviolin.com
END:VEVENT
END:VCALENDAR