BEGIN:VCALENDAR
VERSION:2.0
PRODID:-//211 - ECPv6.15.20//NONSGML v1.0//EN
CALSCALE:GREGORIAN
METHOD:PUBLISH
X-ORIGINAL-URL:https://211sandiego.org
X-WR-CALDESC:Events for 211
REFRESH-INTERVAL;VALUE=DURATION:PT1H
X-Robots-Tag:noindex
X-PUBLISHED-TTL:PT1H
BEGIN:VTIMEZONE
TZID:America/Los_Angeles
BEGIN:DAYLIGHT
TZOFFSETFROM:-0800
TZOFFSETTO:-0700
TZNAME:PDT
DTSTART:20250309T100000
END:DAYLIGHT
BEGIN:STANDARD
TZOFFSETFROM:-0700
TZOFFSETTO:-0800
TZNAME:PST
DTSTART:20251102T090000
END:STANDARD
BEGIN:DAYLIGHT
TZOFFSETFROM:-0800
TZOFFSETTO:-0700
TZNAME:PDT
DTSTART:20260308T100000
END:DAYLIGHT
BEGIN:STANDARD
TZOFFSETFROM:-0700
TZOFFSETTO:-0800
TZNAME:PST
DTSTART:20261101T090000
END:STANDARD
BEGIN:DAYLIGHT
TZOFFSETFROM:-0800
TZOFFSETTO:-0700
TZNAME:PDT
DTSTART:20270314T100000
END:DAYLIGHT
BEGIN:STANDARD
TZOFFSETFROM:-0700
TZOFFSETTO:-0800
TZNAME:PST
DTSTART:20271107T090000
END:STANDARD
END:VTIMEZONE
BEGIN:VEVENT
DTSTART;TZID=America/Los_Angeles:20260502T100000
DTEND;TZID=America/Los_Angeles:20260502T130000
DTSTAMP:20260421T070012
CREATED:20260420T163007Z
LAST-MODIFIED:20260420T163007Z
UID:10004089-1777716000-1777726800@211sandiego.org
SUMMARY:San Diego Fixit at La Mesa Library
DESCRIPTION:Join neighbors helping neighbors fix items together at the San Diego Fixit Clinic at La Mesa Branch Library on May 2\, 2026\, from 10 AM to 1 PM Pacific. It’s first-come\, first-served! \nLearn how to: \n\n Fix broken appliances and gadgets \n Repair road and mountain bikes\n Mend your favorite outfit\n\nSign up for this community event: https://bit.ly/SDFC-LaMesa
URL:https://211sandiego.org/event/san-diego-fixit-at-la-mesa-library/
LOCATION:La Mesa Library\, 8074 Allison Ave\, La Mesa\, CA\, 91942\, United States
CATEGORIES:Class, Seminar, Training, or Workshop,Collaborative/Meeting,Volunteer Event
ATTACH;FMTTYPE=image/png:https://211sandiego.org/wp-content/uploads/2026/04/5-1-scaled.png
ORGANIZER;CN="San Diego Fixit Clinic":MAILTO:sdfixitclinic@gmail.com
END:VEVENT
BEGIN:VEVENT
DTSTART;TZID=America/Los_Angeles:20260503T110000
DTEND;TZID=America/Los_Angeles:20260503T140000
DTSTAMP:20260421T070012
CREATED:20260420T163004Z
LAST-MODIFIED:20260420T163004Z
UID:10004091-1777806000-1777816800@211sandiego.org
SUMMARY:San Diego Fixit at Golden Hill Community Clubhouse
DESCRIPTION:There is a better way than throw-away. Join the San Diego Fixit Clinic at the Golden Hill Community Clubhouse on Sunday\, May 3rd\, from 11:00 AM to 2:00 PM. Bring the whole family and learn to fix your stuff together. First-come\, first-served! \nLearn how to: \n\n Fix broken appliances and gadgets \n Repair road and mountain bikes\n Mend your favorite outfit\n\nFree to the public\, register today: https://events.humanitix.com/sdfixitclinic
URL:https://211sandiego.org/event/san-diego-fixit-at-golden-hill-community-clubhouse/
LOCATION:Golden Hill Community Clubhouse\, 2646 Russ Blvd\, San Diego\, CA\, 92102\, United States
CATEGORIES:Class, Seminar, Training, or Workshop,Collaborative/Meeting,Volunteer Event
ATTACH;FMTTYPE=image/png:https://211sandiego.org/wp-content/uploads/2026/04/SD-City-Draft-1-1.png
ORGANIZER;CN="San Diego Fixit Clinic":MAILTO:sdfixitclinic@gmail.com
END:VEVENT
BEGIN:VEVENT
DTSTART;TZID=America/Los_Angeles:20260503T110000
DTEND;TZID=America/Los_Angeles:20260503T140000
DTSTAMP:20260421T070012
CREATED:20260420T163005Z
LAST-MODIFIED:20260420T163005Z
UID:10004090-1777806000-1777816800@211sandiego.org
SUMMARY:San Diego Fixit at Golden Hill Community Clubhouse
DESCRIPTION:Don’t toss it; fix it! Join the San Diego Fixit Clinic at the Golden Hill Community Clubhouse on Sunday\, May 3rd\, from 11:00 AM to 2:00 PM. Fix your items for free\, first come\, first served. \nWe’ll provide work-space\, specialty tools\, and guidance to help you disassemble and troubleshoot your item and it’s all free\, though we welcome donations to keep the movement growing! \nWhether we fix it or not\, you’ll learn more about how it was manufactured and how it worked while trusting it won’t end up in a landfill. \nFree to the public\, register today: https://events.humanitix.com/sdfixitclinic \nInterested in volunteering with SD Fix-it? Click on this link to fill out an application: https://goo.gl/forms/hamhNwfU8rlEBbw33
URL:https://211sandiego.org/event/san-diego-fixit-at-golden-hill-community-clubhouse-2/
LOCATION:Golden Hill Community Clubhouse\, 2646 Russ Blvd\, San Diego\, CA\, 92102\, United States
CATEGORIES:Class, Seminar, Training, or Workshop,Collaborative/Meeting,Volunteer Event
ATTACH;FMTTYPE=image/png:https://211sandiego.org/wp-content/uploads/2026/04/SD-City-Draft-1.png
ORGANIZER;CN="San Diego Fixit Clinic":MAILTO:sdfixitclinic@gmail.com
END:VEVENT
BEGIN:VEVENT
DTSTART;TZID=America/Los_Angeles:20260509T120000
DTEND;TZID=America/Los_Angeles:20260509T150000
DTSTAMP:20260421T070012
CREATED:20260420T163001Z
LAST-MODIFIED:20260420T163001Z
UID:10004092-1778328000-1778338800@211sandiego.org
SUMMARY:San Diego Fixit Clinic at Park de La Cruz Rec Center
DESCRIPTION:Don’t toss it; fix it! Join the San Diego Fixit Clinic at the Park de La Cruz on Saturday\, May 9th\, from 12:00 to 3:00 PM. Fix your items for free\, first come\, first served. \nWe’ll provide work-space\, specialty tools\, and guidance to help you disassemble and troubleshoot your item and it’s all free\, though we welcome donations to keep the movement growing! \nWhether we fix it or not\, you’ll learn more about how it was manufactured and how it worked while trusting it won’t end up in a landfill. \nFree to the public\, register today: https://events.humanitix.com/sdfixitclinic \nInterested in volunteering with SD Fix-it? Click on this link to fill out an application: https://goo.gl/forms/hamhNwfU8rlEBbw33
URL:https://211sandiego.org/event/san-diego-fixit-clinic-at-park-de-la-cruz-rec-center/
LOCATION:Park de la Cruz Recreation Center\, 3901 Landis Street\, San Diego\, CA\, 92105\, United States
CATEGORIES:Class, Seminar, Training, or Workshop,Collaborative/Meeting,Volunteer Event
ATTACH;FMTTYPE=image/png:https://211sandiego.org/wp-content/uploads/2026/04/SD-City-Draft-1-2.png
ORGANIZER;CN="San Diego Fixit Clinic":MAILTO:sdfixitclinic@gmail.com
END:VEVENT
BEGIN:VEVENT
DTSTART;TZID=America/Los_Angeles:20260516T120000
DTEND;TZID=America/Los_Angeles:20260516T150000
DTSTAMP:20260421T070012
CREATED:20260420T162959Z
LAST-MODIFIED:20260420T162959Z
UID:10004093-1778932800-1778943600@211sandiego.org
SUMMARY:San Diego Fixit Clinic at Mission Valley Library
DESCRIPTION:Don’t toss it; fix it! Join the San Diego Fixit Clinic at the Mission Valley Library on Saturday\, May 16th\, from 12:00 to 3:00 PM. Fix your items for free\, first come\, first served. \nWe’ll provide work-space\, specialty tools\, and guidance to help you disassemble and troubleshoot your item and it’s all free\, though we welcome donations to keep the movement growing! \nWhether we fix it or not\, you’ll learn more about how it was manufactured and how it worked while trusting it won’t end up in a landfill. \nFree to the public\, register today: https://events.humanitix.com/sdfixitclinic \nInterested in volunteering with SD Fix-it? Click on this link to fill out an application: https://goo.gl/forms/hamhNwfU8rlEBbw33
URL:https://211sandiego.org/event/san-diego-fixit-clinic-at-mission-valley-library/
LOCATION:Mission Valley Library\, 2123 Fenton Parkway San Diego\, San Diego\, CA\, 92108\, United States
CATEGORIES:Class, Seminar, Training, or Workshop,Collaborative/Meeting,Volunteer Event
ATTACH;FMTTYPE=image/png:https://211sandiego.org/wp-content/uploads/2026/04/SD-City-Draft-1-3.png
ORGANIZER;CN="San Diego Fixit Clinic":MAILTO:sdfixitclinic@gmail.com
END:VEVENT
BEGIN:VEVENT
DTSTART;TZID=America/Los_Angeles:20260520T130000
DTEND;TZID=America/Los_Angeles:20260520T140000
DTSTAMP:20260421T070012
CREATED:20260413T182650Z
LAST-MODIFIED:20260413T182650Z
UID:10004072-1779282000-1779285600@211sandiego.org
SUMMARY:Fraud and Scam Prevention For Family Caregivers
DESCRIPTION:Did you know that there are different types of scams that target different populations? \nJoin us virtually to learn more facts about fraud and scams\, what to do or who to contact in case you or your care-receiver are a victim of a scam\, and how to reduce the risk of being scammed. \nWednesday\, May 20th \n1-2 p.m. PST \nRegister here: www.caregivercenter.org/MaySCRC
URL:https://211sandiego.org/event/fraud-and-scam-prevention-for-family-caregivers/
LOCATION:Virtual
CATEGORIES:Class, Seminar, Training, or Workshop
ATTACH;FMTTYPE=image/png:https://211sandiego.org/wp-content/uploads/2026/04/May-26-Livestream-Flyer.png
END:VEVENT
BEGIN:VEVENT
DTSTART;TZID=America/Los_Angeles:20260530T110000
DTEND;TZID=America/Los_Angeles:20260530T140000
DTSTAMP:20260421T070012
CREATED:20260420T162957Z
LAST-MODIFIED:20260420T162957Z
UID:10004094-1780138800-1780149600@211sandiego.org
SUMMARY:San Diego Fixit Clinic in Loma Verde Recreation Center
DESCRIPTION:Join the San Diego Fixit Clinic on May 30th at the Loma Verde Recreation Center from 11 AM – 2 PM. Fixit Coaches are ready to help repair your stuff. First come first served! \nLearn how to: \n\n Mend your favorite outfit\n Repair road and mountain bikes\n Fix lighting\, gadgets\, and small appliances\n\nSpace is limited. RSVP today 👉bit.ly/SDFC_ChulaVista
URL:https://211sandiego.org/event/san-diego-fixit-clinic-in-loma-verde-recreation-center/
LOCATION:Loma Verde Recreation Center\, 1420 Loma Ln\, Chula Vista\, CA\, 91911\, United States
CATEGORIES:Class, Seminar, Training, or Workshop,Collaborative/Meeting,Volunteer Event
ATTACH;FMTTYPE=image/png:https://211sandiego.org/wp-content/uploads/2026/04/4.png
ORGANIZER;CN="San Diego Fixit Clinic":MAILTO:sdfixitclinic@gmail.com
END:VEVENT
END:VCALENDAR