BEGIN:VCALENDAR
VERSION:2.0
PRODID:-//211 - ECPv6.15.20//NONSGML v1.0//EN
CALSCALE:GREGORIAN
METHOD:PUBLISH
X-ORIGINAL-URL:https://211sandiego.org
X-WR-CALDESC:Events for 211
REFRESH-INTERVAL;VALUE=DURATION:PT1H
X-Robots-Tag:noindex
X-PUBLISHED-TTL:PT1H
BEGIN:VTIMEZONE
TZID:America/Los_Angeles
BEGIN:DAYLIGHT
TZOFFSETFROM:-0800
TZOFFSETTO:-0700
TZNAME:PDT
DTSTART:20250309T100000
END:DAYLIGHT
BEGIN:STANDARD
TZOFFSETFROM:-0700
TZOFFSETTO:-0800
TZNAME:PST
DTSTART:20251102T090000
END:STANDARD
BEGIN:DAYLIGHT
TZOFFSETFROM:-0800
TZOFFSETTO:-0700
TZNAME:PDT
DTSTART:20260308T100000
END:DAYLIGHT
BEGIN:STANDARD
TZOFFSETFROM:-0700
TZOFFSETTO:-0800
TZNAME:PST
DTSTART:20261101T090000
END:STANDARD
BEGIN:DAYLIGHT
TZOFFSETFROM:-0800
TZOFFSETTO:-0700
TZNAME:PDT
DTSTART:20270314T100000
END:DAYLIGHT
BEGIN:STANDARD
TZOFFSETFROM:-0700
TZOFFSETTO:-0800
TZNAME:PST
DTSTART:20271107T090000
END:STANDARD
END:VTIMEZONE
BEGIN:VEVENT
DTSTART;TZID=America/Los_Angeles:20260411T110000
DTEND;TZID=America/Los_Angeles:20260411T120000
DTSTAMP:20260421T135548
CREATED:20260227T220028Z
LAST-MODIFIED:20260324T223529Z
UID:10003912-1775905200-1775908800@211sandiego.org
SUMMARY:Reading Across All Ages
DESCRIPTION:Join us for a fun\, intergenerational hour of reading and arts & crafts at the San Ysidro Public Library on April 11\, 2026\, from 11 AM – 12 PM. Children (ages 5+) and older adults (55+) will read together\, build confidence\, make new friends\, and strengthen community in a supportive and welcoming environment. Registration is required; contact syeducation.collaborative@sysdschools.org or call (619) 424-0475 for more information. \nChildren who attend will get to take home a FREE BOOK courtesy of Street Smart Bookstore!
URL:https://211sandiego.org/event/reading-across-all-ages/
LOCATION:San Ysidro Library\, 4235 Beyer Blvd\, San Diego\, CA\, 92173\, United States
CATEGORIES:Collaborative/Meeting
ATTACH;FMTTYPE=image/png:https://211sandiego.org/wp-content/uploads/2026/02/Screenshot-2026-02-27-100729.png
ORGANIZER;CN="San Ysidro Education Collaborative":MAILTO:SYEducation.Collaborative@sysdschools.org
GEO:32.759751;-117.248883
X-APPLE-STRUCTURED-LOCATION;VALUE=URI;X-ADDRESS=San Ysidro Library 4235 Beyer Blvd San Diego CA 92173 United States;X-APPLE-RADIUS=500;X-TITLE=4235 Beyer Blvd:geo:-117.248883,32.759751
END:VEVENT
END:VCALENDAR