BEGIN:VCALENDAR
VERSION:2.0
PRODID:-//211 - ECPv6.15.20//NONSGML v1.0//EN
CALSCALE:GREGORIAN
METHOD:PUBLISH
X-WR-CALNAME:211
X-ORIGINAL-URL:https://211sandiego.org
X-WR-CALDESC:Events for 211
REFRESH-INTERVAL;VALUE=DURATION:PT1H
X-Robots-Tag:noindex
X-PUBLISHED-TTL:PT1H
BEGIN:VTIMEZONE
TZID:America/Los_Angeles
BEGIN:DAYLIGHT
TZOFFSETFROM:-0800
TZOFFSETTO:-0700
TZNAME:PDT
DTSTART:20240310T100000
END:DAYLIGHT
BEGIN:STANDARD
TZOFFSETFROM:-0700
TZOFFSETTO:-0800
TZNAME:PST
DTSTART:20241103T090000
END:STANDARD
BEGIN:DAYLIGHT
TZOFFSETFROM:-0800
TZOFFSETTO:-0700
TZNAME:PDT
DTSTART:20250309T100000
END:DAYLIGHT
BEGIN:STANDARD
TZOFFSETFROM:-0700
TZOFFSETTO:-0800
TZNAME:PST
DTSTART:20251102T090000
END:STANDARD
BEGIN:DAYLIGHT
TZOFFSETFROM:-0800
TZOFFSETTO:-0700
TZNAME:PDT
DTSTART:20260308T100000
END:DAYLIGHT
BEGIN:STANDARD
TZOFFSETFROM:-0700
TZOFFSETTO:-0800
TZNAME:PST
DTSTART:20261101T090000
END:STANDARD
END:VTIMEZONE
BEGIN:VEVENT
DTSTART;VALUE=DATE:20250101
DTEND;VALUE=DATE:20250402
DTSTAMP:20260419T220746
CREATED:20250314T210140Z
LAST-MODIFIED:20250314T210140Z
UID:10001298-1735689600-1743551999@211sandiego.org
SUMMARY:One Book\, One San Diego
DESCRIPTION:Nominations are open for the 2025 One Book\, One San Diego season!  \nHelp @KPBS\, @SDPublicLibrary\, and @SDCountyLibrary find the 2025 #OneBookSD selections! What book do you recommend all of San Diego read for the adult\, teens\, kids\, and Spanish language categories? The call for nominations is open now through MARCH 15 (now extended April 1!). \nSubmit your nomination today at https://www.kpbs.org/onebook. \n Partners include KPBS\, the San Diego Public Library\, the San Diego County Library\, service organizations\, and educational institutions across the region.Many thanks to sponsors\, Linden Root Dickinson Foundation\, the Seth Sprague Educational and Charitable Foundation\, the Frieda Berlinski Foundation\, the Payne Family Foundation\, Kaiser Permanente\, the University of San Diego\, Lloyd Pest Control\, and The City of San Diego. \nContact Jenelle Dean\, KPBS Community Engagement Manager\, jmdean@kpbs.org\, with questions.
URL:https://211sandiego.org/event/one-book-one-san-diego/
LOCATION:Virtual
ATTACH;FMTTYPE=image/jpeg:https://211sandiego.org/wp-content/uploads/2025/03/One-Book-Nominations.jpg
ORGANIZER;CN="KPBS":MAILTO:cgrodriguez@kpbs.org
END:VEVENT
BEGIN:VEVENT
DTSTART;TZID=America/Los_Angeles:20250227T100000
DTEND;TZID=America/Los_Angeles:20250424T140000
DTSTAMP:20260419T220746
CREATED:20250109T161808Z
LAST-MODIFIED:20250109T161808Z
UID:10001143-1740650400-1745503200@211sandiego.org
SUMMARY:Family Caregiver Education & Respite Care Program
DESCRIPTION:Are you looking for tools to help  you care for your loved one with dementia? Do you need a break from the stress of care giving? Would you like to meet others going through what you are going through? \nJoin us starting on Feb 27th for a 9-week series of classes designed by the Glenner Centers – experts in the dementia care field since 1982. These classes are FREE and FREE respite care will be offered for those who need it. \nTo hear from past class participants and to register\, visit: https://glenner.org/events/family-caregiver-education-respite-care-program/ \n 
URL:https://211sandiego.org/event/family-caregiver-education-respite-care-program/
LOCATION:George G. Glenner Alzheimer’s Family Centers\, Inc.\, 2765 Main St. Ste. A\, Chula Vista\, CA\, 91911\, United States
CATEGORIES:Class, Seminar, Training, or Workshop,Collaborative/Meeting,Support Group
ATTACH;FMTTYPE=image/jpeg:https://211sandiego.org/wp-content/uploads/2025/01/Family-Caregiver-Education-Respite-Care-Program-3-1.jpg
ORGANIZER;CN="George G. Glenner Alzheimer's Family Centers%2C Inc.":MAILTO:dementiacareeducation@glenner.org
END:VEVENT
BEGIN:VEVENT
DTSTART;TZID=America/Los_Angeles:20250310T100000
DTEND;TZID=America/Los_Angeles:20250310T113000
DTSTAMP:20260419T220746
CREATED:20250225T224711Z
LAST-MODIFIED:20250225T224711Z
UID:10001233-1741600800-1741606200@211sandiego.org
SUMMARY:Cafecito con Alzheimer’s San Diego: Conversando sobre la pérdida de memoria
DESCRIPTION:¿Por qué es difícil hablar de este tema? Aprende a prepararte y hacer un plan. Esta clase gratuita es presentada por la organización local Alzheimer’s San Diego. Se recomienda la pre-inscripción. \nInscríbase >
URL:https://211sandiego.org/event/cafecito-con-alzheimers-san-diego-conversando-sobre-la-perdida-de-memoria/
LOCATION:El Cajon Branch Library\, 201 E Douglas Ave El Cajon\, CA 92020\, El Cajon\, 92020
ATTACH;FMTTYPE=image/jpeg:https://211sandiego.org/wp-content/uploads/2025/02/Education2-2.jpg
ORGANIZER;CN="Alzheimer's San Diego":MAILTO:info@alzsd.org
END:VEVENT
BEGIN:VEVENT
DTSTART;TZID=America/Los_Angeles:20250310T120000
DTEND;TZID=America/Los_Angeles:20250310T130000
DTSTAMP:20260419T220746
CREATED:20250219T003719Z
LAST-MODIFIED:20250219T003719Z
UID:10001220-1741608000-1741611600@211sandiego.org
SUMMARY:Filing Taxes: Rights and Responsibilities (2024)-LASSD
DESCRIPTION:Filing Taxes: Rights and Responsibilities (2024)-LASSD \nIn our Tax webinar series done in partnership with Legal Aid Society of San Diego’s Low-Income Taxpayer Clinic (LITC). and the San Diego Law Library from February-April 2025\, our Tax team will discuss key information for filing taxes 2024 including: \n\nKey information for filing 2024 taxes\nSelected 2024 tax topics discussion and updates: 1099-K income\, Earned Income Tax Credit (EITC)\, Child Tax Credit (CTC) and other tax credits.  CA Credits: CalEITC\, Young Child Tax Credit (YCTC) and Foster Youth Tax Credit (FYTC)\nKey sunset and changes in tax law applicable for 2024 and prior tax years\, claiming 3rd Stimulus check\nService provided at our LITC department\n\nSign up via SDLL Events on Zoom: https://sandiegolawlibrary.org/event/filing-taxes-rights-and-responsibilities-2024/ \nSee you here!
URL:https://211sandiego.org/event/filing-taxes-rights-and-responsibilities-2024-lassd/
LOCATION:San Diego Law Library\, 1107 Front St\, San Diego\, CA\, United States
ATTACH;FMTTYPE=image/jpeg:https://211sandiego.org/wp-content/uploads/2025/02/Filing-Taxes-Rights-Resp-2024-flyer.jpg
ORGANIZER;CN="San Diego Law Library":MAILTO:refdesk@sdlawlibrary.org
GEO:32.716801;-117.164648
X-APPLE-STRUCTURED-LOCATION;VALUE=URI;X-ADDRESS=San Diego Law Library 1107 Front St San Diego CA United States;X-APPLE-RADIUS=500;X-TITLE=1107 Front St:geo:-117.164648,32.716801
END:VEVENT
BEGIN:VEVENT
DTSTART;TZID=America/Los_Angeles:20250311T110000
DTEND;TZID=America/Los_Angeles:20250311T120000
DTSTAMP:20260419T220746
CREATED:20241224T202350Z
LAST-MODIFIED:20241224T203057Z
UID:10001044-1741690800-1741694400@211sandiego.org
SUMMARY:TrueCare Food Distribution
DESCRIPTION:Oceanside \nMelba Bishop Community Recreation Center \n5306 N River Rd\, Oceanside\, CA 92057 \nOperating from 11:00 am-12:00 pm on the \n2nd and 4th Tuesday of every month \nFor questions please call (760) 736-6777.
URL:https://211sandiego.org/event/truecare-food-distribution-3/2025-03-11/
LOCATION:Melba Bishop Community Recreation Center\, 5306 N River Rd\, Oceanside\, CA\, 92057\, United States
CATEGORIES:Distribution Event
ATTACH;FMTTYPE=image/jpeg:https://211sandiego.org/wp-content/uploads/2024/12/Screenshot-2024-12-24-123000.jpg
END:VEVENT
BEGIN:VEVENT
DTSTART;TZID=America/Los_Angeles:20250311T130000
DTEND;TZID=America/Los_Angeles:20250311T143000
DTSTAMP:20260419T220746
CREATED:20250225T224725Z
LAST-MODIFIED:20250225T224725Z
UID:10001234-1741698000-1741703400@211sandiego.org
SUMMARY:Alzheimer's San Diego: How to Talk About Memory Loss
DESCRIPTION:Learn how to plan for successful\, lower-stress family discussions about difficult topics like changes in memory\, driving\, and living alone. \nRegistration link coming soon.
URL:https://211sandiego.org/event/alzheimers-san-diego-how-to-talk-about-memory-loss-3/
LOCATION:San Diego Oasis at La Mesa\, 5500 Grossmont Center Dr\, Ste 325 La Mesa\, 91942 United States\, La Mesa\, 91942
ATTACH;FMTTYPE=image/jpeg:https://211sandiego.org/wp-content/uploads/2025/02/Education6.jpg
ORGANIZER;CN="Alzheimer's San Diego":MAILTO:info@alzsd.org
END:VEVENT
BEGIN:VEVENT
DTSTART;TZID=America/Los_Angeles:20250312T100000
DTEND;TZID=America/Los_Angeles:20250312T113000
DTSTAMP:20260419T220746
CREATED:20250225T224741Z
LAST-MODIFIED:20250225T224741Z
UID:10001235-1741773600-1741779000@211sandiego.org
SUMMARY:Alzheimer's San Diego ONLINE: Care Options: Residential Placement
DESCRIPTION:Whether you’re looking at placement options now or planning ahead\, learn about the different types of residential settings\, what they cost\, and how to choose what’s best for your situation. This class is presented by local nonprofit Alzheimer’s San Diego. Pre-registration is recommended. \nRegister >
URL:https://211sandiego.org/event/alzheimers-san-diego-online-care-options-residential-placement/
LOCATION:Zoom Webinar\, 100 Park Blvd\, San Diego\, 92101
ATTACH;FMTTYPE=image/jpeg:https://211sandiego.org/wp-content/uploads/2025/02/Education7.jpg
ORGANIZER;CN="Alzheimer's San Diego":MAILTO:info@alzsd.org
END:VEVENT
BEGIN:VEVENT
DTSTART;TZID=America/Los_Angeles:20250312T130000
DTEND;TZID=America/Los_Angeles:20250312T143000
DTSTAMP:20260419T220746
CREATED:20250225T224744Z
LAST-MODIFIED:20250225T224744Z
UID:10001236-1741784400-1741789800@211sandiego.org
SUMMARY:Cafecito con Alzheimer’s San Diego: Los cambios\, la comunicación y la comunidad
DESCRIPTION:Venga a hablar sobre cómo nos comunicamos con los nuestros sobre la demencia. Esta clase gratuita es presentada por la organización local Alzheimer’s San Diego. Se recomienda la pre-inscripción. \nInscríbase >
URL:https://211sandiego.org/event/cafecito-con-alzheimers-san-diego-los-cambios-la-comunicacion-y-la-comunidad-3/
LOCATION:John Landes Community Center Library\, 2855 Cedar Rd\, Oceanside\, 92056
ATTACH;FMTTYPE=image/jpeg:https://211sandiego.org/wp-content/uploads/2025/02/Education4-1.jpg
ORGANIZER;CN="Alzheimer's San Diego":MAILTO:info@alzsd.org
END:VEVENT
BEGIN:VEVENT
DTSTART;TZID=America/Los_Angeles:20250313T100000
DTEND;TZID=America/Los_Angeles:20250313T113000
DTSTAMP:20260419T220746
CREATED:20250225T224759Z
LAST-MODIFIED:20250225T224759Z
UID:10001237-1741860000-1741865400@211sandiego.org
SUMMARY:Cafecito con Alzheimer’s San Diego: Nuestro cerebro y nuestra salud
DESCRIPTION:Venga y hable con nosotros sobre cómo nuestro cerebro es parte de nuestra salud. Esta clase gratuita es presentada por la organización local Alzheimer’s San Diego. Se recomienda la pre-inscripción. \nInscríbase >
URL:https://211sandiego.org/event/cafecito-con-alzheimers-san-diego-nuestro-cerebro-y-nuestra-salud-3/
LOCATION:Molina Healthcare Chula Vista Resource Center\, 689 Palomar St\, Chula Vista\, CA\, 91911\, United States
ATTACH;FMTTYPE=image/jpeg:https://211sandiego.org/wp-content/uploads/2025/02/Education7-1.jpg
ORGANIZER;CN="Alzheimer's San Diego":MAILTO:info@alzsd.org
GEO:32.615983;-117.034012
X-APPLE-STRUCTURED-LOCATION;VALUE=URI;X-ADDRESS=Molina Healthcare Chula Vista Resource Center 689 Palomar St Chula Vista CA 91911 United States;X-APPLE-RADIUS=500;X-TITLE=689 Palomar St:geo:-117.034012,32.615983
END:VEVENT
BEGIN:VEVENT
DTSTART;TZID=America/Los_Angeles:20250313T180000
DTEND;TZID=America/Los_Angeles:20250313T190000
DTSTAMP:20260419T220746
CREATED:20250310T174054Z
LAST-MODIFIED:20250310T174054Z
UID:10001280-1741888800-1741892400@211sandiego.org
SUMMARY:Alzheimer's Association: Empowered Caregiver Series Part 2: Supporting Independence
DESCRIPTION:People living with dementia want to remain independent for as long as possible yet caregivers may not know how to balance safety and independence. Learn how dementia changes a person’s independence and impacts safety\, how to provide the right amount of support\, and tips to make every activity meaningful to the person living with dementia.
URL:https://211sandiego.org/event/alzheimers-association-empowered-caregiver-series-part-2-supporting-independence/
LOCATION:ZOOM
CATEGORIES:Class, Seminar, Training, or Workshop
ATTACH;FMTTYPE=image/jpeg:https://211sandiego.org/wp-content/uploads/2025/03/EMP-CG-4-PARTS-SERIES-MARCH-2025-1.jpg
ORGANIZER;CN="Alzheimer's Association":MAILTO:rturman@alz.org
END:VEVENT
BEGIN:VEVENT
DTSTART;TZID=America/Los_Angeles:20250314T100000
DTEND;TZID=America/Los_Angeles:20250314T113000
DTSTAMP:20260419T220746
CREATED:20250225T224802Z
LAST-MODIFIED:20250225T224802Z
UID:10001238-1741946400-1741951800@211sandiego.org
SUMMARY:Alzheimer's San Diego: Long-Distance Caregiving
DESCRIPTION:Caring for someone living with dementia from afar presents its own unique challenges. Learn ways to stay in touch\, stay informed\, and be a helpful partner and support.This class is presented by local nonprofit Alzheimer’s San Diego. Pre-registration is recommended. \nRegister >
URL:https://211sandiego.org/event/alzheimers-san-diego-long-distance-caregiving/
LOCATION:Scripps Miramar Ranch Library\, 10301 Scripps Lake Dr\, San Diego\, CA\, United States
ATTACH;FMTTYPE=image/jpeg:https://211sandiego.org/wp-content/uploads/2025/02/Education12.jpg
ORGANIZER;CN="Alzheimer's San Diego":MAILTO:info@alzsd.org
GEO:32.911623;-117.10194
X-APPLE-STRUCTURED-LOCATION;VALUE=URI;X-ADDRESS=Scripps Miramar Ranch Library 10301 Scripps Lake Dr San Diego CA United States;X-APPLE-RADIUS=500;X-TITLE=10301 Scripps Lake Dr:geo:-117.10194,32.911623
END:VEVENT
BEGIN:VEVENT
DTSTART;TZID=America/Los_Angeles:20250314T100000
DTEND;TZID=America/Los_Angeles:20250314T180000
DTSTAMP:20260419T220746
CREATED:20250310T173937Z
LAST-MODIFIED:20250310T173937Z
UID:10001287-1741946400-1741975200@211sandiego.org
SUMMARY:Job Fair - Gaylord Pacific
DESCRIPTION:Gaylord Pacific Hotels are hiring for the following departments \n\nCulinary\nEngineering and Maintenance\nEvents\nFinance and Accounting\nFront Office\nHousekeeping\nInformation Technology\nPurchasing and Receiving\nRestaurant and Bar\nSafety and Security\nSpa\nStewarding
URL:https://211sandiego.org/event/job-fair-gaylord-pacific/2025-03-14/
LOCATION:Southwestern-College-Library\, 900 Otay Lakes Road\, San Diego\, CA\, 92123\, United States
CATEGORIES:Resource Fair
ATTACH;FMTTYPE=image/jpeg:https://211sandiego.org/wp-content/uploads/2025/03/Image-2-2.jpg
END:VEVENT
BEGIN:VEVENT
DTSTART;TZID=America/Los_Angeles:20250314T190000
DTEND;TZID=America/Los_Angeles:20250314T210000
DTSTAMP:20260419T220746
CREATED:20250303T231104Z
LAST-MODIFIED:20250303T231104Z
UID:10001272-1741978800-1741986000@211sandiego.org
SUMMARY:MiraCosta College Night Front Wave Arena
DESCRIPTION:“MiraCosta Nights\,” is an exciting collaboration with the new Frontwave Arena\, home to the San Diego Clippers (basketball) and the San Diego Sockers (soccer). These events will be celebrated with exclusive discounted tickets\, one-of-a-kind fan experiences\, and co-branded swag. Attendees are encouraged to show their MiraCosta College Spartan pride\, connect with the community\, and enjoy an unforgettable night of sports and school spirit! Join us on Wednesday\, March 5\, at 7:35 p.m. when the SD Sockers compete against the Empire Strykers\, and receive a co-branded rally towel for the first 200 ticket buyers\, or watch the SD Clippers vs. Mexico City Capitanes on Friday\, March 14\, at 7 p.m.where the first 100 ticket buyers will receive a limited-edition co-branded hat. Also included in the “MiraCosta Nights” experience\, join the Pre-Game Parade of Champions and High-Five Line where you can walk the field and high-five SD Sockers players before the game or get up close with SD Clippers players before tip-off. As a bonus\, the first 25 ticket buyers for either game will be entered into a Frontwave Arena-sponsored giveaway featuring free tickets to future games\, merch\, and more. Questions? Contact France Magtira-Cruz at fcruz@miracosta.edu or call 760.795.6857.
URL:https://211sandiego.org/event/miracosta-college-night-front-wave-arena/2025-03-14/
LOCATION:MiraCosta College\, 3601 Barnard Dr\, Oceanside\, CA\, United States
CATEGORIES:Support Group
ATTACH;FMTTYPE=image/png:https://211sandiego.org/wp-content/uploads/2025/02/DgDdinwN2cw_RzOMFmDuRwCn.png
ORGANIZER;CN="MiraCosta":MAILTO:pio@miracosta.edu
GEO:33.189599;-117.300884
X-APPLE-STRUCTURED-LOCATION;VALUE=URI;X-ADDRESS=MiraCosta College 3601 Barnard Dr Oceanside CA United States;X-APPLE-RADIUS=500;X-TITLE=3601 Barnard Dr:geo:-117.300884,33.189599
END:VEVENT
BEGIN:VEVENT
DTSTART;TZID=America/Los_Angeles:20250315T090000
DTEND;TZID=America/Los_Angeles:20250315T163000
DTSTAMP:20260419T220746
CREATED:20250219T055432Z
LAST-MODIFIED:20250225T224520Z
UID:10001223-1742029200-1742056200@211sandiego.org
SUMMARY:LISTOS Aware and Prepare (Emergency Preparedness Course in English)
DESCRIPTION:Come learn how you and your family can prepare for a disaster or emergency! \nThis training will cover the following topics:\nIdentifying Hazards and Risks (Earthquakes\,\nTsunamis\, Wildfires and other risks)\nCreating a Communication Plan and Family\nReunification Plan\nBackup of Important Documents\nUtility Shut Off (Gas and Electricity)\nFire Extinguisher Use\nDisaster Supplies Kit\nFirst Aid\nOrganization at Home\nDisaster Psychology \n*Participants will earn a certificate of completion* \nTo Register: https://forms.office.com/g/Ge1ibNnkHm \n*Registration is required* 
URL:https://211sandiego.org/event/listos-aware-and-prepare-emergency-preparedness-course-in-english/
LOCATION:John Landes Community Center\, 2855 Cedar Rd\, Oceanside\, CA\, 92056\, United States
CATEGORIES:Class, Seminar, Training, or Workshop
ATTACH;FMTTYPE=image/png:https://211sandiego.org/wp-content/uploads/2025/02/LISTOS-Course-on-03-15-2025.png
ORGANIZER;CN="Oceanside Fire Department":MAILTO:Cmartinez@oceansideca.org
END:VEVENT
BEGIN:VEVENT
DTSTART;TZID=America/Los_Angeles:20250315T100000
DTEND;TZID=America/Los_Angeles:20250315T180000
DTSTAMP:20260419T220746
CREATED:20250310T173937Z
LAST-MODIFIED:20250310T173937Z
UID:10001288-1742032800-1742061600@211sandiego.org
SUMMARY:Job Fair - Gaylord Pacific
DESCRIPTION:Gaylord Pacific Hotels are hiring for the following departments \n\nCulinary\nEngineering and Maintenance\nEvents\nFinance and Accounting\nFront Office\nHousekeeping\nInformation Technology\nPurchasing and Receiving\nRestaurant and Bar\nSafety and Security\nSpa\nStewarding
URL:https://211sandiego.org/event/job-fair-gaylord-pacific/2025-03-15/
LOCATION:Southwestern-College-Library\, 900 Otay Lakes Road\, San Diego\, CA\, 92123\, United States
CATEGORIES:Resource Fair
ATTACH;FMTTYPE=image/jpeg:https://211sandiego.org/wp-content/uploads/2025/03/Image-2-2.jpg
END:VEVENT
BEGIN:VEVENT
DTSTART;TZID=America/Los_Angeles:20250315T120000
DTEND;TZID=America/Los_Angeles:20250315T150000
DTSTAMP:20260419T220746
CREATED:20250303T231112Z
LAST-MODIFIED:20250303T231112Z
UID:10001276-1742040000-1742050800@211sandiego.org
SUMMARY:SD Fixit Clinic at Valencia Park/Malcolm X Library
DESCRIPTION:Bring your broken\, non-functioning things: electronics\, appliances\, computers\, toys\, bicycles\, clothes\, etc. for assessment\, disassembly\, and possible repair. We’ll provide work-space\, specialty tools\, and guidance to help you disassemble and troubleshoot your item and it’s all free\, though we welcome donations to keep the movement growing! \nWhether we fix it or not\, you’ll learn more about how it was manufactured and how it worked while trusting it won’t end up in a landfill. \nInterested in volunteering with SD Fix-it? Click on this link to fill out an application: https://forms.gle/DibjH6TVTysQPtW86
URL:https://211sandiego.org/event/sd-fixit-clinic-at-valencia-park-malcolm-x-library/
LOCATION:Valencia Park/Malcolm X Library\, 5148 Market St\, San Diego\, CA\, 92114\, United States
CATEGORIES:Class, Seminar, Training, or Workshop,Resource Fair,Volunteer Event
ATTACH;FMTTYPE=image/png:https://211sandiego.org/wp-content/uploads/2025/03/SD-City-Draft-1.png
ORGANIZER;CN="San Diego Fixit Clinic":MAILTO:sdfixitclinic@gmail.com
GEO:32.70614;-117.051651
X-APPLE-STRUCTURED-LOCATION;VALUE=URI;X-ADDRESS=Valencia Park/Malcolm X Library 5148 Market St San Diego CA 92114 United States;X-APPLE-RADIUS=500;X-TITLE=5148 Market St:geo:-117.051651,32.70614
END:VEVENT
BEGIN:VEVENT
DTSTART;TZID=America/Los_Angeles:20250316T100000
DTEND;TZID=America/Los_Angeles:20250316T180000
DTSTAMP:20260419T220746
CREATED:20250310T173937Z
LAST-MODIFIED:20250310T173937Z
UID:10001289-1742119200-1742148000@211sandiego.org
SUMMARY:Job Fair - Gaylord Pacific
DESCRIPTION:Gaylord Pacific Hotels are hiring for the following departments \n\nCulinary\nEngineering and Maintenance\nEvents\nFinance and Accounting\nFront Office\nHousekeeping\nInformation Technology\nPurchasing and Receiving\nRestaurant and Bar\nSafety and Security\nSpa\nStewarding
URL:https://211sandiego.org/event/job-fair-gaylord-pacific/2025-03-16/
LOCATION:Southwestern-College-Library\, 900 Otay Lakes Road\, San Diego\, CA\, 92123\, United States
CATEGORIES:Resource Fair
ATTACH;FMTTYPE=image/jpeg:https://211sandiego.org/wp-content/uploads/2025/03/Image-2-2.jpg
END:VEVENT
BEGIN:VEVENT
DTSTART;TZID=America/Los_Angeles:20250316T100000
DTEND;TZID=America/Los_Angeles:20250316T180000
DTSTAMP:20260419T220746
CREATED:20250312T232020Z
LAST-MODIFIED:20250312T232020Z
UID:10001293-1742119200-1742148000@211sandiego.org
SUMMARY:Job Fair-Gaylord Pacific
DESCRIPTION:Hiring event
URL:https://211sandiego.org/event/job-fair-gaylord-pacific-2/
LOCATION:Southwestern-College-Library\, 900 Otay Lakes Road\, San Diego\, CA\, 92123\, United States
END:VEVENT
END:VCALENDAR