BEGIN:VCALENDAR
VERSION:2.0
PRODID:-//211 - ECPv6.15.20//NONSGML v1.0//EN
CALSCALE:GREGORIAN
METHOD:PUBLISH
X-ORIGINAL-URL:https://211sandiego.org
X-WR-CALDESC:Events for 211
REFRESH-INTERVAL;VALUE=DURATION:PT1H
X-Robots-Tag:noindex
X-PUBLISHED-TTL:PT1H
BEGIN:VTIMEZONE
TZID:America/Los_Angeles
BEGIN:DAYLIGHT
TZOFFSETFROM:-0800
TZOFFSETTO:-0700
TZNAME:PDT
DTSTART:20240310T100000
END:DAYLIGHT
BEGIN:STANDARD
TZOFFSETFROM:-0700
TZOFFSETTO:-0800
TZNAME:PST
DTSTART:20241103T090000
END:STANDARD
BEGIN:DAYLIGHT
TZOFFSETFROM:-0800
TZOFFSETTO:-0700
TZNAME:PDT
DTSTART:20250309T100000
END:DAYLIGHT
BEGIN:STANDARD
TZOFFSETFROM:-0700
TZOFFSETTO:-0800
TZNAME:PST
DTSTART:20251102T090000
END:STANDARD
BEGIN:DAYLIGHT
TZOFFSETFROM:-0800
TZOFFSETTO:-0700
TZNAME:PDT
DTSTART:20260308T100000
END:DAYLIGHT
BEGIN:STANDARD
TZOFFSETFROM:-0700
TZOFFSETTO:-0800
TZNAME:PST
DTSTART:20261101T090000
END:STANDARD
BEGIN:DAYLIGHT
TZOFFSETFROM:-0800
TZOFFSETTO:-0700
TZNAME:PDT
DTSTART:20270314T100000
END:DAYLIGHT
BEGIN:STANDARD
TZOFFSETFROM:-0700
TZOFFSETTO:-0800
TZNAME:PST
DTSTART:20271107T090000
END:STANDARD
END:VTIMEZONE
BEGIN:VEVENT
DTSTART;VALUE=DATE:20251128
DTEND;VALUE=DATE:20260101
DTSTAMP:20260420T054456
CREATED:20251201T174003Z
LAST-MODIFIED:20251201T174003Z
UID:10003248-1764288000-1767225599@211sandiego.org
SUMMARY:Inaugural ¡Holly Tamales! Fundraiser – Benefitting Meals on Wheels San Diego County
DESCRIPTION:As the holidays approach\, Meals on Wheels San Diego County is launching its first-ever ¡Holly Tamales! fundraiser to support home-delivered meals for thousands of seniors and disabled veterans across the region.  \nEach box is $35 and contains 12 tamales\, with flavors including chicken with salsa verde\, pork with a hint of chipotle\, cheese and jalapeño (not vegetarian)\, or a variety pack. Every dollar raised stays in San Diego\, helping provide nutritious meals\, daily check-ins\, and connection for vulnerable seniors year-round.  \nTamales can be ordered online at HollyTamales.org or by calling 619-260-6110\, with pickup available at four local service centers starting Dec. 1. With every purchase of two boxes\, buyers receive a complimentary copy of “Bless This Table” featuring celebrity recipes. Don’t miss this chance to enjoy delicious holiday tamales while supporting a vital local cause!
URL:https://211sandiego.org/event/inaugural-holly-tamales-fundraiser-benefitting-meals-on-wheels-san-diego-county/
LOCATION:9590 Chesapeake Dr\, San Diego\, CA 92123\, 9590 Chesapeake Drive\, San Diego\, CA\, 92123\, United States
CATEGORIES:Fundraiser
ORGANIZER;CN="Meals on Wheels":MAILTO:dbreuer@meals-on-wheels.org
END:VEVENT
BEGIN:VEVENT
DTSTART;TZID=America/Los_Angeles:20251231T150000
DTEND;TZID=America/Los_Angeles:20251231T170000
DTSTAMP:20260420T054456
CREATED:20250409T174451Z
LAST-MODIFIED:20250409T174451Z
UID:10001425-1767193200-1767200400@211sandiego.org
SUMMARY:OHNC Pantry of HOPE | OHNC Despensa de la ESPERANZA
DESCRIPTION:Need Food or Essentials? Visit the Pantry of HOPE \nOperation HOPE—North County’s Pantry of HOPE is here to support individuals and families in our community who are experiencing food insecurity or need access to basic essentials. \nThe pantry is open to the public and provides: \n\n\nFresh produce and non-perishable food items \n\n\nClothing for all ages \n\n\nDiapers\, wipes\, and baby supplies \n\n\nFeminine hygiene products and other household essentials \n\n\nWe serve an average of 60 to 150 families each week\, including shelter alumni and community members referred by local organizations. Our goal is to ensure that families have reliable access to nutritious food and vital resources in times of need. \nFirst-time attendees only need to fill out an application—no ID necessary. \nNo appointment is necessary\, but families are encouraged to arrive early during distribution times as supplies are available on a first-come\, first-served basis. \nIf you or someone you know is in need\, we invite you to visit the Pantry of HOPE. For more information about current distribution hours or how to get involved\, please contact hpfalzer@operationhopeshelter.org. \nTogether\, we’re building a stronger\, healthier community—one bag of hope at a time. \nNecesita alimentos o artículos esenciales? Visite la despensa de la esperanza \nLa despensa de la esperanza de Operation HOPE—North County está aquí para apoyar a las personas y familias de nuestra comunidad que están experimentando inseguridad alimentaria o necesitan acceso a artículos esenciales básicos. \nLa despensa está abierta al público y proporciona: \n\n\nProductos frescos y alimentos no perecederos \n\n\nRopa para todas las edades \n\n\nPañales\, toallitas y suministros para bebés \n\n\nProductos de higiene femenina y otros artículos esenciales para el hogar \n\n\nAtendemos un promedio de 60 a 150 familias cada semana\, incluyendo a exresidentes de albergues y miembros de la comunidad referidos por organizaciones locales. Nuestro objetivo es garantizar que las familias tengan acceso confiable a alimentos nutritivos y recursos vitales en momentos de necesidad. \nLos nuevos asistentes solo necesitan llenar una solicitud; no es necesario presentar identificación. \nNo es necesario hacer una cita\, pero se recomienda que las familias lleguen temprano durante los horarios de distribución\, ya que los suministros están disponibles por orden de llegada. \nSi usted o alguien que conoce necesita ayuda\, lo invitamos a visitar la despensa de la esperanza. Para más información sobre los horarios de distribución actuales o cómo involucrarse\, comuníquese a hpfalzer@operationhopeshelter.org. \nJuntos\, estamos construyendo una comunidad más fuerte y saludable\, una bolsa de esperanza a la vez.
URL:https://211sandiego.org/event/ohnc-pantry-of-hope-ohnc-despensa-de-la-esperanza/2025-12-31/
LOCATION:Operation HOPE—North County (Annex)\, 840 Townsite Dr. Suite 850\, Vista\, CA\, 92084
CATEGORIES:Distribution Event
ATTACH;FMTTYPE=image/png:https://211sandiego.org/wp-content/uploads/2025/04/Screenshot-2025-03-28-184140.png
ORGANIZER;CN="Operation HOPE%E2%80%94North County":MAILTO:hpfalzer@operationhopeshelter.org
END:VEVENT
BEGIN:VEVENT
DTSTART;TZID=America/Los_Angeles:20260102T160000
DTEND;TZID=America/Los_Angeles:20260102T190000
DTSTAMP:20260420T054456
CREATED:20250115T173857Z
LAST-MODIFIED:20260219T234314Z
UID:10003463-1767369600-1767380400@211sandiego.org
SUMMARY:Discover Creativity at First Friday Open Studios
DESCRIPTION:Join us for a vibrant evening of art and community at the Liberty Station Arts District! Explore open studios in Barracks 16\, meet talented artists\, and experience their creative process up close. \nDiscover a variety of works\, from paintings and sculptures to mixed media and ceramics. Enjoy engaging conversations\, lively art demonstrations\, and the unique energy of this historic setting. \nThis free\, family-friendly event is a perfect opportunity to connect with local artists and immerse yourself in San Diego’s dynamic art scene. \nDon’t miss this monthly celebration of creativity and inspiration! \n  \n🎨 When: First Friday of Every Month\, 4:00 PM – 7:00 PM\n📍 Where: Barracks 16\, Arts District Liberty Station\, 2730 Historic Decatur Rd\, San Diego\, CA
URL:https://211sandiego.org/event/discover-creativity-at-first-friday-open-studios/2026-01-02/
LOCATION:Barracks 16\, Arts District Liberty Station\, 2730 Historic Decatur Rd Barracks 16\, second floor\, SAN DIEGO\, CA\, 92106\, United States
CATEGORIES:Collaborative/Meeting
ATTACH;FMTTYPE=image/jpeg:https://211sandiego.org/wp-content/uploads/2025/01/collage-of-photos-2025-2-scaled.jpg
ORGANIZER;CN="katerina":MAILTO:katerina@lazarova.art
END:VEVENT
END:VCALENDAR