BEGIN:VCALENDAR
VERSION:2.0
PRODID:-//211 - ECPv6.15.20//NONSGML v1.0//EN
CALSCALE:GREGORIAN
METHOD:PUBLISH
X-ORIGINAL-URL:https://211sandiego.org
X-WR-CALDESC:Events for 211
REFRESH-INTERVAL;VALUE=DURATION:PT1H
X-Robots-Tag:noindex
X-PUBLISHED-TTL:PT1H
BEGIN:VTIMEZONE
TZID:America/Los_Angeles
BEGIN:DAYLIGHT
TZOFFSETFROM:-0800
TZOFFSETTO:-0700
TZNAME:PDT
DTSTART:20250309T100000
END:DAYLIGHT
BEGIN:STANDARD
TZOFFSETFROM:-0700
TZOFFSETTO:-0800
TZNAME:PST
DTSTART:20251102T090000
END:STANDARD
BEGIN:DAYLIGHT
TZOFFSETFROM:-0800
TZOFFSETTO:-0700
TZNAME:PDT
DTSTART:20260308T100000
END:DAYLIGHT
BEGIN:STANDARD
TZOFFSETFROM:-0700
TZOFFSETTO:-0800
TZNAME:PST
DTSTART:20261101T090000
END:STANDARD
BEGIN:DAYLIGHT
TZOFFSETFROM:-0800
TZOFFSETTO:-0700
TZNAME:PDT
DTSTART:20270314T100000
END:DAYLIGHT
BEGIN:STANDARD
TZOFFSETFROM:-0700
TZOFFSETTO:-0800
TZNAME:PST
DTSTART:20271107T090000
END:STANDARD
END:VTIMEZONE
BEGIN:VEVENT
DTSTART;TZID=America/Los_Angeles:20260120T130000
DTEND;TZID=America/Los_Angeles:20260120T143000
DTSTAMP:20260419T181751
CREATED:20260105T195646Z
LAST-MODIFIED:20260105T195646Z
UID:10003296-1768914000-1768919400@211sandiego.org
SUMMARY:Cafecito con Alzheimer’s San Diego: La demencia y nuestras familias
DESCRIPTION:Venga y hable con nosotros sobre cómo la demencia afecta a nuestros seres queridos. \nEsta clase gratuita es presentada por la organización local Alzheimer’s San Diego. Se recomienda la pre-inscripción.
URL:https://211sandiego.org/event/cafecito-con-alzheimers-san-diego-la-demencia-y-nuestras-familias-12/
LOCATION:Bonita-Sunnyside Branch Library\, 4375 Bonita Rd\, Bonita\, 91902
ATTACH;FMTTYPE=image/jpeg:https://211sandiego.org/wp-content/uploads/2026/01/AlzDayOne2023-81-scaled.jpg
ORGANIZER;CN="Alzheimer's San Diego":MAILTO:info@alzsd.org
END:VEVENT
BEGIN:VEVENT
DTSTART;TZID=America/Los_Angeles:20260121T100000
DTEND;TZID=America/Los_Angeles:20260121T113000
DTSTAMP:20260419T181751
CREATED:20260105T195604Z
LAST-MODIFIED:20260105T195604Z
UID:10003297-1768989600-1768995000@211sandiego.org
SUMMARY:Alzheimer's San Diego: Care Options: Living at Home
DESCRIPTION:Join us to learn about in-home care options and community-based resources such as adult day care\, care management\, and more. \nThis class is presented by local nonprofit Alzheimer’s San Diego. Pre-registration is recommended.
URL:https://211sandiego.org/event/alzheimers-san-diego-care-options-living-at-home-7/
LOCATION:Rancho Peñasquitos Branch Library\, 13330 Salmon River Rd San Diego\, CA 92129 United States\, San Diego\, CA\, 92129\, United States
ATTACH;FMTTYPE=image/jpeg:https://211sandiego.org/wp-content/uploads/2026/01/AlzDayOne2023-69-1-scaled.jpg
ORGANIZER;CN="Alzheimer's San Diego":MAILTO:info@alzsd.org
END:VEVENT
BEGIN:VEVENT
DTSTART;TZID=America/Los_Angeles:20260121T110000
DTEND;TZID=America/Los_Angeles:20260121T123000
DTSTAMP:20260419T181751
CREATED:20241224T201744Z
LAST-MODIFIED:20241224T201744Z
UID:10001006-1768993200-1768998600@211sandiego.org
SUMMARY:TrueCare Food Distribution
DESCRIPTION:San Marcos \nIglesia del Señor Jesucristo en las Américas San Marcos \n332 E. Olive St\, San Marcos\, CA 92069 \nOperating from 11:00 am-12:30 pm on the \n1st and 3rd Wednesday of every month \nFor questions please call (760) 736-6777.
URL:https://211sandiego.org/event/truecare-food-distribution-2/2026-01-21/
LOCATION:Iglesia del Señor Jesucristo en las Américas San Marcos\, 332 E. Olive St\, San Marcos\, 92069\, United States
CATEGORIES:Distribution Event
ATTACH;FMTTYPE=application/pdf:https://211sandiego.org/wp-content/uploads/2024/12/FoodDistribution_TrueCare_Flyer_2023.pdf
END:VEVENT
BEGIN:VEVENT
DTSTART;TZID=America/Los_Angeles:20260121T130000
DTEND;TZID=America/Los_Angeles:20260121T140000
DTSTAMP:20260419T181751
CREATED:20251103T213549Z
LAST-MODIFIED:20251103T213549Z
UID:10002902-1769000400-1769004000@211sandiego.org
SUMMARY:Healthy Aging Across the Lifespan
DESCRIPTION:Did you know that family caregivers play a vital role in health at every age and life stage of their care-receiver’s life? \nJoin us virtually as we learn about the concept of healthy aging as a lifelong process that supports physical\, emotional\, and social well-being across all stages of life for both caregivers and care-receivers. \nRegister here: Healthy Aging Across the Lifespan
URL:https://211sandiego.org/event/healthy-aging-across-the-lifespan/
LOCATION:Virtual
CATEGORIES:Class, Seminar, Training, or Workshop
ATTACH;FMTTYPE=image/png:https://211sandiego.org/wp-content/uploads/2025/11/January-2026-livestream-youtube-banner-1.png
END:VEVENT
BEGIN:VEVENT
DTSTART;TZID=America/Los_Angeles:20260121T150000
DTEND;TZID=America/Los_Angeles:20260121T170000
DTSTAMP:20260419T181751
CREATED:20250409T174451Z
LAST-MODIFIED:20250409T174451Z
UID:10001428-1769007600-1769014800@211sandiego.org
SUMMARY:OHNC Pantry of HOPE | OHNC Despensa de la ESPERANZA
DESCRIPTION:Need Food or Essentials? Visit the Pantry of HOPE \nOperation HOPE—North County’s Pantry of HOPE is here to support individuals and families in our community who are experiencing food insecurity or need access to basic essentials. \nThe pantry is open to the public and provides: \n\n\nFresh produce and non-perishable food items \n\n\nClothing for all ages \n\n\nDiapers\, wipes\, and baby supplies \n\n\nFeminine hygiene products and other household essentials \n\n\nWe serve an average of 60 to 150 families each week\, including shelter alumni and community members referred by local organizations. Our goal is to ensure that families have reliable access to nutritious food and vital resources in times of need. \nFirst-time attendees only need to fill out an application—no ID necessary. \nNo appointment is necessary\, but families are encouraged to arrive early during distribution times as supplies are available on a first-come\, first-served basis. \nIf you or someone you know is in need\, we invite you to visit the Pantry of HOPE. For more information about current distribution hours or how to get involved\, please contact hpfalzer@operationhopeshelter.org. \nTogether\, we’re building a stronger\, healthier community—one bag of hope at a time. \nNecesita alimentos o artículos esenciales? Visite la despensa de la esperanza \nLa despensa de la esperanza de Operation HOPE—North County está aquí para apoyar a las personas y familias de nuestra comunidad que están experimentando inseguridad alimentaria o necesitan acceso a artículos esenciales básicos. \nLa despensa está abierta al público y proporciona: \n\n\nProductos frescos y alimentos no perecederos \n\n\nRopa para todas las edades \n\n\nPañales\, toallitas y suministros para bebés \n\n\nProductos de higiene femenina y otros artículos esenciales para el hogar \n\n\nAtendemos un promedio de 60 a 150 familias cada semana\, incluyendo a exresidentes de albergues y miembros de la comunidad referidos por organizaciones locales. Nuestro objetivo es garantizar que las familias tengan acceso confiable a alimentos nutritivos y recursos vitales en momentos de necesidad. \nLos nuevos asistentes solo necesitan llenar una solicitud; no es necesario presentar identificación. \nNo es necesario hacer una cita\, pero se recomienda que las familias lleguen temprano durante los horarios de distribución\, ya que los suministros están disponibles por orden de llegada. \nSi usted o alguien que conoce necesita ayuda\, lo invitamos a visitar la despensa de la esperanza. Para más información sobre los horarios de distribución actuales o cómo involucrarse\, comuníquese a hpfalzer@operationhopeshelter.org. \nJuntos\, estamos construyendo una comunidad más fuerte y saludable\, una bolsa de esperanza a la vez.
URL:https://211sandiego.org/event/ohnc-pantry-of-hope-ohnc-despensa-de-la-esperanza/2026-01-21/
LOCATION:Operation HOPE—North County (Annex)\, 840 Townsite Dr. Suite 850\, Vista\, CA\, 92084
CATEGORIES:Distribution Event
ATTACH;FMTTYPE=image/png:https://211sandiego.org/wp-content/uploads/2025/04/Screenshot-2025-03-28-184140.png
ORGANIZER;CN="Operation HOPE%E2%80%94North County":MAILTO:hpfalzer@operationhopeshelter.org
END:VEVENT
BEGIN:VEVENT
DTSTART;TZID=America/Los_Angeles:20260124T080000
DTEND;TZID=America/Los_Angeles:20260129T170000
DTSTAMP:20260419T181751
CREATED:20251006T203945Z
LAST-MODIFIED:20251014T144158Z
UID:10002783-1769241600-1769706000@211sandiego.org
SUMMARY:41st Annual San Diego International Conference on Child and Family Maltreatment
DESCRIPTION:This six-day conference offers continuing education\, networking opportunities and presents national best practice standards on evidence-based practices (EBPs) and current MDT trends in the child and family maltreatment field. \nThe conference is directed to a multidisciplinary audience who offer direct services in the fields of child maltreatment and family/community violence. The agenda includes keynote speeches from renowned experts\, interactive workshops\, and panel discussions\, all aimed at fostering interdisciplinary collaboration and sharing of best practices. \nThe educational program\, meticulously designed\, offers specialized training to professionals in various fields. Whether in medicine\, nursing\, advocacy\, law enforcement\, early childhood mental health\, child welfare\, substance abuse\, prosecution\, research\, academia\, policy\, data analytics\, or forensic interviewing\, this conference is a platform for invaluable insights and knowledge. \nEven if you do not provide direct services to children and families\, your participation in the conference as a sponsor or exhibitor can make a significant difference. This is a unique opportunity for your organization to contribute to this important cause.
URL:https://211sandiego.org/event/__trashed-13/
LOCATION:Town and Country Resort\, 500 Hotel Cir N\, San Diego\, CA\, 92108\, United States
CATEGORIES:Class, Seminar, Training, or Workshop,Conference
ORGANIZER;CN="Chadwick Center for Children &amp%3B Families- Rady Children's Health":MAILTO:ChadwickCenter@rchsd.org
END:VEVENT
BEGIN:VEVENT
DTSTART;TZID=America/Los_Angeles:20260124T080000
DTEND;TZID=America/Los_Angeles:20260129T170000
DTSTAMP:20260419T181751
CREATED:20251006T204124Z
LAST-MODIFIED:20251006T204124Z
UID:10002778-1769241600-1769706000@211sandiego.org
SUMMARY:41st Annual San Diego International Conference on Child and Family Maltreatment
DESCRIPTION:This six-day conference offers continuing education\, networking opportunities and presents national best practice standards on evidence-based practices (EBPs) and current MDT trends in the child and family maltreatment field. \nThe conference is directed to a multidisciplinary audience who offer direct services in the fields of child maltreatment and family/community violence. The agenda includes keynote speeches from renowned experts\, interactive workshops\, and panel discussions\, all aimed at fostering interdisciplinary collaboration and sharing of best practices. \nThe educational program\, meticulously designed\, offers specialized training to professionals in various fields. Whether in medicine\, nursing\, advocacy\, law enforcement\, early childhood mental health\, child welfare\, substance abuse\, prosecution\, research\, academia\, policy\, data analytics\, or forensic interviewing\, this conference is a platform for invaluable insights and knowledge. \nEven if you do not provide direct services to children and families\, your participation in the conference as a sponsor or exhibitor can make a significant difference. This is a unique opportunity for your organization to contribute to this important cause.
URL:https://211sandiego.org/event/41st-annual-san-diego-international-conference-on-child-and-family-maltreatment/
LOCATION:Town and Country Resort\, 500 Hotel Cir N\, San Diego\, CA\, 92108\, United States
CATEGORIES:Class, Seminar, Training, or Workshop,Conference
ORGANIZER;CN="Chadwick Center for Children &amp%3B Families - Rady Children's Health":MAILTO:ChadwickCenter@rchsd.org
END:VEVENT
BEGIN:VEVENT
DTSTART;TZID=America/Los_Angeles:20260125T133000
DTEND;TZID=America/Los_Angeles:20260125T153000
DTSTAMP:20260419T181751
CREATED:20260105T195704Z
LAST-MODIFIED:20260105T195704Z
UID:10003288-1769347800-1769355000@211sandiego.org
SUMMARY:Free Self-Defense Seminar
DESCRIPTION:Free Self-Defense Workshop Sunday\, January 25\, 2026 | 1:30 PM – 3:30 PM No Experience Necessary! Everyone Welcome (Ages 13+) Bring a friend & wear comfortable athletic clothing In this safe\, supportive\, and fun 2-hour workshop\, you’ll learn practical techniques from Brazilian Jiu-Jitsu (BJJ) that rely on leverage\, timing\, and technique — not strength or speed — so anyone can defend against larger opponents. Highlights include:Defenses against the 20 most common attacks on women (hair grabs\, chokes\, bearhugs\, ground pins\, and more) Core standing and ground self-defense moves from the famous 36 Essential Gracie Techniques Simple\, step-by-step drills in a cooperative\, non-competitive environment A welcoming introduction to why Gracie Jiu-Jitsu is widely regarded as the most effective self-defense system. No prior experience is needed!! Spots are limited — reserve your free spot today!
URL:https://211sandiego.org/event/free-self-defense-seminar/
LOCATION:Graice Jiu-Jitsu La Jolla\, 7598 Eads Avenue\, La Jolla\, 92037\, United States
ATTACH;FMTTYPE=image/png:https://211sandiego.org/wp-content/uploads/2025/12/Gracie-Jiu-Jitsu-La-Jolla-7.png
ORGANIZER;CN="Dione Becker":MAILTO:dionemariebecker@gmail.com
END:VEVENT
END:VCALENDAR