BEGIN:VCALENDAR
VERSION:2.0
PRODID:-//211 - ECPv6.15.20//NONSGML v1.0//EN
CALSCALE:GREGORIAN
METHOD:PUBLISH
X-ORIGINAL-URL:https://211sandiego.org
X-WR-CALDESC:Events for 211
REFRESH-INTERVAL;VALUE=DURATION:PT1H
X-Robots-Tag:noindex
X-PUBLISHED-TTL:PT1H
BEGIN:VTIMEZONE
TZID:America/Los_Angeles
BEGIN:DAYLIGHT
TZOFFSETFROM:-0800
TZOFFSETTO:-0700
TZNAME:PDT
DTSTART:20250309T100000
END:DAYLIGHT
BEGIN:STANDARD
TZOFFSETFROM:-0700
TZOFFSETTO:-0800
TZNAME:PST
DTSTART:20251102T090000
END:STANDARD
BEGIN:DAYLIGHT
TZOFFSETFROM:-0800
TZOFFSETTO:-0700
TZNAME:PDT
DTSTART:20260308T100000
END:DAYLIGHT
BEGIN:STANDARD
TZOFFSETFROM:-0700
TZOFFSETTO:-0800
TZNAME:PST
DTSTART:20261101T090000
END:STANDARD
BEGIN:DAYLIGHT
TZOFFSETFROM:-0800
TZOFFSETTO:-0700
TZNAME:PDT
DTSTART:20270314T100000
END:DAYLIGHT
BEGIN:STANDARD
TZOFFSETFROM:-0700
TZOFFSETTO:-0800
TZNAME:PST
DTSTART:20271107T090000
END:STANDARD
END:VTIMEZONE
BEGIN:VEVENT
DTSTART;TZID=America/Los_Angeles:20260202T153000
DTEND;TZID=America/Los_Angeles:20260401T183000
DTSTAMP:20260424T041907
CREATED:20260202T225749Z
LAST-MODIFIED:20260202T225749Z
UID:10003438-1770046200-1775068200@211sandiego.org
SUMMARY:Caregiver Expo
DESCRIPTION:This event is for family members and/or friends caring for a loved one with dementia. The event will share ways to manage difficult behaviors\, ways to care for yourself as a caregiver to avoid burnout and information on community resources to help families navigate the care of their loved one.
URL:https://211sandiego.org/event/caregiver-expo/
LOCATION:George G. Glenner Alzheimer’s Family Centers\, Inc.\, 2765 Main St. Ste. A\, Chula Vista\, CA\, 91911\, United States
CATEGORIES:Class, Seminar, Training, or Workshop
ATTACH;FMTTYPE=image/png:https://211sandiego.org/wp-content/uploads/2026/02/SOCIAL-MEDIA-PNG-for-Caregiver-Expo-at-Town-Square®-4.1.26.png
ORGANIZER;CN="George G. Glenner Alzheimer's Family Centers%2C Inc.":MAILTO:dementiacareeducation@glenner.org
END:VEVENT
BEGIN:VEVENT
DTSTART;TZID=America/Los_Angeles:20260304T180000
DTEND;TZID=America/Los_Angeles:20260415T183000
DTSTAMP:20260424T041907
CREATED:20260302T164447Z
LAST-MODIFIED:20260302T164447Z
UID:10003916-1772647200-1776277800@211sandiego.org
SUMMARY:Grief Support Circle: Virtual 6-Week Series by Orange Hospice
DESCRIPTION:The Grief Support Circle is a gentle\, supportive space for anyone navigating loss\, anticipatory grief\, or the emotional weight of caregiving. This virtual six-week series\, hosted by Orange Hospice\, offers a place to slow down\, be heard\, and connect with others who truly understand the complexity of grief. \nGuided with compassion by facilitator Gabriela Böhm\, an experienced end-of-life doula\, these sessions allow you to share\, reflect\, or simply listen at your own pace. There are no expectations or pressure to perform healing—only shared presence and understanding. \nWhat to expect:\n– Gentle grounding and emotional regulation practices.\n– Thoughtful prompts for reflection and self-awareness.\n– A confidential\, respectful group setting built over six weeks. \nRegister Now – Space is Limited to Ensure Intimacy
URL:https://211sandiego.org/event/grief-support-circle-virtual-6-week-series-by-orange-hospice/
LOCATION:Virtual
CATEGORIES:Support Group
ATTACH;FMTTYPE=image/jpeg:https://211sandiego.org/wp-content/uploads/2026/03/stock-photo-close-people-sitting-chairs-circle-therapy-class.jpg
ORGANIZER;CN="Orange Hospice":MAILTO:info@orangehospice.net
END:VEVENT
BEGIN:VEVENT
DTSTART;TZID=America/Los_Angeles:20260316T130000
DTEND;TZID=America/Los_Angeles:20260316T143000
DTSTAMP:20260424T041907
CREATED:20260105T195242Z
LAST-MODIFIED:20260105T195242Z
UID:10003326-1773666000-1773671400@211sandiego.org
SUMMARY:Alzheimer's San Diego: Manejando cambios en la comunicación y el comportamiento
DESCRIPTION:Aprenda los síntomas más comunes que afectan el comportamiento\, la personalidad y la razón detrás de los cambios. \nEsta clase gratuita es presentada por la organización local Alzheimer’s San Diego. Se recomienda la pre-inscripción.
URL:https://211sandiego.org/event/alzheimers-san-diego-manejando-cambios-en-la-comunicacion-y-el-comportamiento-3/
LOCATION:Bonita-Sunnyside Branch Library\, 4375 Bonita Rd\, Bonita\, 91902
ATTACH;FMTTYPE=image/jpeg:https://211sandiego.org/wp-content/uploads/2026/01/AlzDayOne2023-75-4-scaled.jpg
ORGANIZER;CN="Alzheimer's San Diego":MAILTO:info@alzsd.org
END:VEVENT
BEGIN:VEVENT
DTSTART;TZID=America/Los_Angeles:20260317T133000
DTEND;TZID=America/Los_Angeles:20260317T153000
DTSTAMP:20260424T041907
CREATED:20260225T153710Z
LAST-MODIFIED:20260225T153710Z
UID:10003838-1773754200-1773761400@211sandiego.org
SUMMARY:East County Resource & Job Fair / Preparation Workshop
DESCRIPTION:Ready to explore new job opportunities in East County? \nJoin us for the East County Resource & Job Fair\, a free hiring and resource event hosted by the San Diego Workforce Partnership at the El Cajon Library. Start with a free resume-building and job fair prep workshop on March 17\, then bring your updated resume on March 25 to connect with East County resource providers and employers offering full-time\, part-time and seasonal opportunities. \n 
URL:https://211sandiego.org/event/east-county-resource-job-fair-preparation-workshop/2026-03-17/
LOCATION:El Cajon Library\, 201 E. Douglas Avenue\, El Cajon\, CA\, 92020\, United States
CATEGORIES:Class, Seminar, Training, or Workshop
ATTACH;FMTTYPE=image/png:https://211sandiego.org/wp-content/uploads/2026/02/Screenshot-2026-02-23-094026.png
ORGANIZER;CN="San Diego Workforce Partnership":MAILTO:Hello@workforce.org
END:VEVENT
BEGIN:VEVENT
DTSTART;TZID=America/Los_Angeles:20260318T100000
DTEND;TZID=America/Los_Angeles:20260318T113000
DTSTAMP:20260424T041907
CREATED:20260105T195240Z
LAST-MODIFIED:20260105T195240Z
UID:10003327-1773828000-1773833400@211sandiego.org
SUMMARY:Alzheimer's San Diego: Safety at Home
DESCRIPTION:Reduce the risk of wandering\, falls\, household injuries\, medication errors\, and more by learning important safety tips to keep people living with memory loss safe and well at home. \nThis class is presented by local nonprofit Alzheimer’s San Diego. Pre-registration is recommended.
URL:https://211sandiego.org/event/alzheimers-san-diego-safety-at-home-5/
LOCATION:Rancho Peñasquitos Branch Library\, 13330 Salmon River Rd San Diego\, CA 92129 United States\, San Diego\, CA\, 92129\, United States
ATTACH;FMTTYPE=image/jpeg:https://211sandiego.org/wp-content/uploads/2026/01/AlzDayOne2023-49-5-scaled.jpg
ORGANIZER;CN="Alzheimer's San Diego":MAILTO:info@alzsd.org
END:VEVENT
BEGIN:VEVENT
DTSTART;TZID=America/Los_Angeles:20260318T110000
DTEND;TZID=America/Los_Angeles:20260318T123000
DTSTAMP:20260424T041907
CREATED:20241224T201744Z
LAST-MODIFIED:20241224T201744Z
UID:10001008-1773831600-1773837000@211sandiego.org
SUMMARY:TrueCare Food Distribution
DESCRIPTION:San Marcos \nIglesia del Señor Jesucristo en las Américas San Marcos \n332 E. Olive St\, San Marcos\, CA 92069 \nOperating from 11:00 am-12:30 pm on the \n1st and 3rd Wednesday of every month \nFor questions please call (760) 736-6777.
URL:https://211sandiego.org/event/truecare-food-distribution-2/2026-03-18/
LOCATION:Iglesia del Señor Jesucristo en las Américas San Marcos\, 332 E. Olive St\, San Marcos\, 92069\, United States
CATEGORIES:Distribution Event
ATTACH;FMTTYPE=application/pdf:https://211sandiego.org/wp-content/uploads/2024/12/FoodDistribution_TrueCare_Flyer_2023.pdf
END:VEVENT
BEGIN:VEVENT
DTSTART;TZID=America/Los_Angeles:20260318T130000
DTEND;TZID=America/Los_Angeles:20260318T140000
DTSTAMP:20260424T041907
CREATED:20260312T173953Z
LAST-MODIFIED:20260312T173953Z
UID:10003947-1773838800-1773842400@211sandiego.org
SUMMARY:The Role of the Caregiver in Diabetes and Dementia
DESCRIPTION:Did you know that diabetes is a risk factor for dementia? \nJoin us virtually to learn about diabetes\, how to take care of yourself and the person you care for with diabetes\, and understand the relationship between diabetes and dementia. \nRegister HERE
URL:https://211sandiego.org/event/the-role-of-the-caregiver-in-diabetes-and-dementia/
LOCATION:Virtual
CATEGORIES:Class, Seminar, Training, or Workshop
ATTACH;FMTTYPE=image/png:https://211sandiego.org/wp-content/uploads/2026/03/March-2026-livestream-flyer-image.png
END:VEVENT
BEGIN:VEVENT
DTSTART;TZID=America/Los_Angeles:20260318T150000
DTEND;TZID=America/Los_Angeles:20260318T170000
DTSTAMP:20260424T041907
CREATED:20250409T174451Z
LAST-MODIFIED:20250409T174451Z
UID:10001436-1773846000-1773853200@211sandiego.org
SUMMARY:OHNC Pantry of HOPE | OHNC Despensa de la ESPERANZA
DESCRIPTION:Need Food or Essentials? Visit the Pantry of HOPE \nOperation HOPE—North County’s Pantry of HOPE is here to support individuals and families in our community who are experiencing food insecurity or need access to basic essentials. \nThe pantry is open to the public and provides: \n\n\nFresh produce and non-perishable food items \n\n\nClothing for all ages \n\n\nDiapers\, wipes\, and baby supplies \n\n\nFeminine hygiene products and other household essentials \n\n\nWe serve an average of 60 to 150 families each week\, including shelter alumni and community members referred by local organizations. Our goal is to ensure that families have reliable access to nutritious food and vital resources in times of need. \nFirst-time attendees only need to fill out an application—no ID necessary. \nNo appointment is necessary\, but families are encouraged to arrive early during distribution times as supplies are available on a first-come\, first-served basis. \nIf you or someone you know is in need\, we invite you to visit the Pantry of HOPE. For more information about current distribution hours or how to get involved\, please contact hpfalzer@operationhopeshelter.org. \nTogether\, we’re building a stronger\, healthier community—one bag of hope at a time. \nNecesita alimentos o artículos esenciales? Visite la despensa de la esperanza \nLa despensa de la esperanza de Operation HOPE—North County está aquí para apoyar a las personas y familias de nuestra comunidad que están experimentando inseguridad alimentaria o necesitan acceso a artículos esenciales básicos. \nLa despensa está abierta al público y proporciona: \n\n\nProductos frescos y alimentos no perecederos \n\n\nRopa para todas las edades \n\n\nPañales\, toallitas y suministros para bebés \n\n\nProductos de higiene femenina y otros artículos esenciales para el hogar \n\n\nAtendemos un promedio de 60 a 150 familias cada semana\, incluyendo a exresidentes de albergues y miembros de la comunidad referidos por organizaciones locales. Nuestro objetivo es garantizar que las familias tengan acceso confiable a alimentos nutritivos y recursos vitales en momentos de necesidad. \nLos nuevos asistentes solo necesitan llenar una solicitud; no es necesario presentar identificación. \nNo es necesario hacer una cita\, pero se recomienda que las familias lleguen temprano durante los horarios de distribución\, ya que los suministros están disponibles por orden de llegada. \nSi usted o alguien que conoce necesita ayuda\, lo invitamos a visitar la despensa de la esperanza. Para más información sobre los horarios de distribución actuales o cómo involucrarse\, comuníquese a hpfalzer@operationhopeshelter.org. \nJuntos\, estamos construyendo una comunidad más fuerte y saludable\, una bolsa de esperanza a la vez.
URL:https://211sandiego.org/event/ohnc-pantry-of-hope-ohnc-despensa-de-la-esperanza/2026-03-18/
LOCATION:Operation HOPE—North County (Annex)\, 840 Townsite Dr. Suite 850\, Vista\, CA\, 92084
CATEGORIES:Distribution Event
ATTACH;FMTTYPE=image/png:https://211sandiego.org/wp-content/uploads/2025/04/Screenshot-2025-03-28-184140.png
ORGANIZER;CN="Operation HOPE%E2%80%94North County":MAILTO:hpfalzer@operationhopeshelter.org
END:VEVENT
BEGIN:VEVENT
DTSTART;TZID=America/Los_Angeles:20260319T090000
DTEND;TZID=America/Los_Angeles:20260319T120000
DTSTAMP:20260424T041907
CREATED:20250822T171740Z
LAST-MODIFIED:20250822T171740Z
UID:10002453-1773910800-1773921600@211sandiego.org
SUMMARY:Monthly Social Gathering for People 64 and Older
DESCRIPTION:Join us each month for a friendly get-together with fellow older individuals in the community. Enjoy activities\, great conversation\, and helpful information about the services and resources available through Neighborhood Healthcare.\nWhat to Expect:• Social time with community members• Light snacks and refreshments• Health and wellness tips• Info on free or low-cost services• A welcoming and supportive atmosphere\n\n\nAcompáñenos cada mes en una reunión amistosa con otras personas mayores de la comunidad. Disfrute de actividades\, buena conversación e información útil sobre los servicios y recursos disponibles a través de Neighborhood Healthcare.Reunión Social Mensual para adultos mayores de 64 añosQué puede esperar:• Tiempo social con miembros de la comunidad• Refrigerios y bocadillos ligeros• Consejos de salud y bienestar• Información sobre servicios gratuitos o de bajo costo• Un ambiente acogedor y de apoyo
URL:https://211sandiego.org/event/monthly-social-gathering-for-people-64-and-older/2026-03-19/
LOCATION:215 S Hickory St\, Escondido\, CA 92027\, 215 S Hickory Street\, Escondido\, CA\, 92029\, United States
ATTACH;FMTTYPE=image/jpeg:https://211sandiego.org/wp-content/uploads/2025/08/PACEPatientsShoot2-11-3-copy-scaled.jpg
END:VEVENT
BEGIN:VEVENT
DTSTART;TZID=America/Los_Angeles:20260321T100000
DTEND;TZID=America/Los_Angeles:20260321T120000
DTSTAMP:20260424T041907
CREATED:20260317T205228Z
LAST-MODIFIED:20260317T205228Z
UID:10003958-1774087200-1774094400@211sandiego.org
SUMMARY:Maximizing Social Security: Webinar
DESCRIPTION:What You Need to Know to Help Get the Most Out of Your Benefit \n\n\n\n\nMaximizing Social Security: Make Informed Decisions About Your Retirement Income\nSocial Security plays a critical role in retirement planning. In fact\, for many Americans\, it represents one of the largest sources of retirement income. However\, the rules are complex\, and the timing of your decision can permanently affect your lifetime benefits. \nShould you claim at 62\, wait until full retirement age\, or delay until 70?\nHow do spousal and survivor benefits work?\nHow does Social Security coordinate with pensions\, retirement accounts\, and other income sources? \nAdvanced planning and informed decision-making can make a meaningful difference. \nIn this free live educational webinar\, we will cover: \n• How Social Security benefits are calculated\n• How claiming age impacts monthly and lifetime income\n• The role of spousal and survivor benefits\n• How Social Security helps address longevity and inflation concerns\n• How benefits coordinate with other retirement income sources\n• Key claiming considerations before filing \nWhether you are single\, married\, divorced\, or widowed\, this session is designed to provide clear\, practical education so you can better understand your options and make informed decisions. \nThis is an educational presentation — NOT a sales event. There is no cost to attend\, and the session is open to the public. \nAttendees will have the opportunity to submit questions during the live webinar. \nReserve your seat today! \nCaidyn Taylor \nJunior Advisor\, CA LIC #4227953 \nOn Behalf of Elisabeth Dawson\nCA LIC #0C72164\, #0G81294 \nP: (619) 640-2622 | F: (619) 640-2600\nW: www.copiawm.com\nE: ctaylor@copiawm.com\nA: 2333 Camino Del Rio South\, Suite 240\, San Diego\, CA 92108 \nThe Greatest Compliment You Can Give Us is the Introduction to a Loved One or a Friend. \nInvestment advice offered through Copia Wealth Management Advisors\, Inc. Copia Wealth Management Advisors\, Inc. is a registered investment advisor.
URL:https://211sandiego.org/event/maximizing-social-security-webinar/2026-03-21/
LOCATION:ZOOM
CATEGORIES:Class, Seminar, Training, or Workshop
ATTACH;FMTTYPE=image/jpeg:https://211sandiego.org/wp-content/uploads/2026/03/MSS-Cover-Page-1-scaled.jpg
ORGANIZER;CN="CopiaWM&amp%3BIS":MAILTO:ctaylor@copiawm.com
END:VEVENT
BEGIN:VEVENT
DTSTART;TZID=America/Los_Angeles:20260321T100000
DTEND;TZID=America/Los_Angeles:20260321T170000
DTSTAMP:20260424T041907
CREATED:20260220T215404Z
LAST-MODIFIED:20260220T215404Z
UID:10003459-1774087200-1774112400@211sandiego.org
SUMMARY:Free Food Distribution - Neighborhood Healthcare/Feeding San Diego
DESCRIPTION:Neighborhood Healthcare\, in partnership with Feeding San Diego\, is hosting a Free Food Distribution to support local families with fresh produce\, dried goods\, and frozen food. Distributions will take place monthly from January through June at the Neighborhood Healthcare site in Escondido\, with food available starting at 10 AM until supplies last. Community members in need are welcome\, and volunteer opportunities are also available for those who want to help fight hunger locally.
URL:https://211sandiego.org/event/free-food-distribution-neighborhood-healthcare-feeding-san-diego/2026-03-21/
LOCATION:Neighborhood Healthcare Escondido\, 425 N Date St.\, Escondido\, CA\, 92025\, United States
CATEGORIES:Distribution Event
ATTACH;FMTTYPE=image/png:https://211sandiego.org/wp-content/uploads/2026/02/Screenshot-2026-02-19-094723.png
END:VEVENT
BEGIN:VEVENT
DTSTART;TZID=America/Los_Angeles:20260322T130000
DTEND;TZID=America/Los_Angeles:20260322T160000
DTSTAMP:20260424T041907
CREATED:20260128T224650Z
LAST-MODIFIED:20260128T224650Z
UID:10003411-1774184400-1774195200@211sandiego.org
SUMMARY:San Diego Fixit Clinic: Textile Repair Event
DESCRIPTION:The SD Fixit Clinic is excited to partner with the Solana Center at the Encinitas Community and Senior Center for the upcoming Zero Waste Textile Expo 2026! This special event aims to educate our wonderful community about the effects of clothing and textile waste and highlight the importance of embracing sustainable fashion practices. \nJoin us for a delightful mini textile repair clinic\, where you can bring your textile items that need a little love and mending. Please fill out the RSVP form to help us ensure that we have plenty of volunteers on hand to assist you. Please note that registration will close two days before the event. No worries if you can’t make it on time; we always welcome walk-ins on a first-come\, first-served basis! Just arrive before 3:30 PM. We will not be accepting any more people after 3:30 PM. \nIt’s a fun-filled day for the whole family\, so feel free to bring the kids along! We’re growing quickly and look forward to hosting events all across San Diego County. \nWe can’t wait to see you there! \nDetails: \nDate: Sunday\, March 22\, 2026\nTime: 1:00 PM to 4:00 PM\nLocation: Encinitas Community and Senior Center \nInterested in volunteering with SD Fix-it? Click on this link to fill out an application: https://sdfixitclinic.org/
URL:https://211sandiego.org/event/san-diego-fixit-clinic-textile-repair-event/
LOCATION:Encinitas Community and Senior Center\, 1140 Oakcrest Park Dr\, Encinitas\, CA\, 92024
CATEGORIES:Class, Seminar, Training, or Workshop,Volunteer Event
ATTACH;FMTTYPE=image/jpeg:https://211sandiego.org/wp-content/uploads/2026/01/Textile-Expo-SDFC-2026-1080-x-1080-px.jpg
ORGANIZER;CN="San Diego Fixit Clinic":MAILTO:sdfixitclinic@gmail.com
END:VEVENT
END:VCALENDAR