BEGIN:VCALENDAR
VERSION:2.0
PRODID:-//211 - ECPv6.15.20//NONSGML v1.0//EN
CALSCALE:GREGORIAN
METHOD:PUBLISH
X-WR-CALNAME:211
X-ORIGINAL-URL:https://211sandiego.org
X-WR-CALDESC:Events for 211
REFRESH-INTERVAL;VALUE=DURATION:PT1H
X-Robots-Tag:noindex
X-PUBLISHED-TTL:PT1H
BEGIN:VTIMEZONE
TZID:America/Los_Angeles
BEGIN:DAYLIGHT
TZOFFSETFROM:-0800
TZOFFSETTO:-0700
TZNAME:PDT
DTSTART:20250309T100000
END:DAYLIGHT
BEGIN:STANDARD
TZOFFSETFROM:-0700
TZOFFSETTO:-0800
TZNAME:PST
DTSTART:20251102T090000
END:STANDARD
BEGIN:DAYLIGHT
TZOFFSETFROM:-0800
TZOFFSETTO:-0700
TZNAME:PDT
DTSTART:20260308T100000
END:DAYLIGHT
BEGIN:STANDARD
TZOFFSETFROM:-0700
TZOFFSETTO:-0800
TZNAME:PST
DTSTART:20261101T090000
END:STANDARD
BEGIN:DAYLIGHT
TZOFFSETFROM:-0800
TZOFFSETTO:-0700
TZNAME:PDT
DTSTART:20270314T100000
END:DAYLIGHT
BEGIN:STANDARD
TZOFFSETFROM:-0700
TZOFFSETTO:-0800
TZNAME:PST
DTSTART:20271107T090000
END:STANDARD
END:VTIMEZONE
BEGIN:VEVENT
DTSTART;TZID=America/Los_Angeles:20260202T153000
DTEND;TZID=America/Los_Angeles:20260401T183000
DTSTAMP:20260425T132432
CREATED:20260202T225749Z
LAST-MODIFIED:20260202T225749Z
UID:10003438-1770046200-1775068200@211sandiego.org
SUMMARY:Caregiver Expo
DESCRIPTION:This event is for family members and/or friends caring for a loved one with dementia. The event will share ways to manage difficult behaviors\, ways to care for yourself as a caregiver to avoid burnout and information on community resources to help families navigate the care of their loved one.
URL:https://211sandiego.org/event/caregiver-expo/
LOCATION:George G. Glenner Alzheimer’s Family Centers\, Inc.\, 2765 Main St. Ste. A\, Chula Vista\, CA\, 91911\, United States
CATEGORIES:Class, Seminar, Training, or Workshop
ATTACH;FMTTYPE=image/png:https://211sandiego.org/wp-content/uploads/2026/02/SOCIAL-MEDIA-PNG-for-Caregiver-Expo-at-Town-Square®-4.1.26.png
ORGANIZER;CN="George G. Glenner Alzheimer's Family Centers%2C Inc.":MAILTO:dementiacareeducation@glenner.org
END:VEVENT
BEGIN:VEVENT
DTSTART;TZID=America/Los_Angeles:20260304T180000
DTEND;TZID=America/Los_Angeles:20260415T183000
DTSTAMP:20260425T132432
CREATED:20260302T164447Z
LAST-MODIFIED:20260302T164447Z
UID:10003916-1772647200-1776277800@211sandiego.org
SUMMARY:Grief Support Circle: Virtual 6-Week Series by Orange Hospice
DESCRIPTION:The Grief Support Circle is a gentle\, supportive space for anyone navigating loss\, anticipatory grief\, or the emotional weight of caregiving. This virtual six-week series\, hosted by Orange Hospice\, offers a place to slow down\, be heard\, and connect with others who truly understand the complexity of grief. \nGuided with compassion by facilitator Gabriela Böhm\, an experienced end-of-life doula\, these sessions allow you to share\, reflect\, or simply listen at your own pace. There are no expectations or pressure to perform healing—only shared presence and understanding. \nWhat to expect:\n– Gentle grounding and emotional regulation practices.\n– Thoughtful prompts for reflection and self-awareness.\n– A confidential\, respectful group setting built over six weeks. \nRegister Now – Space is Limited to Ensure Intimacy
URL:https://211sandiego.org/event/grief-support-circle-virtual-6-week-series-by-orange-hospice/
LOCATION:Virtual
CATEGORIES:Support Group
ATTACH;FMTTYPE=image/jpeg:https://211sandiego.org/wp-content/uploads/2026/03/stock-photo-close-people-sitting-chairs-circle-therapy-class.jpg
ORGANIZER;CN="Orange Hospice":MAILTO:info@orangehospice.net
END:VEVENT
BEGIN:VEVENT
DTSTART;TZID=America/Los_Angeles:20260330T080000
DTEND;TZID=America/Los_Angeles:20260330T170000
DTSTAMP:20260425T132432
CREATED:20260330T180112Z
LAST-MODIFIED:20260330T180112Z
UID:10004056-1774857600-1774890000@211sandiego.org
SUMMARY:NU Speaker Series: What Nobody Told You About Retirement
DESCRIPTION:Retirement has become one of the most misunderstood financial conversations of our time. Many people are relying on advice\, systems\, and assumptions that were built for a very different economy. \nIn What Nobody Told You About Retirement\, wealth strategist and real-life investor Amanda Taylor offers a clear\, non-biased look at how money\, risk\, and long-term security actually work today. Rather than promoting products or one-size-fits-all solutions\, this session focuses on separating fact from fiction\, clearing up common misconceptions\, and helping people at any age better understand their options\, tradeoffs\, and decisions. \nThis is an educational conversation designed to reduce fear\, cut through misinformation\, and help people think more clearly about their financial future.
URL:https://211sandiego.org/event/nu-speaker-series-what-nobody-told-you-about-retirement/
LOCATION:Zoom: https://nu.zoom.us/webinar/register/4117719767229/WN_kHoFRgMcQ2GNEXhlFIl5Kg\, 9388 Lightwave Ave\, San Diego\, CA\, 92123\, United States
CATEGORIES:Class, Seminar, Training, or Workshop
ATTACH;FMTTYPE=image/png:https://211sandiego.org/wp-content/uploads/2026/03/NUSS-Retirement-1200-x-600-px.png
ORGANIZER;CN="NationalUniversity":MAILTO:alumni@nu.edu
END:VEVENT
BEGIN:VEVENT
DTSTART;TZID=America/Los_Angeles:20260401T090000
DTEND;TZID=America/Los_Angeles:20260401T100000
DTSTAMP:20260425T132432
CREATED:20260330T182534Z
LAST-MODIFIED:20260330T182534Z
UID:10004051-1775034000-1775037600@211sandiego.org
SUMMARY:Know Your Rights Workshop
DESCRIPTION:Join us for the “Know Your Rights” Presentation hosted by the County of San Diego. This session will share helpful information about your rights and protections when interacting with immigration enforcement\, including ICE\, along with resources available in the community. Come learn\, ask questions\, and leave feeling more confident.
URL:https://211sandiego.org/event/know-your-rights-workshop/
LOCATION:Online\, Online\, San Diego\, CA\, 92123\, United States
CATEGORIES:Class, Seminar, Training, or Workshop
ATTACH;FMTTYPE=image/png:https://211sandiego.org/wp-content/uploads/2026/03/Screenshot-2026-03-27-091239.png
ORGANIZER;CN="San Diego Refugee Forum Employment Taskforce":MAILTO:SDRefugeeForum@gmail.com
END:VEVENT
BEGIN:VEVENT
DTSTART;TZID=America/Los_Angeles:20260401T100000
DTEND;TZID=America/Los_Angeles:20260401T150000
DTSTAMP:20260425T132432
CREATED:20251125T183256Z
LAST-MODIFIED:20251125T183256Z
UID:10003220-1775037600-1775055600@211sandiego.org
SUMMARY:Monthly Community Health & Resource Fair
DESCRIPTION:This monthly event provides FREE services and resources to everyone.  There is health screening for blood pressure\, blood sugar\, diabetes\, cholesterol\, HIV\, and Hep C.  Medical education and medical consultation by medical providers.  Free breast exams and mammogram sign-ups are available. Free vaccines (Flu and COVID-19)\, and low-cost pet services are offered by the San Diego Humane Society.  FREE fresh produce and food distribution along with opportunity drawings and prizes given to participants.
URL:https://211sandiego.org/event/monthly-community-health-resource-fair-4/2026-04-01/
LOCATION:Jackie Robinson YMCA\, 151 YMCA Way\, San Diego\, CA\, 92102\, United States
CATEGORIES:Resource Fair
ATTACH;FMTTYPE=image/jpeg:https://211sandiego.org/wp-content/uploads/2025/11/Jackie-Robinson-YMCA-Resource-Fair-ALL-dATES.jpg
ORGANIZER;CN="A Healthier Me":MAILTO:infoahealthierme@gmail.com
GEO:32.716221;-117.117058
X-APPLE-STRUCTURED-LOCATION;VALUE=URI;X-ADDRESS=Jackie Robinson YMCA 151 YMCA Way San Diego CA 92102 United States;X-APPLE-RADIUS=500;X-TITLE=151 YMCA Way:geo:-117.117058,32.716221
END:VEVENT
BEGIN:VEVENT
DTSTART;TZID=America/Los_Angeles:20260401T110000
DTEND;TZID=America/Los_Angeles:20260401T123000
DTSTAMP:20260425T132432
CREATED:20241224T201250Z
LAST-MODIFIED:20241224T201525Z
UID:10000890-1775041200-1775046600@211sandiego.org
SUMMARY:TrueCare Food Distribution
DESCRIPTION:San Marcos \nIglesia del Señor Jesucristo en las Américas San Marcos \n332 E. Olive St\, San Marcos\, CA 92069 \nOperating from 11:00 am-12:30 pm on the \n1st and 3rd Wednesday of every month \nFor questions please call (760) 736-6777.
URL:https://211sandiego.org/event/truecare-food-distribution/2026-04-01/
LOCATION:Iglesia del Señor Jesucristo en las Américas San Marcos\, 332 E. Olive St\, San Marcos\, 92069\, United States
CATEGORIES:Distribution Event
ATTACH;FMTTYPE=application/pdf:https://211sandiego.org/wp-content/uploads/2024/12/FoodDistribution_TrueCare_Flyer_2023.pdf
END:VEVENT
BEGIN:VEVENT
DTSTART;TZID=America/Los_Angeles:20260401T150000
DTEND;TZID=America/Los_Angeles:20260401T170000
DTSTAMP:20260425T132432
CREATED:20250409T174451Z
LAST-MODIFIED:20250409T174451Z
UID:10001438-1775055600-1775062800@211sandiego.org
SUMMARY:OHNC Pantry of HOPE | OHNC Despensa de la ESPERANZA
DESCRIPTION:Need Food or Essentials? Visit the Pantry of HOPE \nOperation HOPE—North County’s Pantry of HOPE is here to support individuals and families in our community who are experiencing food insecurity or need access to basic essentials. \nThe pantry is open to the public and provides: \n\n\nFresh produce and non-perishable food items \n\n\nClothing for all ages \n\n\nDiapers\, wipes\, and baby supplies \n\n\nFeminine hygiene products and other household essentials \n\n\nWe serve an average of 60 to 150 families each week\, including shelter alumni and community members referred by local organizations. Our goal is to ensure that families have reliable access to nutritious food and vital resources in times of need. \nFirst-time attendees only need to fill out an application—no ID necessary. \nNo appointment is necessary\, but families are encouraged to arrive early during distribution times as supplies are available on a first-come\, first-served basis. \nIf you or someone you know is in need\, we invite you to visit the Pantry of HOPE. For more information about current distribution hours or how to get involved\, please contact hpfalzer@operationhopeshelter.org. \nTogether\, we’re building a stronger\, healthier community—one bag of hope at a time. \nNecesita alimentos o artículos esenciales? Visite la despensa de la esperanza \nLa despensa de la esperanza de Operation HOPE—North County está aquí para apoyar a las personas y familias de nuestra comunidad que están experimentando inseguridad alimentaria o necesitan acceso a artículos esenciales básicos. \nLa despensa está abierta al público y proporciona: \n\n\nProductos frescos y alimentos no perecederos \n\n\nRopa para todas las edades \n\n\nPañales\, toallitas y suministros para bebés \n\n\nProductos de higiene femenina y otros artículos esenciales para el hogar \n\n\nAtendemos un promedio de 60 a 150 familias cada semana\, incluyendo a exresidentes de albergues y miembros de la comunidad referidos por organizaciones locales. Nuestro objetivo es garantizar que las familias tengan acceso confiable a alimentos nutritivos y recursos vitales en momentos de necesidad. \nLos nuevos asistentes solo necesitan llenar una solicitud; no es necesario presentar identificación. \nNo es necesario hacer una cita\, pero se recomienda que las familias lleguen temprano durante los horarios de distribución\, ya que los suministros están disponibles por orden de llegada. \nSi usted o alguien que conoce necesita ayuda\, lo invitamos a visitar la despensa de la esperanza. Para más información sobre los horarios de distribución actuales o cómo involucrarse\, comuníquese a hpfalzer@operationhopeshelter.org. \nJuntos\, estamos construyendo una comunidad más fuerte y saludable\, una bolsa de esperanza a la vez.
URL:https://211sandiego.org/event/ohnc-pantry-of-hope-ohnc-despensa-de-la-esperanza/2026-04-01/
LOCATION:Operation HOPE—North County (Annex)\, 840 Townsite Dr. Suite 850\, Vista\, CA\, 92084
CATEGORIES:Distribution Event
ATTACH;FMTTYPE=image/png:https://211sandiego.org/wp-content/uploads/2025/04/Screenshot-2025-03-28-184140.png
ORGANIZER;CN="Operation HOPE%E2%80%94North County":MAILTO:hpfalzer@operationhopeshelter.org
END:VEVENT
BEGIN:VEVENT
DTSTART;TZID=America/Los_Angeles:20260404T100000
DTEND;TZID=America/Los_Angeles:20260404T120000
DTSTAMP:20260425T132432
CREATED:20260317T205228Z
LAST-MODIFIED:20260317T205228Z
UID:10003960-1775296800-1775304000@211sandiego.org
SUMMARY:Maximizing Social Security: Webinar
DESCRIPTION:What You Need to Know to Help Get the Most Out of Your Benefit \n\n\n\n\nMaximizing Social Security: Make Informed Decisions About Your Retirement Income\nSocial Security plays a critical role in retirement planning. In fact\, for many Americans\, it represents one of the largest sources of retirement income. However\, the rules are complex\, and the timing of your decision can permanently affect your lifetime benefits. \nShould you claim at 62\, wait until full retirement age\, or delay until 70?\nHow do spousal and survivor benefits work?\nHow does Social Security coordinate with pensions\, retirement accounts\, and other income sources? \nAdvanced planning and informed decision-making can make a meaningful difference. \nIn this free live educational webinar\, we will cover: \n• How Social Security benefits are calculated\n• How claiming age impacts monthly and lifetime income\n• The role of spousal and survivor benefits\n• How Social Security helps address longevity and inflation concerns\n• How benefits coordinate with other retirement income sources\n• Key claiming considerations before filing \nWhether you are single\, married\, divorced\, or widowed\, this session is designed to provide clear\, practical education so you can better understand your options and make informed decisions. \nThis is an educational presentation — NOT a sales event. There is no cost to attend\, and the session is open to the public. \nAttendees will have the opportunity to submit questions during the live webinar. \nReserve your seat today! \nCaidyn Taylor \nJunior Advisor\, CA LIC #4227953 \nOn Behalf of Elisabeth Dawson\nCA LIC #0C72164\, #0G81294 \nP: (619) 640-2622 | F: (619) 640-2600\nW: www.copiawm.com\nE: ctaylor@copiawm.com\nA: 2333 Camino Del Rio South\, Suite 240\, San Diego\, CA 92108 \nThe Greatest Compliment You Can Give Us is the Introduction to a Loved One or a Friend. \nInvestment advice offered through Copia Wealth Management Advisors\, Inc. Copia Wealth Management Advisors\, Inc. is a registered investment advisor.
URL:https://211sandiego.org/event/maximizing-social-security-webinar/2026-04-04/
LOCATION:ZOOM
CATEGORIES:Class, Seminar, Training, or Workshop
ATTACH;FMTTYPE=image/jpeg:https://211sandiego.org/wp-content/uploads/2026/03/MSS-Cover-Page-1-scaled.jpg
ORGANIZER;CN="CopiaWM&amp%3BIS":MAILTO:ctaylor@copiawm.com
END:VEVENT
BEGIN:VEVENT
DTSTART;TZID=America/Los_Angeles:20260404T110000
DTEND;TZID=America/Los_Angeles:20260404T150000
DTSTAMP:20260425T132432
CREATED:20260323T201834Z
LAST-MODIFIED:20260323T201834Z
UID:10004036-1775300400-1775314800@211sandiego.org
SUMMARY:A Day at the Park: Pepper Park
DESCRIPTION:The Port of San Diego is excited to present “A Day at the Park”\, a FREE family-friendly multicultural celebration at Pepper Park on the National City Bayfront on Saturday\, April 4.   \nCome explore the newly updated Pepper Park and enjoy the celebration featuring local food vendors\, entertainment\, performances\, and activities for kids of all ages.   \nFree shuttle services are available from 10:30 a.m. – 4 p.m. from National City.  \nShuttles will run approximately every 30 minutes from:  \n\nParadise Valley Hospital\, Medical Office Building\, the South Gated Employee Parking Lot: 655 Euclid Ave\, National City\, CA 91950  \n\n\nOlivewood Elementary School\, 2505 F Ave.\, National City\, CA 91950   \n\nVisit the event website to learn more and sign up for an event reminder for the opportunity to collect a free water bottle at the event while supplies last: https://bit.ly/3Peemzj
URL:https://211sandiego.org/event/a-day-at-the-park-pepper-park/
LOCATION:3299 Tidelands Ave.\, 3299 Tidelands Ave.\, National City\, 91950\, United States
ATTACH;FMTTYPE=image/png:https://211sandiego.org/wp-content/uploads/2026/03/TAP-PepperPark-FreeEventListings_700x500-1.png
ORGANIZER;CN="PortofSD":MAILTO:marcomevents@portofsandiego.org
END:VEVENT
BEGIN:VEVENT
DTSTART;TZID=America/Los_Angeles:20260404T110000
DTEND;TZID=America/Los_Angeles:20260404T150000
DTSTAMP:20260425T132432
CREATED:20260330T182731Z
LAST-MODIFIED:20260330T182731Z
UID:10004037-1775300400-1775314800@211sandiego.org
SUMMARY:A Day at the Park: Pepper Park
DESCRIPTION:The Port of San Diego is excited to present “A Day at the Park”\, a FREE family-friendly multicultural celebration at Pepper Park on the National City Bayfront on Saturday\, April 4.   \nCome explore the newly updated Pepper Park and enjoy the celebration featuring local food vendors\, entertainment\, performances\, and activities for kids of all ages.   \nFree shuttle services are available from 10:30 a.m. – 4 p.m. from National City.  \nShuttles will run approximately every 30 minutes from:  \n\nParadise Valley Hospital\, Medical Office Building\, the South Gated Employee Parking Lot: 655 Euclid Ave\, National City\, CA 91950  \n\n\nOlivewood Elementary School\, 2505 F Ave.\, National City\, CA 91950   \n\nVisit the event website to learn more and sign up for an event reminder for the opportunity to collect a free water bottle at the event while supplies last: https://bit.ly/3Peemzj
URL:https://211sandiego.org/event/a-day-at-the-park-pepper-park-2/
LOCATION:Pepper Park\, 3299 Tidelands Ave.\, National City\, CA\, 91950\, United States
ATTACH;FMTTYPE=image/png:https://211sandiego.org/wp-content/uploads/2026/03/TAP-PepperPark-FreeEventListings_700x500-1-1.png
ORGANIZER;CN="PortofSD":MAILTO:marcomevents@portofsandiego.org
END:VEVENT
END:VCALENDAR