BEGIN:VCALENDAR
VERSION:2.0
PRODID:-//211 - ECPv6.15.20//NONSGML v1.0//EN
CALSCALE:GREGORIAN
METHOD:PUBLISH
X-WR-CALNAME:211
X-ORIGINAL-URL:https://211sandiego.org
X-WR-CALDESC:Events for 211
REFRESH-INTERVAL;VALUE=DURATION:PT1H
X-Robots-Tag:noindex
X-PUBLISHED-TTL:PT1H
BEGIN:VTIMEZONE
TZID:America/Los_Angeles
BEGIN:DAYLIGHT
TZOFFSETFROM:-0800
TZOFFSETTO:-0700
TZNAME:PDT
DTSTART:20240310T100000
END:DAYLIGHT
BEGIN:STANDARD
TZOFFSETFROM:-0700
TZOFFSETTO:-0800
TZNAME:PST
DTSTART:20241103T090000
END:STANDARD
BEGIN:DAYLIGHT
TZOFFSETFROM:-0800
TZOFFSETTO:-0700
TZNAME:PDT
DTSTART:20250309T100000
END:DAYLIGHT
BEGIN:STANDARD
TZOFFSETFROM:-0700
TZOFFSETTO:-0800
TZNAME:PST
DTSTART:20251102T090000
END:STANDARD
BEGIN:DAYLIGHT
TZOFFSETFROM:-0800
TZOFFSETTO:-0700
TZNAME:PDT
DTSTART:20260308T100000
END:DAYLIGHT
BEGIN:STANDARD
TZOFFSETFROM:-0700
TZOFFSETTO:-0800
TZNAME:PST
DTSTART:20261101T090000
END:STANDARD
BEGIN:DAYLIGHT
TZOFFSETFROM:-0800
TZOFFSETTO:-0700
TZNAME:PDT
DTSTART:20270314T100000
END:DAYLIGHT
BEGIN:STANDARD
TZOFFSETFROM:-0700
TZOFFSETTO:-0800
TZNAME:PST
DTSTART:20271107T090000
END:STANDARD
END:VTIMEZONE
BEGIN:VEVENT
DTSTART;TZID=America/Los_Angeles:20260411T090000
DTEND;TZID=America/Los_Angeles:20260411T143000
DTSTAMP:20260422T110142
CREATED:20260330T182706Z
LAST-MODIFIED:20260330T182706Z
UID:10004053-1775898000-1775917800@211sandiego.org
SUMMARY:Grandparents Raising Grandchildren Symposium
DESCRIPTION:The County of San Diego is excited to announce the upcoming Grandparents Raising Grandchildren (GRG) Symposium on Saturday\, April 11\, from 9:00 am to 2:30 pm. The symposium is a special event designed for grandparents and other family-like caregivers who are providing full-time care for a child. This supportive and informative gathering will feature educational workshops\, resource tables\, connections to valuable community services\, family wellness activities\, refreshments\, and opportunities to connect with others who share similar experiences. Caregivers are encouraged to take advantage of this meaningful event and register by Saturday\, March 28.
URL:https://211sandiego.org/event/grandparents-raising-grandchildren-symposium-2/
LOCATION:Marina Village\, 1904 Quivira Way\, San Diego\, CA\, 92109\, United States
CATEGORIES:Class, Seminar, Training, or Workshop,Resource Fair
ATTACH;FMTTYPE=image/png:https://211sandiego.org/wp-content/uploads/2026/03/Screenshot-2026-03-27-091239-1.png
ORGANIZER;CN="Live Well San Diego":MAILTO:HCDS.HHSA@sdcounty.ca.gov
END:VEVENT
BEGIN:VEVENT
DTSTART;TZID=America/Los_Angeles:20251016T120000
DTEND;TZID=America/Los_Angeles:20251016T170000
DTSTAMP:20260422T110142
CREATED:20250825T204241Z
LAST-MODIFIED:20250825T205844Z
UID:10002515-1760616000-1760634000@211sandiego.org
SUMMARY:Free Flu Vaccine Clinic
DESCRIPTION:The County of San Diego is hosting a free flu vaccine clinic that is open to all. No insurance is required.
URL:https://211sandiego.org/event/free-flu-vaccine-clinic-2/
LOCATION:Oak Park City Library\, 2802 54th St.\, San Diego\, 92105\, United States
CATEGORIES:Distribution Event
ATTACH;FMTTYPE=image/png:https://211sandiego.org/wp-content/uploads/2025/08/2025-Flu-POD-Flyer_ENGLISH-8.19.2025-2-scaled.png
ORGANIZER;CN="County of San Diego- Health and Human Services Agency":MAILTO:LoveYourHeartSD.HHSA@sdcounty.ca.gov
END:VEVENT
BEGIN:VEVENT
DTSTART;TZID=America/Los_Angeles:20251014T150000
DTEND;TZID=America/Los_Angeles:20251014T180000
DTSTAMP:20260422T110142
CREATED:20250822T182332Z
LAST-MODIFIED:20250822T182332Z
UID:10002512-1760454000-1760464800@211sandiego.org
SUMMARY:Free Flu Vaccine Clinic
DESCRIPTION:The County of San Diego is hosting a free flu vaccine clinic that is open to all. No insurance is required.
URL:https://211sandiego.org/event/free-flu-vaccine-clinic/
LOCATION:Casa de Oro County Library 9805 Campo Rd. Spring Valley\, CA 91977\, 9805 Campo Rd.\, Spring Valley\, 91977\, United States
CATEGORIES:Distribution Event
ATTACH;FMTTYPE=image/png:https://211sandiego.org/wp-content/uploads/2025/08/2025-Flu-POD-Flyer_ENGLISH-8.19.2025-scaled.png
ORGANIZER;CN="County of San Diego- Health and Human Services Agency":MAILTO:LoveYourHeartSD.HHSA@sdcounty.ca.gov
END:VEVENT
BEGIN:VEVENT
DTSTART;TZID=America/Los_Angeles:20250210T080000
DTEND;TZID=America/Los_Angeles:20250215T170000
DTSTAMP:20260422T110142
CREATED:20250204T210037Z
LAST-MODIFIED:20250204T210037Z
UID:10001195-1739174400-1739638800@211sandiego.org
SUMMARY:Love Your Heart
DESCRIPTION:Love Your Heart is an annual event in which organizations from across the U.S. and Mexico join together to provide free blood pressure screenings to the public. Love Your Heart annually helps tens of thousands of people get to know their blood pressure numbers and know what they mean! \n  \nPlease follow the link to the Love Your Heart | Live Well San Diego website for a list of all blood pressure screening events throughout the week!
URL:https://211sandiego.org/event/love-your-heart/
LOCATION:Locations Vary
ATTACH;FMTTYPE=image/png:https://211sandiego.org/wp-content/uploads/2025/02/Love-Your-Heart.png
ORGANIZER;CN="County of San Diego- Health and Human Services Agency":MAILTO:LoveYourHeartSD.HHSA@sdcounty.ca.gov
END:VEVENT
END:VCALENDAR