BEGIN:VCALENDAR
VERSION:2.0
PRODID:-//211 - ECPv6.15.20//NONSGML v1.0//EN
CALSCALE:GREGORIAN
METHOD:PUBLISH
X-WR-CALNAME:211
X-ORIGINAL-URL:https://211sandiego.org
X-WR-CALDESC:Events for 211
REFRESH-INTERVAL;VALUE=DURATION:PT1H
X-Robots-Tag:noindex
X-PUBLISHED-TTL:PT1H
BEGIN:VTIMEZONE
TZID:America/Los_Angeles
BEGIN:DAYLIGHT
TZOFFSETFROM:-0800
TZOFFSETTO:-0700
TZNAME:PDT
DTSTART:20240310T100000
END:DAYLIGHT
BEGIN:STANDARD
TZOFFSETFROM:-0700
TZOFFSETTO:-0800
TZNAME:PST
DTSTART:20241103T090000
END:STANDARD
BEGIN:DAYLIGHT
TZOFFSETFROM:-0800
TZOFFSETTO:-0700
TZNAME:PDT
DTSTART:20250309T100000
END:DAYLIGHT
BEGIN:STANDARD
TZOFFSETFROM:-0700
TZOFFSETTO:-0800
TZNAME:PST
DTSTART:20251102T090000
END:STANDARD
BEGIN:DAYLIGHT
TZOFFSETFROM:-0800
TZOFFSETTO:-0700
TZNAME:PDT
DTSTART:20260308T100000
END:DAYLIGHT
BEGIN:STANDARD
TZOFFSETFROM:-0700
TZOFFSETTO:-0800
TZNAME:PST
DTSTART:20261101T090000
END:STANDARD
END:VTIMEZONE
BEGIN:VEVENT
DTSTART;TZID=America/Los_Angeles:20250130T040000
DTEND;TZID=America/Los_Angeles:20250130T080000
DTSTAMP:20260420T061053
CREATED:20241218T222420Z
LAST-MODIFIED:20241218T222420Z
UID:10000862-1738209600-1738224000@211sandiego.org
SUMMARY:Volunteers Needed: WeAllCount
DESCRIPTION:WeAllCount Point-in-Time needs volunteers who will help collect data for San Diego’s annual homeless census on January 30\, 2025! This census will help inform and bring necessary homeless resources to San Diego County. Learn more at the registration page! \nPurpose: \nThe WeAllCount Point-in-Time (PITC) serves the purpose of conducting a one-night census of individuals experiencing homelessness in our community during the month of January. The Department of Housing and Urban Development (HUD) mandates that Continuum of Cares (CoCs) perform this count every other year\, but the San Diego CoC is dedicated to conducting it annually. The data collected during the WeAllCount plays a vital role in our region’s efforts to reduce homelessness\, making it rare\, brief\, and non-recurring. \nWhat to Expect: \nAs a volunteer for the unsheltered segment of the WeAllCount\, your involvement will kick off on the morning of January 30\, 2025. You will join a team of over 1700 volunteers to canvass the entire San Diego County\, reaching out to individuals experiencing unsheltered homelessness. Your role involves conducting a brief survey and taking a headcount of these individuals. Below are a few key points to the volunteer registration process.
URL:https://211sandiego.org/event/volunteers-needed-weallcount/
LOCATION:Locations to be Assigned
CATEGORIES:Volunteer Event
END:VEVENT
END:VCALENDAR