BEGIN:VCALENDAR
VERSION:2.0
PRODID:-//211 - ECPv6.15.20//NONSGML v1.0//EN
CALSCALE:GREGORIAN
METHOD:PUBLISH
X-ORIGINAL-URL:https://211sandiego.org
X-WR-CALDESC:Events for 211
REFRESH-INTERVAL;VALUE=DURATION:PT1H
X-Robots-Tag:noindex
X-PUBLISHED-TTL:PT1H
BEGIN:VTIMEZONE
TZID:America/Los_Angeles
BEGIN:DAYLIGHT
TZOFFSETFROM:-0800
TZOFFSETTO:-0700
TZNAME:PDT
DTSTART:20230312T100000
END:DAYLIGHT
BEGIN:STANDARD
TZOFFSETFROM:-0700
TZOFFSETTO:-0800
TZNAME:PST
DTSTART:20231105T090000
END:STANDARD
BEGIN:DAYLIGHT
TZOFFSETFROM:-0800
TZOFFSETTO:-0700
TZNAME:PDT
DTSTART:20240310T100000
END:DAYLIGHT
BEGIN:STANDARD
TZOFFSETFROM:-0700
TZOFFSETTO:-0800
TZNAME:PST
DTSTART:20241103T090000
END:STANDARD
BEGIN:DAYLIGHT
TZOFFSETFROM:-0800
TZOFFSETTO:-0700
TZNAME:PDT
DTSTART:20250309T100000
END:DAYLIGHT
BEGIN:STANDARD
TZOFFSETFROM:-0700
TZOFFSETTO:-0800
TZNAME:PST
DTSTART:20251102T090000
END:STANDARD
END:VTIMEZONE
BEGIN:VEVENT
DTSTART;TZID=America/Los_Angeles:20241112T100000
DTEND;TZID=America/Los_Angeles:20241112T120000
DTSTAMP:20260424T023400
CREATED:20240916T221403Z
LAST-MODIFIED:20241031T225806Z
UID:10000118-1731405600-1731412800@211sandiego.org
SUMMARY:Life Planning and Physical Health
DESCRIPTION:https://www.stpaulseniors.org/workshops/\nAs we age or experience our parent’s aging\, we hear terms we don’t understand\, and we seek services that are confusing to navigate. St. Paul’s is here to make life’s aging journey less stressful through our Educational Series\, “Plan for Tomorrow\, Today.” \nFor the fifth year\, we will host several educational events throughout 2024 with experts from St. Paul’s and the local senior care industry. Each event will address your most asked questions and include guidance from some of San Diego’s most knowledgeable people in senior care to help you make this journey with confidence. This workshop will focus on: \n\nTopic 1: Downsizing Strategies\nTopic 2: Fall Prevention
URL:https://211sandiego.org/event/life-planning-and-physical-health/
LOCATION:The Manor on Bankers Hill\, 2635 2nd Ave\, San Diego\, CA\, 92103\, United States
CATEGORIES:Class, Seminar, Training, or Workshop
ORGANIZER;CN="St. Paul's Senior Services":MAILTO:info@stpaulseniors.org
GEO:32.746085;-117.170517
X-APPLE-STRUCTURED-LOCATION;VALUE=URI;X-ADDRESS=The Manor on Bankers Hill 2635 2nd Ave San Diego CA 92103 United States;X-APPLE-RADIUS=500;X-TITLE=2635 2nd Ave:geo:-117.170517,32.746085
END:VEVENT
END:VCALENDAR