BEGIN:VCALENDAR
VERSION:2.0
PRODID:-//211 - ECPv6.15.20//NONSGML v1.0//EN
CALSCALE:GREGORIAN
METHOD:PUBLISH
X-WR-CALNAME:211
X-ORIGINAL-URL:https://211sandiego.org
X-WR-CALDESC:Events for 211
REFRESH-INTERVAL;VALUE=DURATION:PT1H
X-Robots-Tag:noindex
X-PUBLISHED-TTL:PT1H
BEGIN:VTIMEZONE
TZID:America/Los_Angeles
BEGIN:DAYLIGHT
TZOFFSETFROM:-0800
TZOFFSETTO:-0700
TZNAME:PDT
DTSTART:20230312T100000
END:DAYLIGHT
BEGIN:STANDARD
TZOFFSETFROM:-0700
TZOFFSETTO:-0800
TZNAME:PST
DTSTART:20231105T090000
END:STANDARD
BEGIN:DAYLIGHT
TZOFFSETFROM:-0800
TZOFFSETTO:-0700
TZNAME:PDT
DTSTART:20240310T100000
END:DAYLIGHT
BEGIN:STANDARD
TZOFFSETFROM:-0700
TZOFFSETTO:-0800
TZNAME:PST
DTSTART:20241103T090000
END:STANDARD
BEGIN:DAYLIGHT
TZOFFSETFROM:-0800
TZOFFSETTO:-0700
TZNAME:PDT
DTSTART:20250309T100000
END:DAYLIGHT
BEGIN:STANDARD
TZOFFSETFROM:-0700
TZOFFSETTO:-0800
TZNAME:PST
DTSTART:20251102T090000
END:STANDARD
END:VTIMEZONE
BEGIN:VEVENT
DTSTART;TZID=America/Los_Angeles:20241006T100000
DTEND;TZID=America/Los_Angeles:20241006T180000
DTSTAMP:20260420T044211
CREATED:20241001T012519Z
LAST-MODIFIED:20241006T020839Z
UID:10000355-1728208800-1728237600@211sandiego.org
SUMMARY:Pumpkins in the Pines
DESCRIPTION:Saturdays and Sundays in October\, join us for a parkwide pumpkin patch\,  trick-or-treating\, seasonal food & beverages\, costume parade\, pumpkin  painting\, the Legend of Sleepy Hollow Puppet Show\, the Monster Mash Light  Show and more! Celebrate the fall season with family-friendly outdoor  activities and abundant photo ops. And don’t forget to stop by Kringle’s Coffee  & Gifts for the best pumpkin spice latte on the mountain! \n  This is a Weekly Recurring Event  Runs from Oct 5\, 2024 to Oct 27\, 2024 and happens every:  Saturdays: 10:00am – 9:00pm Timezone: PDT  Sundays: 10:00am – 6:00pm Timezone: PDT
URL:https://211sandiego.org/event/pumpkins-in-the-pines-2/
LOCATION:28950 CA-18\, Skyforest\, CA\, United States
ATTACH;FMTTYPE=image/jpeg:https://211sandiego.org/wp-content/uploads/2024/09/san-diego-1176561_1920.jpg
GEO:34.23528;-117.17921
END:VEVENT
BEGIN:VEVENT
DTSTART;TZID=America/Los_Angeles:20241006T080000
DTEND;TZID=America/Los_Angeles:20241006T113000
DTSTAMP:20260420T044211
CREATED:20241001T012519Z
LAST-MODIFIED:20241006T020839Z
UID:10000354-1728201600-1728214200@211sandiego.org
SUMMARY:A Walk in the Mountains - Fundraiser for Mammograms and a New Sonogram Machine
DESCRIPTION:We’ll be raising funds for mammograms & the purchase of a new sonogram  machine\, providing essential healthcare to women in our mountain community. \n  8AM – Doors Open! Stop by Kringle’s Coffee\, collect your goodie bag (shirt  & 2 tickets to vote for the Breast of Show) & browse silent auction  items  8:30AM – Morning Yoga  9AM – Welcome Speech  9:30AM – Begin our walk in the mountains!  10AM – Yoga  11AM – Silent auction closes & winners of the Breast of Show  (custom-designed bras) & Costume Contest announced
URL:https://211sandiego.org/event/a-walk-in-the-mountains-fundraiser-for-mammograms-and-a-new-sonogram-machine/
LOCATION:28950 CA-18\, Skyforest\, CA\, United States
ATTACH;FMTTYPE=image/jpeg:https://211sandiego.org/wp-content/uploads/2024/09/san-diego-1176561_1920.jpg
GEO:34.23528;-117.17921
END:VEVENT
BEGIN:VEVENT
DTSTART;TZID=America/Los_Angeles:20241005T100000
DTEND;TZID=America/Los_Angeles:20241005T210000
DTSTAMP:20260420T044211
CREATED:20241001T012505Z
LAST-MODIFIED:20241006T020838Z
UID:10000352-1728122400-1728162000@211sandiego.org
SUMMARY:Pumpkins in the Pines
DESCRIPTION:Saturdays and Sundays in October\, join us for a parkwide pumpkin patch\,  trick-or-treating\, seasonal food & beverages\, costume parade\, pumpkin  painting\, the Legend of Sleepy Hollow Puppet Show\, the Monster Mash Light  Show and more! Celebrate the fall season with family-friendly outdoor  activities and abundant photo ops. And don’t forget to stop by Kringle’s Coffee  & Gifts for the best pumpkin spice latte on the mountain! \n  This is a Weekly Recurring Event  Runs from Oct 5\, 2024 to Oct 27\, 2024 and happens every:  Saturdays: 10:00am – 9:00pm Timezone: PDT  Sundays: 10:00am – 6:00pm Timezone: PDT
URL:https://211sandiego.org/event/pumpkins-in-the-pines/
LOCATION:28950 CA-18\, Skyforest\, CA\, United States
ATTACH;FMTTYPE=image/jpeg:https://211sandiego.org/wp-content/uploads/2024/09/san-diego-1176561_1920.jpg
GEO:34.23528;-117.17921
END:VEVENT
END:VCALENDAR