BEGIN:VCALENDAR
VERSION:2.0
PRODID:-//211 - ECPv6.15.20//NONSGML v1.0//EN
CALSCALE:GREGORIAN
METHOD:PUBLISH
X-ORIGINAL-URL:https://211sandiego.org
X-WR-CALDESC:Events for 211
REFRESH-INTERVAL;VALUE=DURATION:PT1H
X-Robots-Tag:noindex
X-PUBLISHED-TTL:PT1H
BEGIN:VTIMEZONE
TZID:America/Los_Angeles
BEGIN:DAYLIGHT
TZOFFSETFROM:-0800
TZOFFSETTO:-0700
TZNAME:PDT
DTSTART:20250309T100000
END:DAYLIGHT
BEGIN:STANDARD
TZOFFSETFROM:-0700
TZOFFSETTO:-0800
TZNAME:PST
DTSTART:20251102T090000
END:STANDARD
BEGIN:DAYLIGHT
TZOFFSETFROM:-0800
TZOFFSETTO:-0700
TZNAME:PDT
DTSTART:20260308T100000
END:DAYLIGHT
BEGIN:STANDARD
TZOFFSETFROM:-0700
TZOFFSETTO:-0800
TZNAME:PST
DTSTART:20261101T090000
END:STANDARD
BEGIN:DAYLIGHT
TZOFFSETFROM:-0800
TZOFFSETTO:-0700
TZNAME:PDT
DTSTART:20270314T100000
END:DAYLIGHT
BEGIN:STANDARD
TZOFFSETFROM:-0700
TZOFFSETTO:-0800
TZNAME:PST
DTSTART:20271107T090000
END:STANDARD
END:VTIMEZONE
BEGIN:VEVENT
DTSTART;TZID=America/Los_Angeles:20260425T090000
DTEND;TZID=America/Los_Angeles:20260425T120000
DTSTAMP:20260419T063006
CREATED:20260220T223741Z
LAST-MODIFIED:20260220T223741Z
UID:10003465-1777107600-1777118400@211sandiego.org
SUMMARY:Creek to Bay
DESCRIPTION:Make a difference this Earth Day at the Annual Creek to Bay Cleanup! Join over 5\,000 volunteers at 100+ sites from Julian to the coast in San Diego County’s largest earth week cleanup. Help remove litter and debris from your community and be part of a county-wide effort to protect our planet.
URL:https://211sandiego.org/event/creek-to-bay-2/
LOCATION:Countywide\, 8145 Ronson Rd\, San Diego\, CA\, 92111\, United States
ATTACH;FMTTYPE=image/png:https://211sandiego.org/wp-content/uploads/2026/02/C2B-2026-Flyers.png
END:VEVENT
END:VCALENDAR