BEGIN:VCALENDAR
VERSION:2.0
PRODID:-//211 - ECPv6.15.20//NONSGML v1.0//EN
CALSCALE:GREGORIAN
METHOD:PUBLISH
X-WR-CALNAME:211
X-ORIGINAL-URL:https://211sandiego.org
X-WR-CALDESC:Events for 211
REFRESH-INTERVAL;VALUE=DURATION:PT1H
X-Robots-Tag:noindex
X-PUBLISHED-TTL:PT1H
BEGIN:VTIMEZONE
TZID:America/Los_Angeles
BEGIN:DAYLIGHT
TZOFFSETFROM:-0800
TZOFFSETTO:-0700
TZNAME:PDT
DTSTART:20230312T100000
END:DAYLIGHT
BEGIN:STANDARD
TZOFFSETFROM:-0700
TZOFFSETTO:-0800
TZNAME:PST
DTSTART:20231105T090000
END:STANDARD
BEGIN:DAYLIGHT
TZOFFSETFROM:-0800
TZOFFSETTO:-0700
TZNAME:PDT
DTSTART:20240310T100000
END:DAYLIGHT
BEGIN:STANDARD
TZOFFSETFROM:-0700
TZOFFSETTO:-0800
TZNAME:PST
DTSTART:20241103T090000
END:STANDARD
BEGIN:DAYLIGHT
TZOFFSETFROM:-0800
TZOFFSETTO:-0700
TZNAME:PDT
DTSTART:20250309T100000
END:DAYLIGHT
BEGIN:STANDARD
TZOFFSETFROM:-0700
TZOFFSETTO:-0800
TZNAME:PST
DTSTART:20251102T090000
END:STANDARD
END:VTIMEZONE
BEGIN:VEVENT
DTSTART;TZID=America/Los_Angeles:20241123T100000
DTEND;TZID=America/Los_Angeles:20241123T120000
DTSTAMP:20260422T230049
CREATED:20241115T175622Z
LAST-MODIFIED:20241115T175622Z
UID:10000747-1732356000-1732363200@211sandiego.org
SUMMARY:El Cajon Valley Resource Fair
DESCRIPTION:El Cajon Valley High School is hosting a Resource Fair on Saturday\, November 23rd in the parking lot. This event is open to the public. We will have over 20 organizations at this event representing medical\, nutrition\, employment\, education\, and more! Champions for Health is also providing Flu Shots. Clothing and groceries will be available too (limited supply)! Join us! \nWHEN: Saturday\, November 23\, 2024 | 10:00 AM – 12:00 PM \nWHERE: El Cajon Valley High School | 1035 E. Madison Avenue\, El Cajon\, CA92021 \nSee additional flyers in Spanish\, Arabic\, Farsi\, and Pashto.
URL:https://211sandiego.org/event/el-cajon-valley-resource-fair/
LOCATION:El Cajon Valley  High School\, 1035 E Madison Ave\, El Cajon\, 92021
ATTACH;FMTTYPE=image/png:https://211sandiego.org/wp-content/uploads/2024/11/English-Resource-Fair-1.png
ORGANIZER;CN="El Cajon Valley High School":MAILTO:lcobiancarrillo@guhsd.net
END:VEVENT
END:VCALENDAR