BEGIN:VCALENDAR
VERSION:2.0
PRODID:-//211 - ECPv6.15.20//NONSGML v1.0//EN
CALSCALE:GREGORIAN
METHOD:PUBLISH
X-ORIGINAL-URL:https://211sandiego.org
X-WR-CALDESC:Events for 211
REFRESH-INTERVAL;VALUE=DURATION:PT1H
X-Robots-Tag:noindex
X-PUBLISHED-TTL:PT1H
BEGIN:VTIMEZONE
TZID:America/Los_Angeles
BEGIN:DAYLIGHT
TZOFFSETFROM:-0800
TZOFFSETTO:-0700
TZNAME:PDT
DTSTART:20250309T100000
END:DAYLIGHT
BEGIN:STANDARD
TZOFFSETFROM:-0700
TZOFFSETTO:-0800
TZNAME:PST
DTSTART:20251102T090000
END:STANDARD
BEGIN:DAYLIGHT
TZOFFSETFROM:-0800
TZOFFSETTO:-0700
TZNAME:PDT
DTSTART:20260308T100000
END:DAYLIGHT
BEGIN:STANDARD
TZOFFSETFROM:-0700
TZOFFSETTO:-0800
TZNAME:PST
DTSTART:20261101T090000
END:STANDARD
BEGIN:DAYLIGHT
TZOFFSETFROM:-0800
TZOFFSETTO:-0700
TZNAME:PDT
DTSTART:20270314T100000
END:DAYLIGHT
BEGIN:STANDARD
TZOFFSETFROM:-0700
TZOFFSETTO:-0800
TZNAME:PST
DTSTART:20271107T090000
END:STANDARD
END:VTIMEZONE
BEGIN:VEVENT
DTSTART;TZID=America/Los_Angeles:20260509T120000
DTEND;TZID=America/Los_Angeles:20260509T150000
DTSTAMP:20260423T002203
CREATED:20260420T163001Z
LAST-MODIFIED:20260420T163001Z
UID:10004092-1778328000-1778338800@211sandiego.org
SUMMARY:San Diego Fixit Clinic at Park de La Cruz Rec Center
DESCRIPTION:Don’t toss it; fix it! Join the San Diego Fixit Clinic at the Park de La Cruz on Saturday\, May 9th\, from 12:00 to 3:00 PM. Fix your items for free\, first come\, first served. \nWe’ll provide work-space\, specialty tools\, and guidance to help you disassemble and troubleshoot your item and it’s all free\, though we welcome donations to keep the movement growing! \nWhether we fix it or not\, you’ll learn more about how it was manufactured and how it worked while trusting it won’t end up in a landfill. \nFree to the public\, register today: https://events.humanitix.com/sdfixitclinic \nInterested in volunteering with SD Fix-it? Click on this link to fill out an application: https://goo.gl/forms/hamhNwfU8rlEBbw33
URL:https://211sandiego.org/event/san-diego-fixit-clinic-at-park-de-la-cruz-rec-center/
LOCATION:Park de la Cruz Recreation Center\, 3901 Landis Street\, San Diego\, CA\, 92105\, United States
CATEGORIES:Class, Seminar, Training, or Workshop,Collaborative/Meeting,Volunteer Event
ATTACH;FMTTYPE=image/png:https://211sandiego.org/wp-content/uploads/2026/04/SD-City-Draft-1-2.png
ORGANIZER;CN="San Diego Fixit Clinic":MAILTO:sdfixitclinic@gmail.com
END:VEVENT
END:VCALENDAR