BEGIN:VCALENDAR
VERSION:2.0
PRODID:-//211 - ECPv6.15.20//NONSGML v1.0//EN
CALSCALE:GREGORIAN
METHOD:PUBLISH
X-WR-CALNAME:211
X-ORIGINAL-URL:https://211sandiego.org
X-WR-CALDESC:Events for 211
REFRESH-INTERVAL;VALUE=DURATION:PT1H
X-Robots-Tag:noindex
X-PUBLISHED-TTL:PT1H
BEGIN:VTIMEZONE
TZID:America/Los_Angeles
BEGIN:DAYLIGHT
TZOFFSETFROM:-0800
TZOFFSETTO:-0700
TZNAME:PDT
DTSTART:20240310T100000
END:DAYLIGHT
BEGIN:STANDARD
TZOFFSETFROM:-0700
TZOFFSETTO:-0800
TZNAME:PST
DTSTART:20241103T090000
END:STANDARD
BEGIN:DAYLIGHT
TZOFFSETFROM:-0800
TZOFFSETTO:-0700
TZNAME:PDT
DTSTART:20250309T100000
END:DAYLIGHT
BEGIN:STANDARD
TZOFFSETFROM:-0700
TZOFFSETTO:-0800
TZNAME:PST
DTSTART:20251102T090000
END:STANDARD
BEGIN:DAYLIGHT
TZOFFSETFROM:-0800
TZOFFSETTO:-0700
TZNAME:PDT
DTSTART:20260308T100000
END:DAYLIGHT
BEGIN:STANDARD
TZOFFSETFROM:-0700
TZOFFSETTO:-0800
TZNAME:PST
DTSTART:20261101T090000
END:STANDARD
END:VTIMEZONE
BEGIN:VEVENT
DTSTART;TZID=America/Los_Angeles:20250125T100000
DTEND;TZID=America/Los_Angeles:20250125T140000
DTSTAMP:20260421T161819
CREATED:20250102T181450Z
LAST-MODIFIED:20250121T213258Z
UID:10001118-1737799200-1737813600@211sandiego.org
SUMMARY:Winter Volunteer Workshop
DESCRIPTION:Join Us for a Heartwarming Volunteer Opportunity! ALL AGES WELCOME!!  \nCalling all parents and Kid-Givers! 🌟 \nWe invite you to be part of a meaningful and fun experience as we come together to create Hygiene Care Bags for our neighbors experiencing homelessness. This hands-on activity is a wonderful way to teach kids the value of kindness\, compassion\, and giving back to the community. \nHere’s what to expect:\n✨ Purposeful Fun: Your child will help assemble care bags filled with essential hygiene items that will bring comfort and hope to those in need.\n✨ Life Lesson: Through this activity\, kids will learn how even small acts of kindness can make a big difference.\n✨ Community Impact: Families will join together to support our local homeless community with love and generosity. \nWe’ll provide all the materials\, but feel free to bring along additional items to donate\, such as socks\, travel-sized toiletries\, or snacks. Together\, we can make a lasting impact and show our neighbors they are cared for and valued. \nRSVP NOW: Registration Form \nCan’t Participate? No Problem! \nWe are requesting the following items to be donated: \n\nSocks (new)\nToiletries and Basic Hygiene items (toothbrushes\, toothpaste\, deodorant\, etc.)\nFirst Aid Kits (travel-sized)\nWater Bottles\nNon-perishable snacks (granola bars\, crackers\, etc.)\nWarm items (beanies\, gloves\, scarves\, blankets\, etc.)\nFeminine Products\nMonetary Donations \n\nIf you’re unable to join us in person\, we’ve got you covered! Donation boxes will be available at these convenient box donation bins. *Please be sure to check with the stores directly for their hours of operation to ensure the most accurate and up-to-date information. We appreciate your understanding!* \nWashington Elementary – 1789 State St. San Diego\, CA 92101 \nGreater Life Church – 2770 Glebe Rd\, Lemon Grove\, CA 91945 \nMitri’s Delights – 1640 Camino Del Rio N Ste 223 San Diego\, CA 92108 \nCAFE X – 1835 Imperial Avenue\nSan Diego\, CA 92102 \nTogether\, we can make a lasting impact and show our neighbors they are cared for and valued. Let’s inspire our children to become compassionate changemakers while strengthening bonds as a church family.
URL:https://211sandiego.org/event/winter-volunteer-workshop/
LOCATION:Perkins Elementary\, 1770 Main Street\, San Diego\, 92113
CATEGORIES:Volunteer Event
ATTACH;FMTTYPE=image/jpeg:https://211sandiego.org/wp-content/uploads/2024/12/2553f796-d2aa-4987-826e-e54451e32ed2.jpg
END:VEVENT
END:VCALENDAR